Workbook

Sheet Weekly Sales Tracker
B2: WEEKLY SALES TRACKER | I2: SALESPERSON | J2: Anav Silverman | L2: WEEK ENDING | M2: 41201
I3: LOCATION | J3: Redmond, WA - Region 12 | L3: TODAY'S DATE | M3: =TODAY() -> 45846
B5: DAYS | C5: IN SALES OFFICE | D5: OUTSIDE OFFICE | E5: IN OFFICE VISITS | F5: OUTSIDE CALLS | G5: FILE PHONE CALLS | H5: NEW ACCT. PHONE | I5: GUEST ROOMS | J5: FOOD & BEVERAGE | K5: MTG. ROOM RENTAL | L5: OTHER* | M5: TOTAL
B6: Monday | C6: 14 | D6: 23 | E6: 4 | F6: 45 | G6: 22 | H6: 2 | I6: 100 | J6: 0 | K6: 0 | L6: 0 | M6: =SUM('Weekly Sales Tracker'!$C6:$L6) -> 210
B7: Tuesday | C7: 23 | D7: 76 | E7: 10 | F7: 50 | G7: 54 | H7: 45 | I7: 80 | J7: 0 | K7: 0 | L7: 0 | M7: =SUM('Weekly Sales Tracker'!$C7:$L7) -> 338
B8: Wednesday | C8: 4 | D8: 130 | E8: 11 | F8: 33 | G8: 67 | H8: 65 | I8: 400 | J8: 0 | K8: 0 | L8: 0 | M8: =SUM('Weekly Sales Tracker'!$C8:$L8) -> 710
B9: Thursday | C9: 102 | D9: 40 | E9: 18 | F9: 0 | G9: 86 | H9: 82 | I9: 97 | J9: 0 | K9: 0 | L9: 0 | M9: =SUM('Weekly Sales Tracker'!$C9:$L9) -> 425
B10: Friday | C10: 33 | D10: 55 | E10: 22 | F10: 49 | G10: 143 | H10: 26 | I10: 50 | J10: 0 | K10: 0 | L10: 0 | M10: =SUM('Weekly Sales Tracker'!$C10:$L10) -> 378
B11: Saturday | C11: 0 | D11: 0 | E11: 0 | F11: 0 | G11: 0 | H11: 0 | I11: 0 | J11: 0 | K11: 0 | L11: 0 | M11: =SUM('Weekly Sales Tracker'!$C11:$L11) -> 0
B12: Sunday | C12: 0 | D12: 0 | E12: 0 | F12: 0 | G12: 0 | H12: 0 | I12: 0 | J12: 0 | K12: 0 | L12: 0 | M12: =SUM('Weekly Sales Tracker'!$C12:$L12) -> 0
B13: Totals | C13: =SUBTOTAL(109,C6:C12) -> 176 | D13: =SUBTOTAL(109,D6:D12) -> 324 | E13: =SUBTOTAL(109,E6:E12) -> 65 | F13: =SUBTOTAL(109,F6:F12) -> 177 | G13: =SUBTOTAL(109,G6:G12) -> 372 | H13: =SUBTOTAL(109,H6:H12) -> 220 | I13: =SUBTOTAL(105,I6:I12) -> 0 | J13: =SUBTOTAL(109,J6:J12) -> 0 | K13: =SUBTOTAL(109,K6:K12) -> 0 | L13: =SUBTOTAL(109,L6:L12) -> 0 | M13: =SUBTOTAL(109,M6:M12) -> 2061
B15: GOAL | C15: 200 | D15: 400 | E15: 300 | F15: 65 | G15: 500 | H15: 300 | I15: 400 | J15: 600 | K15: 300 | L15: 300 | M15: =SUM(C15:L15) -> 3365
B16: VARIANCE | C16: =SUM('Weekly Sales Tracker'!$C$13-C15) -> -24 | D16: =SUM('Weekly Sales Tracker'!$D$13-D15) -> -76 | E16: =SUM('Weekly Sales Tracker'!$E$13-E15) -> -235 | F16: =SUM('Weekly Sales Tracker'!$E$13-F15) -> 0 | G16: =SUM('Weekly Sales Tracker'!$G$13-G15) -> -128 | H16: =SUM('Weekly Sales Tracker'!$H$13-H15) -> -80 | I16: =SUM('Weekly Sales Tracker'!$I$13-I15) -> -400 | J16: =SUM('Weekly Sales Tracker'!$J$13-J15) -> -600 | K16: =SUM('Weekly Sales Tracker'!$K$13-K15) -> -300 | L16: =SUM('Weekly Sales Tracker'!$L$13-L15) -> -300 | M16: =SUM(C16:L16) -> -2143
B19: *EXPLANATION
B21: Approval
