Workbook

Sheet How to Use
A1: How to Use — Quality Control Log
A2: by ExcelGuru.io | ExcelGuru.io | Track inspections, defect rates and pass/fail results
A4: 1. Record each inspection
A5: Enter the date, batch or item, inspector, quantity checked and number of defects.
A7: 2. Read the result
A8: Defect rate and a Pass / Review / Fail result calculate automatically from your thresholds.
A10: 3. Note any action
A11: Use the Notes column to record follow-ups, such as recalibrating a machine.
A13: 4. Watch the trend
A14: The overall defect rate and pass / fail counts show whether quality is holding steady.

Sheet Dashboard
A1: Quality Control Log — Dashboard
A3: Inspections | C3: Total Checked | E3: Total Defects | G3: Overall Defect Rate
A4: =COUNTA('QC Log'!A4:A43) -> 5 | C4: =SUM('QC Log'!D4:D43) -> 1020 | E4: =SUM('QC Log'!E4:E43) -> 38 | G4: =IFERROR(SUM('QC Log'!E4:E43)/SUM('QC Log'!D4:D43),0) -> 0.037254902
A6: Pass | C6: Fail
A7: =COUNTIF('QC Log'!G4:G43,"Pass") -> 3 | C7: =COUNTIF('QC Log'!G4:G43,"Fail") -> 2

Sheet QC Log
A1: Quality Control Log
A2: ExcelGuru.io | Track inspections, defect rates and pass/fail results
A3: Date | B3: Batch / Item | C3: Inspector | D3: Checked Qty | E3: Defects | F3: Defect Rate | G3: Result | H3: Notes
A4: =TODAY()-5 -> 46181 | B4: Batch A-101 | C4: Alex | D4: 200 | E4: 2 | F4: =IF(OR(D4="",D4=0),"",E4/D4) -> 0.01 | G4: =IF(F4="","",IF(F4<=0.02,"Pass",IF(F4<=0.05,"Review","Fail"))) -> Pass | H4: Routine
A5: =TODAY()-4 -> 46182 | B5: Batch A-102 | C5: Sam | D5: 150 | E5: 9 | F5: =IF(OR(D5="",D5=0),"",E5/D5) -> 0.06 | G5: =IF(F5="","",IF(F5<=0.02,"Pass",IF(F5<=0.05,"Review","Fail"))) -> Fail | H5: Investigate supplier
A6: =TODAY()-3 -> 46183 | B6: Batch B-044 | C6: Jordan | D6: 300 | E6: 6 | F6: =IF(OR(D6="",D6=0),"",E6/D6) -> 0.02 | G6: =IF(F6="","",IF(F6<=0.02,"Pass",IF(F6<=0.05,"Review","Fail"))) -> Pass
A7: =TODAY()-2 -> 46184 | B7: Batch B-045 | C7: Priya | D7: 120 | E7: 1 | F7: =IF(OR(D7="",D7=0),"",E7/D7) -> 0.0083333333 | G7: =IF(F7="","",IF(F7<=0.02,"Pass",IF(F7<=0.05,"Review","Fail"))) -> Pass | H7: Good run
A8: =TODAY()-1 -> 46185 | B8: Batch C-010 | C8: Alex | D8: 250 | E8: 20 | F8: =IF(OR(D8="",D8=0),"",E8/D8) -> 0.08 | G8: =IF(F8="","",IF(F8<=0.02,"Pass",IF(F8<=0.05,"Review","Fail"))) -> Fail | H8: Machine recalibrated
F9: =IF(OR(D9="",D9=0),"",E9/D9) | G9: =IF(F9="","",IF(F9<=0.02,"Pass",IF(F9<=0.05,"Review","Fail")))
F10: =IF(OR(D10="",D10=0),"",E10/D10) | G10: =IF(F10="","",IF(F10<=0.02,"Pass",IF(F10<=0.05,"Review","Fail")))
F11: =IF(OR(D11="",D11=0),"",E11/D11) | G11: =IF(F11="","",IF(F11<=0.02,"Pass",IF(F11<=0.05,"Review","Fail")))
F12: =IF(OR(D12="",D12=0),"",E12/D12) | G12: =IF(F12="","",IF(F12<=0.02,"Pass",IF(F12<=0.05,"Review","Fail")))
F13: =IF(OR(D13="",D13=0),"",E13/D13) | G13: =IF(F13="","",IF(F13<=0.02,"Pass",IF(F13<=0.05,"Review","Fail")))
F14: =IF(OR(D14="",D14=0),"",E14/D14) | G14: =IF(F14="","",IF(F14<=0.02,"Pass",IF(F14<=0.05,"Review","Fail")))
F15: =IF(OR(D15="",D15=0),"",E15/D15) | G15: =IF(F15="","",IF(F15<=0.02,"Pass",IF(F15<=0.05,"Review","Fail")))
F16: =IF(OR(D16="",D16=0),"",E16/D16) | G16: =IF(F16="","",IF(F16<=0.02,"Pass",IF(F16<=0.05,"Review","Fail")))
F17: =IF(OR(D17="",D17=0),"",E17/D17) | G17: =IF(F17="","",IF(F17<=0.02,"Pass",IF(F17<=0.05,"Review","Fail")))
F18: =IF(OR(D18="",D18=0),"",E18/D18) | G18: =IF(F18="","",IF(F18<=0.02,"Pass",IF(F18<=0.05,"Review","Fail")))
F19: =IF(OR(D19="",D19=0),"",E19/D19) | G19: =IF(F19="","",IF(F19<=0.02,"Pass",IF(F19<=0.05,"Review","Fail")))
F20: =IF(OR(D20="",D20=0),"",E20/D20) | G20: =IF(F20="","",IF(F20<=0.02,"Pass",IF(F20<=0.05,"Review","Fail")))
... F43: =IF(OR(D43="",D43=0),"",E43/D43) | G43: =IF(F43="","",IF(F43<=0.02,"Pass",IF(F43<=0.05,"Review","Fail")))

Sheet Lists
A1: Lists — edit these to customise dropdowns
A3: Inspectors (sample) | B3: Thresholds
A4: Alex | B4: Pass <= 2%
A5: Sam | B5: Review <= 5%
A6: Jordan | B6: Fail > 5%
A7: Priya
