Workbook
Name startday: Jan!$J$2
Name valuevx: 42.314159

Sheet Jan
A1: Monthly Calendar Template
E2: Year: | F2: 2026 | I2: Start Day: | J2: 1 | K2: 1:Sun,2:Mon
A4: =UPPER(TEXT(B5,"mmmm yyyy")) -> JANUARY 2026
A5: Date: | B5: =DATE(F2,1,1) -> 46023
A6: =A13 -> 46026 | C6: =C13 -> 46027 | E6: =E13 -> 46028 | G6: =G13 -> 46029 | I6: =I13 -> 46030 | K6: =K13 -> 46031 | M6: =M13 -> 46032
A7: =IF(WEEKDAY($B$5,1)=startday,$B$5,"") | C7: =IF(A7="",IF(WEEKDAY($B$5,1)=MOD(startday,7)+1,$B$5,""),A7+1) | E7: =IF(C7="",IF(WEEKDAY($B$5,1)=MOD(startday+1,7)+1,$B$5,""),C7+1) | G7: =IF(E7="",IF(WEEKDAY($B$5,1)=MOD(startday+2,7)+1,$B$5,""),E7+1) | I7: =IF(G7="",IF(WEEKDAY($B$5,1)=MOD(startday+3,7)+1,$B$5,""),G7+1) -> 46023 | K7: =IF(I7="",IF(WEEKDAY($B$5,1)=MOD(startday+4,7)+1,$B$5,""),I7+1) -> 46024 | M7: =IF(K7="",IF(WEEKDAY($B$5,1)=MOD(startday+5,7)+1,$B$5,""),K7+1) -> 46025
A13: =IF(M7="","",IF(MONTH(M7+1)<>MONTH(M7),"",M7+1)) -> 46026 | C13: =IF(A13="","",IF(MONTH(A13+1)<>MONTH(A13),"",A13+1)) -> 46027 | E13: =IF(C13="","",IF(MONTH(C13+1)<>MONTH(C13),"",C13+1)) -> 46028 | G13: =IF(E13="","",IF(MONTH(E13+1)<>MONTH(E13),"",E13+1)) -> 46029 | I13: =IF(G13="","",IF(MONTH(G13+1)<>MONTH(G13),"",G13+1)) -> 46030 | K13: =IF(I13="","",IF(MONTH(I13+1)<>MONTH(I13),"",I13+1)) -> 46031 | M13: =IF(K13="","",IF(MONTH(K13+1)<>MONTH(K13),"",K13+1)) -> 46032
A19: =IF(M13="","",IF(MONTH(M13+1)<>MONTH(M13),"",M13+1)) -> 46033 | C19: =IF(A19="","",IF(MONTH(A19+1)<>MONTH(A19),"",A19+1)) -> 46034 | E19: =IF(C19="","",IF(MONTH(C19+1)<>MONTH(C19),"",C19+1)) -> 46035 | G19: =IF(E19="","",IF(MONTH(E19+1)<>MONTH(E19),"",E19+1)) -> 46036 | I19: =IF(G19="","",IF(MONTH(G19+1)<>MONTH(G19),"",G19+1)) -> 46037 | K19: =IF(I19="","",IF(MONTH(I19+1)<>MONTH(I19),"",I19+1)) -> 46038 | M19: =IF(K19="","",IF(MONTH(K19+1)<>MONTH(K19),"",K19+1)) -> 46039
A25: =IF(M19="","",IF(MONTH(M19+1)<>MONTH(M19),"",M19+1)) -> 46040 | C25: =IF(A25="","",IF(MONTH(A25+1)<>MONTH(A25),"",A25+1)) -> 46041 | E25: =IF(C25="","",IF(MONTH(C25+1)<>MONTH(C25),"",C25+1)) -> 46042 | G25: =IF(E25="","",IF(MONTH(E25+1)<>MONTH(E25),"",E25+1)) -> 46043 | I25: =IF(G25="","",IF(MONTH(G25+1)<>MONTH(G25),"",G25+1)) -> 46044 | K25: =IF(I25="","",IF(MONTH(I25+1)<>MONTH(I25),"",I25+1)) -> 46045 | M25: =IF(K25="","",IF(MONTH(K25+1)<>MONTH(K25),"",K25+1)) -> 46046
A31: =IF(M25="","",IF(MONTH(M25+1)<>MONTH(M25),"",M25+1)) -> 46047 | C31: =IF(A31="","",IF(MONTH(A31+1)<>MONTH(A31),"",A31+1)) -> 46048 | E31: =IF(C31="","",IF(MONTH(C31+1)<>MONTH(C31),"",C31+1)) -> 46049 | G31: =IF(E31="","",IF(MONTH(E31+1)<>MONTH(E31),"",E31+1)) -> 46050 | I31: =IF(G31="","",IF(MONTH(G31+1)<>MONTH(G31),"",G31+1)) -> 46051 | K31: =IF(I31="","",IF(MONTH(I31+1)<>MONTH(I31),"",I31+1)) -> 46052 | M31: =IF(K31="","",IF(MONTH(K31+1)<>MONTH(K31),"",K31+1)) -> 46053
A37: =IF(M31="","",IF(MONTH(M31+1)<>MONTH(M31),"",M31+1)) | C37: =IF(A37="","",IF(MONTH(A37+1)<>MONTH(A37),"",A37+1)) | E37: Notes

Sheet Feb
A4: =UPPER(TEXT(B5,"mmmm yyyy")) -> FEBRUARY 2026
A5: Date: | B5: =DATE(YEAR(Jan!B5),MONTH(Jan!B5)+1,1) -> 46054
A6: =A13 -> 46061 | C6: =C13 -> 46062 | E6: =E13 -> 46063 | G6: =G13 -> 46064 | I6: =I13 -> 46065 | K6: =K13 -> 46066 | M6: =M13 -> 46067
A7: =IF(WEEKDAY($B$5,1)=startday,$B$5,"") -> 46054 | C7: =IF(A7="",IF(WEEKDAY($B$5,1)=MOD(startday,7)+1,$B$5,""),A7+1) -> 46055 | E7: =IF(C7="",IF(WEEKDAY($B$5,1)=MOD(startday+1,7)+1,$B$5,""),C7+1) -> 46056 | G7: =IF(E7="",IF(WEEKDAY($B$5,1)=MOD(startday+2,7)+1,$B$5,""),E7+1) -> 46057 | I7: =IF(G7="",IF(WEEKDAY($B$5,1)=MOD(startday+3,7)+1,$B$5,""),G7+1) -> 46058 | K7: =IF(I7="",IF(WEEKDAY($B$5,1)=MOD(startday+4,7)+1,$B$5,""),I7+1) -> 46059 | M7: =IF(K7="",IF(WEEKDAY($B$5,1)=MOD(startday+5,7)+1,$B$5,""),K7+1) -> 46060
A13: =IF(M7="","",IF(MONTH(M7+1)<>MONTH(M7),"",M7+1)) -> 46061 | C13: =IF(A13="","",IF(MONTH(A13+1)<>MONTH(A13),"",A13+1)) -> 46062 | E13: =IF(C13="","",IF(MONTH(C13+1)<>MONTH(C13),"",C13+1)) -> 46063 | G13: =IF(E13="","",IF(MONTH(E13+1)<>MONTH(E13),"",E13+1)) -> 46064 | I13: =IF(G13="","",IF(MONTH(G13+1)<>MONTH(G13),"",G13+1)) -> 46065 | K13: =IF(I13="","",IF(MONTH(I13+1)<>MONTH(I13),"",I13+1)) -> 46066 | M13: =IF(K13="","",IF(MONTH(K13+1)<>MONTH(K13),"",K13+1)) -> 46067
A19: =IF(M13="","",IF(MONTH(M13+1)<>MONTH(M13),"",M13+1)) -> 46068 | C19: =IF(A19="","",IF(MONTH(A19+1)<>MONTH(A19),"",A19+1)) -> 46069 | E19: =IF(C19="","",IF(MONTH(C19+1)<>MONTH(C19),"",C19+1)) -> 46070 | G19: =IF(E19="","",IF(MONTH(E19+1)<>MONTH(E19),"",E19+1)) -> 46071 | I19: =IF(G19="","",IF(MONTH(G19+1)<>MONTH(G19),"",G19+1)) -> 46072 | K19: =IF(I19="","",IF(MONTH(I19+1)<>MONTH(I19),"",I19+1)) -> 46073 | M19: =IF(K19="","",IF(MONTH(K19+1)<>MONTH(K19),"",K19+1)) -> 46074
A25: =IF(M19="","",IF(MONTH(M19+1)<>MONTH(M19),"",M19+1)) -> 46075 | C25: =IF(A25="","",IF(MONTH(A25+1)<>MONTH(A25),"",A25+1)) -> 46076 | E25: =IF(C25="","",IF(MONTH(C25+1)<>MONTH(C25),"",C25+1)) -> 46077 | G25: =IF(E25="","",IF(MONTH(E25+1)<>MONTH(E25),"",E25+1)) -> 46078 | I25: =IF(G25="","",IF(MONTH(G25+1)<>MONTH(G25),"",G25+1)) -> 46079 | K25: =IF(I25="","",IF(MONTH(I25+1)<>MONTH(I25),"",I25+1)) -> 46080 | M25: =IF(K25="","",IF(MONTH(K25+1)<>MONTH(K25),"",K25+1)) -> 46081
A31: =IF(M25="","",IF(MONTH(M25+1)<>MONTH(M25),"",M25+1)) | C31: =IF(A31="","",IF(MONTH(A31+1)<>MONTH(A31),"",A31+1)) | E31: =IF(C31="","",IF(MONTH(C31+1)<>MONTH(C31),"",C31+1)) | G31: =IF(E31="","",IF(MONTH(E31+1)<>MONTH(E31),"",E31+1)) | I31: =IF(G31="","",IF(MONTH(G31+1)<>MONTH(G31),"",G31+1)) | K31: =IF(I31="","",IF(MONTH(I31+1)<>MONTH(I31),"",I31+1)) | M31: =IF(K31="","",IF(MONTH(K31+1)<>MONTH(K31),"",K31+1))
A37: =IF(M31="","",IF(MONTH(M31+1)<>MONTH(M31),"",M31+1)) | C37: =IF(A37="","",IF(MONTH(A37+1)<>MONTH(A37),"",A37+1)) | E37: Notes

Sheet Mar
A4: =UPPER(TEXT(B5,"mmmm yyyy")) -> MARCH 2026
A5: Date: | B5: =DATE(YEAR(Jan!B5),MONTH(Jan!B5)+2,1) -> 46082
A6: =A13 -> 46089 | C6: =C13 -> 46090 | E6: =E13 -> 46091 | G6: =G13 -> 46092 | I6: =I13 -> 46093 | K6: =K13 -> 46094 | M6: =M13 -> 46095
A7: =IF(WEEKDAY($B$5,1)=startday,$B$5,"") -> 46082 | C7: =IF(A7="",IF(WEEKDAY($B$5,1)=MOD(startday,7)+1,$B$5,""),A7+1) -> 46083 | E7: =IF(C7="",IF(WEEKDAY($B$5,1)=MOD(startday+1,7)+1,$B$5,""),C7+1) -> 46084 | G7: =IF(E7="",IF(WEEKDAY($B$5,1)=MOD(startday+2,7)+1,$B$5,""),E7+1) -> 46085 | I7: =IF(G7="",IF(WEEKDAY($B$5,1)=MOD(startday+3,7)+1,$B$5,""),G7+1) -> 46086 | K7: =IF(I7="",IF(WEEKDAY($B$5,1)=MOD(startday+4,7)+1,$B$5,""),I7+1) -> 46087 | M7: =IF(K7="",IF(WEEKDAY($B$5,1)=MOD(startday+5,7)+1,$B$5,""),K7+1) -> 46088
A13: =IF(M7="","",IF(MONTH(M7+1)<>MONTH(M7),"",M7+1)) -> 46089 | C13: =IF(A13="","",IF(MONTH(A13+1)<>MONTH(A13),"",A13+1)) -> 46090 | E13: =IF(C13="","",IF(MONTH(C13+1)<>MONTH(C13),"",C13+1)) -> 46091 | G13: =IF(E13="","",IF(MONTH(E13+1)<>MONTH(E13),"",E13+1)) -> 46092 | I13: =IF(G13="","",IF(MONTH(G13+1)<>MONTH(G13),"",G13+1)) -> 46093 | K13: =IF(I13="","",IF(MONTH(I13+1)<>MONTH(I13),"",I13+1)) -> 46094 | M13: =IF(K13="","",IF(MONTH(K13+1)<>MONTH(K13),"",K13+1)) -> 46095
A19: =IF(M13="","",IF(MONTH(M13+1)<>MONTH(M13),"",M13+1)) -> 46096 | C19: =IF(A19="","",IF(MONTH(A19+1)<>MONTH(A19),"",A19+1)) -> 46097 | E19: =IF(C19="","",IF(MONTH(C19+1)<>MONTH(C19),"",C19+1)) -> 46098 | G19: =IF(E19="","",IF(MONTH(E19+1)<>MONTH(E19),"",E19+1)) -> 46099 | I19: =IF(G19="","",IF(MONTH(G19+1)<>MONTH(G19),"",G19+1)) -> 46100 | K19: =IF(I19="","",IF(MONTH(I19+1)<>MONTH(I19),"",I19+1)) -> 46101 | M19: =IF(K19="","",IF(MONTH(K19+1)<>MONTH(K19),"",K19+1)) -> 46102
A25: =IF(M19="","",IF(MONTH(M19+1)<>MONTH(M19),"",M19+1)) -> 46103 | C25: =IF(A25="","",IF(MONTH(A25+1)<>MONTH(A25),"",A25+1)) -> 46104 | E25: =IF(C25="","",IF(MONTH(C25+1)<>MONTH(C25),"",C25+1)) -> 46105 | G25: =IF(E25="","",IF(MONTH(E25+1)<>MONTH(E25),"",E25+1)) -> 46106 | I25: =IF(G25="","",IF(MONTH(G25+1)<>MONTH(G25),"",G25+1)) -> 46107 | K25: =IF(I25="","",IF(MONTH(I25+1)<>MONTH(I25),"",I25+1)) -> 46108 | M25: =IF(K25="","",IF(MONTH(K25+1)<>MONTH(K25),"",K25+1)) -> 46109
A31: =IF(M25="","",IF(MONTH(M25+1)<>MONTH(M25),"",M25+1)) -> 46110 | C31: =IF(A31="","",IF(MONTH(A31+1)<>MONTH(A31),"",A31+1)) -> 46111 | E31: =IF(C31="","",IF(MONTH(C31+1)<>MONTH(C31),"",C31+1)) -> 46112 | G31: =IF(E31="","",IF(MONTH(E31+1)<>MONTH(E31),"",E31+1)) | I31: =IF(G31="","",IF(MONTH(G31+1)<>MONTH(G31),"",G31+1)) | K31: =IF(I31="","",IF(MONTH(I31+1)<>MONTH(I31),"",I31+1)) | M31: =IF(K31="","",IF(MONTH(K31+1)<>MONTH(K31),"",K31+1))
A37: =IF(M31="","",IF(MONTH(M31+1)<>MONTH(M31),"",M31+1)) | C37: =IF(A37="","",IF(MONTH(A37+1)<>MONTH(A37),"",A37+1)) | E37: Notes

Sheet Apr
A4: =UPPER(TEXT(B5,"mmmm yyyy")) -> APRIL 2026
A5: Date: | B5: =DATE(YEAR(Jan!B5),MONTH(Jan!B5)+3,1) -> 46113
A6: =A13 -> 46117 | C6: =C13 -> 46118 | E6: =E13 -> 46119 | G6: =G13 -> 46120 | I6: =I13 -> 46121 | K6: =K13 -> 46122 | M6: =M13 -> 46123
A7: =IF(WEEKDAY($B$5,1)=startday,$B$5,"") | C7: =IF(A7="",IF(WEEKDAY($B$5,1)=MOD(startday,7)+1,$B$5,""),A7+1) | E7: =IF(C7="",IF(WEEKDAY($B$5,1)=MOD(startday+1,7)+1,$B$5,""),C7+1) | G7: =IF(E7="",IF(WEEKDAY($B$5,1)=MOD(startday+2,7)+1,$B$5,""),E7+1) -> 46113 | I7: =IF(G7="",IF(WEEKDAY($B$5,1)=MOD(startday+3,7)+1,$B$5,""),G7+1) -> 46114 | K7: =IF(I7="",IF(WEEKDAY($B$5,1)=MOD(startday+4,7)+1,$B$5,""),I7+1) -> 46115 | M7: =IF(K7="",IF(WEEKDAY($B$5,1)=MOD(startday+5,7)+1,$B$5,""),K7+1) -> 46116
A13: =IF(M7="","",IF(MONTH(M7+1)<>MONTH(M7),"",M7+1)) -> 46117 | C13: =IF(A13="","",IF(MONTH(A13+1)<>MONTH(A13),"",A13+1)) -> 46118 | E13: =IF(C13="","",IF(MONTH(C13+1)<>MONTH(C13),"",C13+1)) -> 46119 | G13: =IF(E13="","",IF(MONTH(E13+1)<>MONTH(E13),"",E13+1)) -> 46120 | I13: =IF(G13="","",IF(MONTH(G13+1)<>MONTH(G13),"",G13+1)) -> 46121 | K13: =IF(I13="","",IF(MONTH(I13+1)<>MONTH(I13),"",I13+1)) -> 46122 | M13: =IF(K13="","",IF(MONTH(K13+1)<>MONTH(K13),"",K13+1)) -> 46123
A19: =IF(M13="","",IF(MONTH(M13+1)<>MONTH(M13),"",M13+1)) -> 46124 | C19: =IF(A19="","",IF(MONTH(A19+1)<>MONTH(A19),"",A19+1)) -> 46125 | E19: =IF(C19="","",IF(MONTH(C19+1)<>MONTH(C19),"",C19+1)) -> 46126 | G19: =IF(E19="","",IF(MONTH(E19+1)<>MONTH(E19),"",E19+1)) -> 46127 | I19: =IF(G19="","",IF(MONTH(G19+1)<>MONTH(G19),"",G19+1)) -> 46128 | K19: =IF(I19="","",IF(MONTH(I19+1)<>MONTH(I19),"",I19+1)) -> 46129 | M19: =IF(K19="","",IF(MONTH(K19+1)<>MONTH(K19),"",K19+1)) -> 46130
A25: =IF(M19="","",IF(MONTH(M19+1)<>MONTH(M19),"",M19+1)) -> 46131 | C25: =IF(A25="","",IF(MONTH(A25+1)<>MONTH(A25),"",A25+1)) -> 46132 | E25: =IF(C25="","",IF(MONTH(C25+1)<>MONTH(C25),"",C25+1)) -> 46133 | G25: =IF(E25="","",IF(MONTH(E25+1)<>MONTH(E25),"",E25+1)) -> 46134 | I25: =IF(G25="","",IF(MONTH(G25+1)<>MONTH(G25),"",G25+1)) -> 46135 | K25: =IF(I25="","",IF(MONTH(I25+1)<>MONTH(I25),"",I25+1)) -> 46136 | M25: =IF(K25="","",IF(MONTH(K25+1)<>MONTH(K25),"",K25+1)) -> 46137
A31: =IF(M25="","",IF(MONTH(M25+1)<>MONTH(M25),"",M25+1)) -> 46138 | C31: =IF(A31="","",IF(MONTH(A31+1)<>MONTH(A31),"",A31+1)) -> 46139 | E31: =IF(C31="","",IF(MONTH(C31+1)<>MONTH(C31),"",C31+1)) -> 46140 | G31: =IF(E31="","",IF(MONTH(E31+1)<>MONTH(E31),"",E31+1)) -> 46141 | I31: =IF(G31="","",IF(MONTH(G31+1)<>MONTH(G31),"",G31+1)) -> 46142 | K31: =IF(I31="","",IF(MONTH(I31+1)<>MONTH(I31),"",I31+1)) | M31: =IF(K31="","",IF(MONTH(K31+1)<>MONTH(K31),"",K31+1))
A37: =IF(M31="","",IF(MONTH(M31+1)<>MONTH(M31),"",M31+1)) | C37: =IF(A37="","",IF(MONTH(A37+1)<>MONTH(A37),"",A37+1)) | E37: Notes

Sheet May
A4: =UPPER(TEXT(B5,"mmmm yyyy")) -> MAY 2026
A5: Date: | B5: =DATE(YEAR(Jan!B5),MONTH(Jan!B5)+4,1) -> 46143
A6: =A13 -> 46145 | C6: =C13 -> 46146 | E6: =E13 -> 46147 | G6: =G13 -> 46148 | I6: =I13 -> 46149 | K6: =K13 -> 46150 | M6: =M13 -> 46151
A7: =IF(WEEKDAY($B$5,1)=startday,$B$5,"") | C7: =IF(A7="",IF(WEEKDAY($B$5,1)=MOD(startday,7)+1,$B$5,""),A7+1) | E7: =IF(C7="",IF(WEEKDAY($B$5,1)=MOD(startday+1,7)+1,$B$5,""),C7+1) | G7: =IF(E7="",IF(WEEKDAY($B$5,1)=MOD(startday+2,7)+1,$B$5,""),E7+1) | I7: =IF(G7="",IF(WEEKDAY($B$5,1)=MOD(startday+3,7)+1,$B$5,""),G7+1) | K7: =IF(I7="",IF(WEEKDAY($B$5,1)=MOD(startday+4,7)+1,$B$5,""),I7+1) -> 46143 | M7: =IF(K7="",IF(WEEKDAY($B$5,1)=MOD(startday+5,7)+1,$B$5,""),K7+1) -> 46144
A13: =IF(M7="","",IF(MONTH(M7+1)<>MONTH(M7),"",M7+1)) -> 46145 | C13: =IF(A13="","",IF(MONTH(A13+1)<>MONTH(A13),"",A13+1)) -> 46146 | E13: =IF(C13="","",IF(MONTH(C13+1)<>MONTH(C13),"",C13+1)) -> 46147 | G13: =IF(E13="","",IF(MONTH(E13+1)<>MONTH(E13),"",E13+1)) -> 46148 | I13: =IF(G13="","",IF(MONTH(G13+1)<>MONTH(G13),"",G13+1)) -> 46149 | K13: =IF(I13="","",IF(MONTH(I13+1)<>MONTH(I13),"",I13+1)) -> 46150 | M13: =IF(K13="","",IF(MONTH(K13+1)<>MONTH(K13),"",K13+1)) -> 46151
A19: =IF(M13="","",IF(MONTH(M13+1)<>MONTH(M13),"",M13+1)) -> 46152 | C19: =IF(A19="","",IF(MONTH(A19+1)<>MONTH(A19),"",A19+1)) -> 46153 | E19: =IF(C19="","",IF(MONTH(C19+1)<>MONTH(C19),"",C19+1)) -> 46154 | G19: =IF(E19="","",IF(MONTH(E19+1)<>MONTH(E19),"",E19+1)) -> 46155 | I19: =IF(G19="","",IF(MONTH(G19+1)<>MONTH(G19),"",G19+1)) -> 46156 | K19: =IF(I19="","",IF(MONTH(I19+1)<>MONTH(I19),"",I19+1)) -> 46157 | M19: =IF(K19="","",IF(MONTH(K19+1)<>MONTH(K19),"",K19+1)) -> 46158
A25: =IF(M19="","",IF(MONTH(M19+1)<>MONTH(M19),"",M19+1)) -> 46159 | C25: =IF(A25="","",IF(MONTH(A25+1)<>MONTH(A25),"",A25+1)) -> 46160 | E25: =IF(C25="","",IF(MONTH(C25+1)<>MONTH(C25),"",C25+1)) -> 46161 | G25: =IF(E25="","",IF(MONTH(E25+1)<>MONTH(E25),"",E25+1)) -> 46162 | I25: =IF(G25="","",IF(MONTH(G25+1)<>MONTH(G25),"",G25+1)) -> 46163 | K25: =IF(I25="","",IF(MONTH(I25+1)<>MONTH(I25),"",I25+1)) -> 46164 | M25: =IF(K25="","",IF(MONTH(K25+1)<>MONTH(K25),"",K25+1)) -> 46165
A31: =IF(M25="","",IF(MONTH(M25+1)<>MONTH(M25),"",M25+1)) -> 46166 | C31: =IF(A31="","",IF(MONTH(A31+1)<>MONTH(A31),"",A31+1)) -> 46167 | E31: =IF(C31="","",IF(MONTH(C31+1)<>MONTH(C31),"",C31+1)) -> 46168 | G31: =IF(E31="","",IF(MONTH(E31+1)<>MONTH(E31),"",E31+1)) -> 46169 | I31: =IF(G31="","",IF(MONTH(G31+1)<>MONTH(G31),"",G31+1)) -> 46170 | K31: =IF(I31="","",IF(MONTH(I31+1)<>MONTH(I31),"",I31+1)) -> 46171 | M31: =IF(K31="","",IF(MONTH(K31+1)<>MONTH(K31),"",K31+1)) -> 46172
A37: =IF(M31="","",IF(MONTH(M31+1)<>MONTH(M31),"",M31+1)) -> 46173 | C37: =IF(A37="","",IF(MONTH(A37+1)<>MONTH(A37),"",A37+1)) | E37: Notes

Sheet Jun
A4: =UPPER(TEXT(B5,"mmmm yyyy")) -> JUNE 2026
A5: Date: | B5: =DATE(YEAR(Jan!B5),MONTH(Jan!B5)+5,1) -> 46174
A6: =A13 -> 46180 | C6: =C13 -> 46181 | E6: =E13 -> 46182 | G6: =G13 -> 46183 | I6: =I13 -> 46184 | K6: =K13 -> 46185 | M6: =M13 -> 46186
A7: =IF(WEEKDAY($B$5,1)=startday,$B$5,"") | C7: =IF(A7="",IF(WEEKDAY($B$5,1)=MOD(startday,7)+1,$B$5,""),A7+1) -> 46174 | E7: =IF(C7="",IF(WEEKDAY($B$5,1)=MOD(startday+1,7)+1,$B$5,""),C7+1) -> 46175 | G7: =IF(E7="",IF(WEEKDAY($B$5,1)=MOD(startday+2,7)+1,$B$5,""),E7+1) -> 46176 | I7: =IF(G7="",IF(WEEKDAY($B$5,1)=MOD(startday+3,7)+1,$B$5,""),G7+1) -> 46177 | K7: =IF(I7="",IF(WEEKDAY($B$5,1)=MOD(startday+4,7)+1,$B$5,""),I7+1) -> 46178 | M7: =IF(K7="",IF(WEEKDAY($B$5,1)=MOD(startday+5,7)+1,$B$5,""),K7+1) -> 46179
A13: =IF(M7="","",IF(MONTH(M7+1)<>MONTH(M7),"",M7+1)) -> 46180 | C13: =IF(A13="","",IF(MONTH(A13+1)<>MONTH(A13),"",A13+1)) -> 46181 | E13: =IF(C13="","",IF(MONTH(C13+1)<>MONTH(C13),"",C13+1)) -> 46182 | G13: =IF(E13="","",IF(MONTH(E13+1)<>MONTH(E13),"",E13+1)) -> 46183 | I13: =IF(G13="","",IF(MONTH(G13+1)<>MONTH(G13),"",G13+1)) -> 46184 | K13: =IF(I13="","",IF(MONTH(I13+1)<>MONTH(I13),"",I13+1)) -> 46185 | M13: =IF(K13="","",IF(MONTH(K13+1)<>MONTH(K13),"",K13+1)) -> 46186
A19: =IF(M13="","",IF(MONTH(M13+1)<>MONTH(M13),"",M13+1)) -> 46187 | C19: =IF(A19="","",IF(MONTH(A19+1)<>MONTH(A19),"",A19+1)) -> 46188 | E19: =IF(C19="","",IF(MONTH(C19+1)<>MONTH(C19),"",C19+1)) -> 46189 | G19: =IF(E19="","",IF(MONTH(E19+1)<>MONTH(E19),"",E19+1)) -> 46190 | I19: =IF(G19="","",IF(MONTH(G19+1)<>MONTH(G19),"",G19+1)) -> 46191 | K19: =IF(I19="","",IF(MONTH(I19+1)<>MONTH(I19),"",I19+1)) -> 46192 | M19: =IF(K19="","",IF(MONTH(K19+1)<>MONTH(K19),"",K19+1)) -> 46193
A25: =IF(M19="","",IF(MONTH(M19+1)<>MONTH(M19),"",M19+1)) -> 46194 | C25: =IF(A25="","",IF(MONTH(A25+1)<>MONTH(A25),"",A25+1)) -> 46195 | E25: =IF(C25="","",IF(MONTH(C25+1)<>MONTH(C25),"",C25+1)) -> 46196 | G25: =IF(E25="","",IF(MONTH(E25+1)<>MONTH(E25),"",E25+1)) -> 46197 | I25: =IF(G25="","",IF(MONTH(G25+1)<>MONTH(G25),"",G25+1)) -> 46198 | K25: =IF(I25="","",IF(MONTH(I25+1)<>MONTH(I25),"",I25+1)) -> 46199 | M25: =IF(K25="","",IF(MONTH(K25+1)<>MONTH(K25),"",K25+1)) -> 46200
A31: =IF(M25="","",IF(MONTH(M25+1)<>MONTH(M25),"",M25+1)) -> 46201 | C31: =IF(A31="","",IF(MONTH(A31+1)<>MONTH(A31),"",A31+1)) -> 46202 | E31: =IF(C31="","",IF(MONTH(C31+1)<>MONTH(C31),"",C31+1)) -> 46203 | G31: =IF(E31="","",IF(MONTH(E31+1)<>MONTH(E31),"",E31+1)) | I31: =IF(G31="","",IF(MONTH(G31+1)<>MONTH(G31),"",G31+1)) | K31: =IF(I31="","",IF(MONTH(I31+1)<>MONTH(I31),"",I31+1)) | M31: =IF(K31="","",IF(MONTH(K31+1)<>MONTH(K31),"",K31+1))
A37: =IF(M31="","",IF(MONTH(M31+1)<>MONTH(M31),"",M31+1)) | C37: =IF(A37="","",IF(MONTH(A37+1)<>MONTH(A37),"",A37+1)) | E37: Notes

Sheet Jul
A4: =UPPER(TEXT(B5,"mmmm yyyy")) -> JULY 2026
A5: Date: | B5: =DATE(YEAR(Jan!B5),MONTH(Jan!B5)+6,1) -> 46204
A6: =A13 -> 46208 | C6: =C13 -> 46209 | E6: =E13 -> 46210 | G6: =G13 -> 46211 | I6: =I13 -> 46212 | K6: =K13 -> 46213 | M6: =M13 -> 46214
A7: =IF(WEEKDAY($B$5,1)=startday,$B$5,"") | C7: =IF(A7="",IF(WEEKDAY($B$5,1)=MOD(startday,7)+1,$B$5,""),A7+1) | E7: =IF(C7="",IF(WEEKDAY($B$5,1)=MOD(startday+1,7)+1,$B$5,""),C7+1) | G7: =IF(E7="",IF(WEEKDAY($B$5,1)=MOD(startday+2,7)+1,$B$5,""),E7+1) -> 46204 | I7: =IF(G7="",IF(WEEKDAY($B$5,1)=MOD(startday+3,7)+1,$B$5,""),G7+1) -> 46205 | K7: =IF(I7="",IF(WEEKDAY($B$5,1)=MOD(startday+4,7)+1,$B$5,""),I7+1) -> 46206 | M7: =IF(K7="",IF(WEEKDAY($B$5,1)=MOD(startday+5,7)+1,$B$5,""),K7+1) -> 46207
A13: =IF(M7="","",IF(MONTH(M7+1)<>MONTH(M7),"",M7+1)) -> 46208 | C13: =IF(A13="","",IF(MONTH(A13+1)<>MONTH(A13),"",A13+1)) -> 46209 | E13: =IF(C13="","",IF(MONTH(C13+1)<>MONTH(C13),"",C13+1)) -> 46210 | G13: =IF(E13="","",IF(MONTH(E13+1)<>MONTH(E13),"",E13+1)) -> 46211 | I13: =IF(G13="","",IF(MONTH(G13+1)<>MONTH(G13),"",G13+1)) -> 46212 | K13: =IF(I13="","",IF(MONTH(I13+1)<>MONTH(I13),"",I13+1)) -> 46213 | M13: =IF(K13="","",IF(MONTH(K13+1)<>MONTH(K13),"",K13+1)) -> 46214
A19: =IF(M13="","",IF(MONTH(M13+1)<>MONTH(M13),"",M13+1)) -> 46215 | C19: =IF(A19="","",IF(MONTH(A19+1)<>MONTH(A19),"",A19+1)) -> 46216 | E19: =IF(C19="","",IF(MONTH(C19+1)<>MONTH(C19),"",C19+1)) -> 46217 | G19: =IF(E19="","",IF(MONTH(E19+1)<>MONTH(E19),"",E19+1)) -> 46218 | I19: =IF(G19="","",IF(MONTH(G19+1)<>MONTH(G19),"",G19+1)) -> 46219 | K19: =IF(I19="","",IF(MONTH(I19+1)<>MONTH(I19),"",I19+1)) -> 46220 | M19: =IF(K19="","",IF(MONTH(K19+1)<>MONTH(K19),"",K19+1)) -> 46221
A25: =IF(M19="","",IF(MONTH(M19+1)<>MONTH(M19),"",M19+1)) -> 46222 | C25: =IF(A25="","",IF(MONTH(A25+1)<>MONTH(A25),"",A25+1)) -> 46223 | E25: =IF(C25="","",IF(MONTH(C25+1)<>MONTH(C25),"",C25+1)) -> 46224 | G25: =IF(E25="","",IF(MONTH(E25+1)<>MONTH(E25),"",E25+1)) -> 46225 | I25: =IF(G25="","",IF(MONTH(G25+1)<>MONTH(G25),"",G25+1)) -> 46226 | K25: =IF(I25="","",IF(MONTH(I25+1)<>MONTH(I25),"",I25+1)) -> 46227 | M25: =IF(K25="","",IF(MONTH(K25+1)<>MONTH(K25),"",K25+1)) -> 46228
A31: =IF(M25="","",IF(MONTH(M25+1)<>MONTH(M25),"",M25+1)) -> 46229 | C31: =IF(A31="","",IF(MONTH(A31+1)<>MONTH(A31),"",A31+1)) -> 46230 | E31: =IF(C31="","",IF(MONTH(C31+1)<>MONTH(C31),"",C31+1)) -> 46231 | G31: =IF(E31="","",IF(MONTH(E31+1)<>MONTH(E31),"",E31+1)) -> 46232 | I31: =IF(G31="","",IF(MONTH(G31+1)<>MONTH(G31),"",G31+1)) -> 46233 | K31: =IF(I31="","",IF(MONTH(I31+1)<>MONTH(I31),"",I31+1)) -> 46234 | M31: =IF(K31="","",IF(MONTH(K31+1)<>MONTH(K31),"",K31+1))
A37: =IF(M31="","",IF(MONTH(M31+1)<>MONTH(M31),"",M31+1)) | C37: =IF(A37="","",IF(MONTH(A37+1)<>MONTH(A37),"",A37+1)) | E37: Notes

Sheet Aug
A4: =UPPER(TEXT(B5,"mmmm yyyy")) -> AUGUST 2026
A5: Date: | B5: =DATE(YEAR(Jan!B5),MONTH(Jan!B5)+7,1) -> 46235
A6: =A13 -> 46236 | C6: =C13 -> 46237 | E6: =E13 -> 46238 | G6: =G13 -> 46239 | I6: =I13 -> 46240 | K6: =K13 -> 46241 | M6: =M13 -> 46242
A7: =IF(WEEKDAY($B$5,1)=startday,$B$5,"") | C7: =IF(A7="",IF(WEEKDAY($B$5,1)=MOD(startday,7)+1,$B$5,""),A7+1) | E7: =IF(C7="",IF(WEEKDAY($B$5,1)=MOD(startday+1,7)+1,$B$5,""),C7+1) | G7: =IF(E7="",IF(WEEKDAY($B$5,1)=MOD(startday+2,7)+1,$B$5,""),E7+1) | I7: =IF(G7="",IF(WEEKDAY($B$5,1)=MOD(startday+3,7)+1,$B$5,""),G7+1) | K7: =IF(I7="",IF(WEEKDAY($B$5,1)=MOD(startday+4,7)+1,$B$5,""),I7+1) | M7: =IF(K7="",IF(WEEKDAY($B$5,1)=MOD(startday+5,7)+1,$B$5,""),K7+1) -> 46235
A13: =IF(M7="","",IF(MONTH(M7+1)<>MONTH(M7),"",M7+1)) -> 46236 | C13: =IF(A13="","",IF(MONTH(A13+1)<>MONTH(A13),"",A13+1)) -> 46237 | E13: =IF(C13="","",IF(MONTH(C13+1)<>MONTH(C13),"",C13+1)) -> 46238 | G13: =IF(E13="","",IF(MONTH(E13+1)<>MONTH(E13),"",E13+1)) -> 46239 | I13: =IF(G13="","",IF(MONTH(G13+1)<>MONTH(G13),"",G13+1)) -> 46240 | K13: =IF(I13="","",IF(MONTH(I13+1)<>MONTH(I13),"",I13+1)) -> 46241 | M13: =IF(K13="","",IF(MONTH(K13+1)<>MONTH(K13),"",K13+1)) -> 46242
A19: =IF(M13="","",IF(MONTH(M13+1)<>MONTH(M13),"",M13+1)) -> 46243 | C19: =IF(A19="","",IF(MONTH(A19+1)<>MONTH(A19),"",A19+1)) -> 46244 | E19: =IF(C19="","",IF(MONTH(C19+1)<>MONTH(C19),"",C19+1)) -> 46245 | G19: =IF(E19="","",IF(MONTH(E19+1)<>MONTH(E19),"",E19+1)) -> 46246 | I19: =IF(G19="","",IF(MONTH(G19+1)<>MONTH(G19),"",G19+1)) -> 46247 | K19: =IF(I19="","",IF(MONTH(I19+1)<>MONTH(I19),"",I19+1)) -> 46248 | M19: =IF(K19="","",IF(MONTH(K19+1)<>MONTH(K19),"",K19+1)) -> 46249
A25: =IF(M19="","",IF(MONTH(M19+1)<>MONTH(M19),"",M19+1)) -> 46250 | C25: =IF(A25="","",IF(MONTH(A25+1)<>MONTH(A25),"",A25+1)) -> 46251 | E25: =IF(C25="","",IF(MONTH(C25+1)<>MONTH(C25),"",C25+1)) -> 46252 | G25: =IF(E25="","",IF(MONTH(E25+1)<>MONTH(E25),"",E25+1)) -> 46253 | I25: =IF(G25="","",IF(MONTH(G25+1)<>MONTH(G25),"",G25+1)) -> 46254 | K25: =IF(I25="","",IF(MONTH(I25+1)<>MONTH(I25),"",I25+1)) -> 46255 | M25: =IF(K25="","",IF(MONTH(K25+1)<>MONTH(K25),"",K25+1)) -> 46256
A31: =IF(M25="","",IF(MONTH(M25+1)<>MONTH(M25),"",M25+1)) -> 46257 | C31: =IF(A31="","",IF(MONTH(A31+1)<>MONTH(A31),"",A31+1)) -> 46258 | E31: =IF(C31="","",IF(MONTH(C31+1)<>MONTH(C31),"",C31+1)) -> 46259 | G31: =IF(E31="","",IF(MONTH(E31+1)<>MONTH(E31),"",E31+1)) -> 46260 | I31: =IF(G31="","",IF(MONTH(G31+1)<>MONTH(G31),"",G31+1)) -> 46261 | K31: =IF(I31="","",IF(MONTH(I31+1)<>MONTH(I31),"",I31+1)) -> 46262 | M31: =IF(K31="","",IF(MONTH(K31+1)<>MONTH(K31),"",K31+1)) -> 46263
A37: =IF(M31="","",IF(MONTH(M31+1)<>MONTH(M31),"",M31+1)) -> 46264 | C37: =IF(A37="","",IF(MONTH(A37+1)<>MONTH(A37),"",A37+1)) -> 46265 | E37: Notes

Sheet Sep
A4: =UPPER(TEXT(B5,"mmmm yyyy")) -> SEPTEMBER 2026
A5: Date: | B5: =DATE(YEAR(Jan!B5),MONTH(Jan!B5)+8,1) -> 46266
A6: =A13 -> 46271 | C6: =C13 -> 46272 | E6: =E13 -> 46273 | G6: =G13 -> 46274 | I6: =I13 -> 46275 | K6: =K13 -> 46276 | M6: =M13 -> 46277
A7: =IF(WEEKDAY($B$5,1)=startday,$B$5,"") | C7: =IF(A7="",IF(WEEKDAY($B$5,1)=MOD(startday,7)+1,$B$5,""),A7+1) | E7: =IF(C7="",IF(WEEKDAY($B$5,1)=MOD(startday+1,7)+1,$B$5,""),C7+1) -> 46266 | G7: =IF(E7="",IF(WEEKDAY($B$5,1)=MOD(startday+2,7)+1,$B$5,""),E7+1) -> 46267 | I7: =IF(G7="",IF(WEEKDAY($B$5,1)=MOD(startday+3,7)+1,$B$5,""),G7+1) -> 46268 | K7: =IF(I7="",IF(WEEKDAY($B$5,1)=MOD(startday+4,7)+1,$B$5,""),I7+1) -> 46269 | M7: =IF(K7="",IF(WEEKDAY($B$5,1)=MOD(startday+5,7)+1,$B$5,""),K7+1) -> 46270
A13: =IF(M7="","",IF(MONTH(M7+1)<>MONTH(M7),"",M7+1)) -> 46271 | C13: =IF(A13="","",IF(MONTH(A13+1)<>MONTH(A13),"",A13+1)) -> 46272 | E13: =IF(C13="","",IF(MONTH(C13+1)<>MONTH(C13),"",C13+1)) -> 46273 | G13: =IF(E13="","",IF(MONTH(E13+1)<>MONTH(E13),"",E13+1)) -> 46274 | I13: =IF(G13="","",IF(MONTH(G13+1)<>MONTH(G13),"",G13+1)) -> 46275 | K13: =IF(I13="","",IF(MONTH(I13+1)<>MONTH(I13),"",I13+1)) -> 46276 | M13: =IF(K13="","",IF(MONTH(K13+1)<>MONTH(K13),"",K13+1)) -> 46277
A19: =IF(M13="","",IF(MONTH(M13+1)<>MONTH(M13),"",M13+1)) -> 46278 | C19: =IF(A19="","",IF(MONTH(A19+1)<>MONTH(A19),"",A19+1)) -> 46279 | E19: =IF(C19="","",IF(MONTH(C19+1)<>MONTH(C19),"",C19+1)) -> 46280 | G19: =IF(E19="","",IF(MONTH(E19+1)<>MONTH(E19),"",E19+1)) -> 46281 | I19: =IF(G19="","",IF(MONTH(G19+1)<>MONTH(G19),"",G19+1)) -> 46282 | K19: =IF(I19="","",IF(MONTH(I19+1)<>MONTH(I19),"",I19+1)) -> 46283 | M19: =IF(K19="","",IF(MONTH(K19+1)<>MONTH(K19),"",K19+1)) -> 46284
A25: =IF(M19="","",IF(MONTH(M19+1)<>MONTH(M19),"",M19+1)) -> 46285 | C25: =IF(A25="","",IF(MONTH(A25+1)<>MONTH(A25),"",A25+1)) -> 46286 | E25: =IF(C25="","",IF(MONTH(C25+1)<>MONTH(C25),"",C25+1)) -> 46287 | G25: =IF(E25="","",IF(MONTH(E25+1)<>MONTH(E25),"",E25+1)) -> 46288 | I25: =IF(G25="","",IF(MONTH(G25+1)<>MONTH(G25),"",G25+1)) -> 46289 | K25: =IF(I25="","",IF(MONTH(I25+1)<>MONTH(I25),"",I25+1)) -> 46290 | M25: =IF(K25="","",IF(MONTH(K25+1)<>MONTH(K25),"",K25+1)) -> 46291
A31: =IF(M25="","",IF(MONTH(M25+1)<>MONTH(M25),"",M25+1)) -> 46292 | C31: =IF(A31="","",IF(MONTH(A31+1)<>MONTH(A31),"",A31+1)) -> 46293 | E31: =IF(C31="","",IF(MONTH(C31+1)<>MONTH(C31),"",C31+1)) -> 46294 | G31: =IF(E31="","",IF(MONTH(E31+1)<>MONTH(E31),"",E31+1)) -> 46295 | I31: =IF(G31="","",IF(MONTH(G31+1)<>MONTH(G31),"",G31+1)) | K31: =IF(I31="","",IF(MONTH(I31+1)<>MONTH(I31),"",I31+1)) | M31: =IF(K31="","",IF(MONTH(K31+1)<>MONTH(K31),"",K31+1))
A37: =IF(M31="","",IF(MONTH(M31+1)<>MONTH(M31),"",M31+1)) | C37: =IF(A37="","",IF(MONTH(A37+1)<>MONTH(A37),"",A37+1)) | E37: Notes

Sheet Oct
A4: =UPPER(TEXT(B5,"mmmm yyyy")) -> OCTOBER 2026
A5: Date: | B5: =DATE(YEAR(Jan!B5),MONTH(Jan!B5)+9,1) -> 46296
A6: =A13 -> 46299 | C6: =C13 -> 46300 | E6: =E13 -> 46301 | G6: =G13 -> 46302 | I6: =I13 -> 46303 | K6: =K13 -> 46304 | M6: =M13 -> 46305
A7: =IF(WEEKDAY($B$5,1)=startday,$B$5,"") | C7: =IF(A7="",IF(WEEKDAY($B$5,1)=MOD(startday,7)+1,$B$5,""),A7+1) | E7: =IF(C7="",IF(WEEKDAY($B$5,1)=MOD(startday+1,7)+1,$B$5,""),C7+1) | G7: =IF(E7="",IF(WEEKDAY($B$5,1)=MOD(startday+2,7)+1,$B$5,""),E7+1) | I7: =IF(G7="",IF(WEEKDAY($B$5,1)=MOD(startday+3,7)+1,$B$5,""),G7+1) -> 46296 | K7: =IF(I7="",IF(WEEKDAY($B$5,1)=MOD(startday+4,7)+1,$B$5,""),I7+1) -> 46297 | M7: =IF(K7="",IF(WEEKDAY($B$5,1)=MOD(startday+5,7)+1,$B$5,""),K7+1) -> 46298
A13: =IF(M7="","",IF(MONTH(M7+1)<>MONTH(M7),"",M7+1)) -> 46299 | C13: =IF(A13="","",IF(MONTH(A13+1)<>MONTH(A13),"",A13+1)) -> 46300 | E13: =IF(C13="","",IF(MONTH(C13+1)<>MONTH(C13),"",C13+1)) -> 46301 | G13: =IF(E13="","",IF(MONTH(E13+1)<>MONTH(E13),"",E13+1)) -> 46302 | I13: =IF(G13="","",IF(MONTH(G13+1)<>MONTH(G13),"",G13+1)) -> 46303 | K13: =IF(I13="","",IF(MONTH(I13+1)<>MONTH(I13),"",I13+1)) -> 46304 | M13: =IF(K13="","",IF(MONTH(K13+1)<>MONTH(K13),"",K13+1)) -> 46305
A19: =IF(M13="","",IF(MONTH(M13+1)<>MONTH(M13),"",M13+1)) -> 46306 | C19: =IF(A19="","",IF(MONTH(A19+1)<>MONTH(A19),"",A19+1)) -> 46307 | E19: =IF(C19="","",IF(MONTH(C19+1)<>MONTH(C19),"",C19+1)) -> 46308 | G19: =IF(E19="","",IF(MONTH(E19+1)<>MONTH(E19),"",E19+1)) -> 46309 | I19: =IF(G19="","",IF(MONTH(G19+1)<>MONTH(G19),"",G19+1)) -> 46310 | K19: =IF(I19="","",IF(MONTH(I19+1)<>MONTH(I19),"",I19+1)) -> 46311 | M19: =IF(K19="","",IF(MONTH(K19+1)<>MONTH(K19),"",K19+1)) -> 46312
A25: =IF(M19="","",IF(MONTH(M19+1)<>MONTH(M19),"",M19+1)) -> 46313 | C25: =IF(A25="","",IF(MONTH(A25+1)<>MONTH(A25),"",A25+1)) -> 46314 | E25: =IF(C25="","",IF(MONTH(C25+1)<>MONTH(C25),"",C25+1)) -> 46315 | G25: =IF(E25="","",IF(MONTH(E25+1)<>MONTH(E25),"",E25+1)) -> 46316 | I25: =IF(G25="","",IF(MONTH(G25+1)<>MONTH(G25),"",G25+1)) -> 46317 | K25: =IF(I25="","",IF(MONTH(I25+1)<>MONTH(I25),"",I25+1)) -> 46318 | M25: =IF(K25="","",IF(MONTH(K25+1)<>MONTH(K25),"",K25+1)) -> 46319
A31: =IF(M25="","",IF(MONTH(M25+1)<>MONTH(M25),"",M25+1)) -> 46320 | C31: =IF(A31="","",IF(MONTH(A31+1)<>MONTH(A31),"",A31+1)) -> 46321 | E31: =IF(C31="","",IF(MONTH(C31+1)<>MONTH(C31),"",C31+1)) -> 46322 | G31: =IF(E31="","",IF(MONTH(E31+1)<>MONTH(E31),"",E31+1)) -> 46323 | I31: =IF(G31="","",IF(MONTH(G31+1)<>MONTH(G31),"",G31+1)) -> 46324 | K31: =IF(I31="","",IF(MONTH(I31+1)<>MONTH(I31),"",I31+1)) -> 46325 | M31: =IF(K31="","",IF(MONTH(K31+1)<>MONTH(K31),"",K31+1)) -> 46326
A37: =IF(M31="","",IF(MONTH(M31+1)<>MONTH(M31),"",M31+1)) | C37: =IF(A37="","",IF(MONTH(A37+1)<>MONTH(A37),"",A37+1)) | E37: Notes

Sheet Nov
A4: =UPPER(TEXT(B5,"mmmm yyyy")) -> NOVEMBER 2026
A5: Date: | B5: =DATE(YEAR(Jan!B5),MONTH(Jan!B5)+10,1) -> 46327
A6: =A13 -> 46334 | C6: =C13 -> 46335 | E6: =E13 -> 46336 | G6: =G13 -> 46337 | I6: =I13 -> 46338 | K6: =K13 -> 46339 | M6: =M13 -> 46340
A7: =IF(WEEKDAY($B$5,1)=startday,$B$5,"") -> 46327 | C7: =IF(A7="",IF(WEEKDAY($B$5,1)=MOD(startday,7)+1,$B$5,""),A7+1) -> 46328 | E7: =IF(C7="",IF(WEEKDAY($B$5,1)=MOD(startday+1,7)+1,$B$5,""),C7+1) -> 46329 | G7: =IF(E7="",IF(WEEKDAY($B$5,1)=MOD(startday+2,7)+1,$B$5,""),E7+1) -> 46330 | I7: =IF(G7="",IF(WEEKDAY($B$5,1)=MOD(startday+3,7)+1,$B$5,""),G7+1) -> 46331 | K7: =IF(I7="",IF(WEEKDAY($B$5,1)=MOD(startday+4,7)+1,$B$5,""),I7+1) -> 46332 | M7: =IF(K7="",IF(WEEKDAY($B$5,1)=MOD(startday+5,7)+1,$B$5,""),K7+1) -> 46333
A13: =IF(M7="","",IF(MONTH(M7+1)<>MONTH(M7),"",M7+1)) -> 46334 | C13: =IF(A13="","",IF(MONTH(A13+1)<>MONTH(A13),"",A13+1)) -> 46335 | E13: =IF(C13="","",IF(MONTH(C13+1)<>MONTH(C13),"",C13+1)) -> 46336 | G13: =IF(E13="","",IF(MONTH(E13+1)<>MONTH(E13),"",E13+1)) -> 46337 | I13: =IF(G13="","",IF(MONTH(G13+1)<>MONTH(G13),"",G13+1)) -> 46338 | K13: =IF(I13="","",IF(MONTH(I13+1)<>MONTH(I13),"",I13+1)) -> 46339 | M13: =IF(K13="","",IF(MONTH(K13+1)<>MONTH(K13),"",K13+1)) -> 46340
A19: =IF(M13="","",IF(MONTH(M13+1)<>MONTH(M13),"",M13+1)) -> 46341 | C19: =IF(A19="","",IF(MONTH(A19+1)<>MONTH(A19),"",A19+1)) -> 46342 | E19: =IF(C19="","",IF(MONTH(C19+1)<>MONTH(C19),"",C19+1)) -> 46343 | G19: =IF(E19="","",IF(MONTH(E19+1)<>MONTH(E19),"",E19+1)) -> 46344 | I19: =IF(G19="","",IF(MONTH(G19+1)<>MONTH(G19),"",G19+1)) -> 46345 | K19: =IF(I19="","",IF(MONTH(I19+1)<>MONTH(I19),"",I19+1)) -> 46346 | M19: =IF(K19="","",IF(MONTH(K19+1)<>MONTH(K19),"",K19+1)) -> 46347
A25: =IF(M19="","",IF(MONTH(M19+1)<>MONTH(M19),"",M19+1)) -> 46348 | C25: =IF(A25="","",IF(MONTH(A25+1)<>MONTH(A25),"",A25+1)) -> 46349 | E25: =IF(C25="","",IF(MONTH(C25+1)<>MONTH(C25),"",C25+1)) -> 46350 | G25: =IF(E25="","",IF(MONTH(E25+1)<>MONTH(E25),"",E25+1)) -> 46351 | I25: =IF(G25="","",IF(MONTH(G25+1)<>MONTH(G25),"",G25+1)) -> 46352 | K25: =IF(I25="","",IF(MONTH(I25+1)<>MONTH(I25),"",I25+1)) -> 46353 | M25: =IF(K25="","",IF(MONTH(K25+1)<>MONTH(K25),"",K25+1)) -> 46354
A31: =IF(M25="","",IF(MONTH(M25+1)<>MONTH(M25),"",M25+1)) -> 46355 | C31: =IF(A31="","",IF(MONTH(A31+1)<>MONTH(A31),"",A31+1)) -> 46356 | E31: =IF(C31="","",IF(MONTH(C31+1)<>MONTH(C31),"",C31+1)) | G31: =IF(E31="","",IF(MONTH(E31+1)<>MONTH(E31),"",E31+1)) | I31: =IF(G31="","",IF(MONTH(G31+1)<>MONTH(G31),"",G31+1)) | K31: =IF(I31="","",IF(MONTH(I31+1)<>MONTH(I31),"",I31+1)) | M31: =IF(K31="","",IF(MONTH(K31+1)<>MONTH(K31),"",K31+1))
A37: =IF(M31="","",IF(MONTH(M31+1)<>MONTH(M31),"",M31+1)) | C37: =IF(A37="","",IF(MONTH(A37+1)<>MONTH(A37),"",A37+1)) | E37: Notes

Sheet Dec
A4: =UPPER(TEXT(B5,"mmmm yyyy")) -> DECEMBER 2026
A5: Date: | B5: =DATE(YEAR(Jan!B5),MONTH(Jan!B5)+11,1) -> 46357
A6: =A13 -> 46362 | C6: =C13 -> 46363 | E6: =E13 -> 46364 | G6: =G13 -> 46365 | I6: =I13 -> 46366 | K6: =K13 -> 46367 | M6: =M13 -> 46368
A7: =IF(WEEKDAY($B$5,1)=startday,$B$5,"") | C7: =IF(A7="",IF(WEEKDAY($B$5,1)=MOD(startday,7)+1,$B$5,""),A7+1) | E7: =IF(C7="",IF(WEEKDAY($B$5,1)=MOD(startday+1,7)+1,$B$5,""),C7+1) -> 46357 | G7: =IF(E7="",IF(WEEKDAY($B$5,1)=MOD(startday+2,7)+1,$B$5,""),E7+1) -> 46358 | I7: =IF(G7="",IF(WEEKDAY($B$5,1)=MOD(startday+3,7)+1,$B$5,""),G7+1) -> 46359 | K7: =IF(I7="",IF(WEEKDAY($B$5,1)=MOD(startday+4,7)+1,$B$5,""),I7+1) -> 46360 | M7: =IF(K7="",IF(WEEKDAY($B$5,1)=MOD(startday+5,7)+1,$B$5,""),K7+1) -> 46361
A13: =IF(M7="","",IF(MONTH(M7+1)<>MONTH(M7),"",M7+1)) -> 46362 | C13: =IF(A13="","",IF(MONTH(A13+1)<>MONTH(A13),"",A13+1)) -> 46363 | E13: =IF(C13="","",IF(MONTH(C13+1)<>MONTH(C13),"",C13+1)) -> 46364 | G13: =IF(E13="","",IF(MONTH(E13+1)<>MONTH(E13),"",E13+1)) -> 46365 | I13: =IF(G13="","",IF(MONTH(G13+1)<>MONTH(G13),"",G13+1)) -> 46366 | K13: =IF(I13="","",IF(MONTH(I13+1)<>MONTH(I13),"",I13+1)) -> 46367 | M13: =IF(K13="","",IF(MONTH(K13+1)<>MONTH(K13),"",K13+1)) -> 46368
A19: =IF(M13="","",IF(MONTH(M13+1)<>MONTH(M13),"",M13+1)) -> 46369 | C19: =IF(A19="","",IF(MONTH(A19+1)<>MONTH(A19),"",A19+1)) -> 46370 | E19: =IF(C19="","",IF(MONTH(C19+1)<>MONTH(C19),"",C19+1)) -> 46371 | G19: =IF(E19="","",IF(MONTH(E19+1)<>MONTH(E19),"",E19+1)) -> 46372 | I19: =IF(G19="","",IF(MONTH(G19+1)<>MONTH(G19),"",G19+1)) -> 46373 | K19: =IF(I19="","",IF(MONTH(I19+1)<>MONTH(I19),"",I19+1)) -> 46374 | M19: =IF(K19="","",IF(MONTH(K19+1)<>MONTH(K19),"",K19+1)) -> 46375
A25: =IF(M19="","",IF(MONTH(M19+1)<>MONTH(M19),"",M19+1)) -> 46376 | C25: =IF(A25="","",IF(MONTH(A25+1)<>MONTH(A25),"",A25+1)) -> 46377 | E25: =IF(C25="","",IF(MONTH(C25+1)<>MONTH(C25),"",C25+1)) -> 46378 | G25: =IF(E25="","",IF(MONTH(E25+1)<>MONTH(E25),"",E25+1)) -> 46379 | I25: =IF(G25="","",IF(MONTH(G25+1)<>MONTH(G25),"",G25+1)) -> 46380 | K25: =IF(I25="","",IF(MONTH(I25+1)<>MONTH(I25),"",I25+1)) -> 46381 | M25: =IF(K25="","",IF(MONTH(K25+1)<>MONTH(K25),"",K25+1)) -> 46382
A31: =IF(M25="","",IF(MONTH(M25+1)<>MONTH(M25),"",M25+1)) -> 46383 | C31: =IF(A31="","",IF(MONTH(A31+1)<>MONTH(A31),"",A31+1)) -> 46384 | E31: =IF(C31="","",IF(MONTH(C31+1)<>MONTH(C31),"",C31+1)) -> 46385 | G31: =IF(E31="","",IF(MONTH(E31+1)<>MONTH(E31),"",E31+1)) -> 46386 | I31: =IF(G31="","",IF(MONTH(G31+1)<>MONTH(G31),"",G31+1)) -> 46387 | K31: =IF(I31="","",IF(MONTH(I31+1)<>MONTH(I31),"",I31+1)) | M31: =IF(K31="","",IF(MONTH(K31+1)<>MONTH(K31),"",K31+1))
A37: =IF(M31="","",IF(MONTH(M31+1)<>MONTH(M31),"",M31+1)) | C37: =IF(A37="","",IF(MONTH(A37+1)<>MONTH(A37),"",A37+1)) | E37: Notes
