Workbook

Sheet How to Use
A1: How to Use — HR KPI Dashboard
A2: by ExcelGuru.io | Track every key HR metric against target in one clear view.
A4: What this template does
A5: Compare each HR metric to its target, calculate achievement in a way that handles higher-is-better and lower-is-better goals, and flag the status.
A7: Sheet 1 — KPIs
A8: Enter each metric's target, actual and direction. Achievement and status calculate automatically.
A10: Sheet 2 — Dashboard
A11: See how many metrics are on, near or off target, and achievement for each KPI.
A13: Direction matters
A14: For metrics like engagement, higher is better. For turnover or cost, lower is better. The sheet handles both correctly.
A16: Tips
A17: Choose a focused set of metrics that reflect your priorities. Review the off-target items first in every people meeting.

Sheet Dashboard
A1: HR KPI — DASHBOARD
A3: Total KPIs | C3: On Target | E3: Near Target | G3: Off Target
A4: =COUNTA(KPIs!A4:A33) -> 12 | C4: =COUNTIF(KPIs!G4:G33,"On Target") -> 4 | E4: =COUNTIF(KPIs!G4:G33,"Near Target") -> 2 | G4: =COUNTIF(KPIs!G4:G33,"Off Target") -> 6
A6: Avg Achievement | C6: % On Target
A7: =IFERROR(AVERAGEIF(KPIs!F4:F33,">0"),0) -> 0.95302005 | C7: =IFERROR(COUNTIF(KPIs!G4:G33,"On Target")/COUNTA(KPIs!A4:A33),0) -> 0.33333333
A10: Status Breakdown | D10: Achievement by KPI
A11: Status | B11: Count | D11: KPI | E11: Achievement
A12: On Target | B12: =COUNTIF(KPIs!G4:G33,"On Target") -> 4 | D12: =KPIs!A4 -> Turnover Rate | E12: =KPIs!F4 -> 0.83333333
A13: Near Target | B13: =COUNTIF(KPIs!G4:G33,"Near Target") -> 2 | D13: =KPIs!A5 -> Voluntary Turnover | E13: =KPIs!F5 -> 0.85714286
A14: Off Target | B14: =COUNTIF(KPIs!G4:G33,"Off Target") -> 6 | D14: =KPIs!A6 -> Time to Hire | E14: =KPIs!F6 -> 0.85714286
D15: =KPIs!A7 -> Offer Acceptance | E15: =KPIs!F7 -> 1.0588235
D16: =KPIs!A8 -> Cost per Hire | E16: =KPIs!F8 -> 0.88888889
D17: =KPIs!A9 -> Engagement Score | E17: =KPIs!F9 -> 0.9
D18: =KPIs!A10 -> eNPS | E18: =KPIs!F10 -> 0.73333333
D19: =KPIs!A11 -> Absence Rate | E19: =KPIs!F11 -> 1.2
D20: =KPIs!A12 -> Training Completion | E20: =KPIs!F12 -> 0.86666667
D21: =KPIs!A13 -> Internal Promotion | E21: =KPIs!F13 -> 1.2
D22: =KPIs!A14 -> Diversity Ratio | E22: =KPIs!F14 -> 0.95
D23: =KPIs!A15 -> HR Cost per Employee | E23: =KPIs!F15 -> 1.0909091

Sheet KPIs
A1: HR KPI Dashboard — set target & actual; achievement and status auto-calculate
A3: KPI | B3: Category | C3: Direction | D3: Target | E3: Actual | F3: Achievement % | G3: Status | H3: Note
A4: Turnover Rate | B4: Retention | C4: Lower | D4: 10 | E4: 12 | F4: =IF(OR(D4="",E4=0,E4="",D4=0),"",IF(C4="Higher",E4/D4,D4/E4)) -> 0.83333333 | G4: =IF(F4="","",IF(F4>=1,"On Target",IF(F4>=0.9,"Near Target","Off Target"))) -> Off Target | H4: Annualised %
A5: Voluntary Turnover | B5: Retention | C5: Lower | D5: 6 | E5: 7 | F5: =IF(OR(D5="",E5=0,E5="",D5=0),"",IF(C5="Higher",E5/D5,D5/E5)) -> 0.85714286 | G5: =IF(F5="","",IF(F5>=1,"On Target",IF(F5>=0.9,"Near Target","Off Target"))) -> Off Target | H5: %
A6: Time to Hire | B6: Recruitment | C6: Lower | D6: 30 | E6: 35 | F6: =IF(OR(D6="",E6=0,E6="",D6=0),"",IF(C6="Higher",E6/D6,D6/E6)) -> 0.85714286 | G6: =IF(F6="","",IF(F6>=1,"On Target",IF(F6>=0.9,"Near Target","Off Target"))) -> Off Target | H6: Days
A7: Offer Acceptance | B7: Recruitment | C7: Higher | D7: 85 | E7: 90 | F7: =IF(OR(D7="",E7=0,E7="",D7=0),"",IF(C7="Higher",E7/D7,D7/E7)) -> 1.0588235 | G7: =IF(F7="","",IF(F7>=1,"On Target",IF(F7>=0.9,"Near Target","Off Target"))) -> On Target | H7: %
A8: Cost per Hire | B8: Cost | C8: Lower | D8: 4000 | E8: 4500 | F8: =IF(OR(D8="",E8=0,E8="",D8=0),"",IF(C8="Higher",E8/D8,D8/E8)) -> 0.88888889 | G8: =IF(F8="","",IF(F8>=1,"On Target",IF(F8>=0.9,"Near Target","Off Target"))) -> Off Target | H8: USD
A9: Engagement Score | B9: Engagement | C9: Higher | D9: 4 | E9: 3.6 | F9: =IF(OR(D9="",E9=0,E9="",D9=0),"",IF(C9="Higher",E9/D9,D9/E9)) -> 0.9 | G9: =IF(F9="","",IF(F9>=1,"On Target",IF(F9>=0.9,"Near Target","Off Target"))) -> Near Target | H9: of 5
A10: eNPS | B10: Engagement | C10: Higher | D10: 30 | E10: 22 | F10: =IF(OR(D10="",E10=0,E10="",D10=0),"",IF(C10="Higher",E10/D10,D10/E10)) -> 0.73333333 | G10: =IF(F10="","",IF(F10>=1,"On Target",IF(F10>=0.9,"Near Target","Off Target"))) -> Off Target | H10: score
A11: Absence Rate | B11: Retention | C11: Lower | D11: 3 | E11: 2.5 | F11: =IF(OR(D11="",E11=0,E11="",D11=0),"",IF(C11="Higher",E11/D11,D11/E11)) -> 1.2 | G11: =IF(F11="","",IF(F11>=1,"On Target",IF(F11>=0.9,"Near Target","Off Target"))) -> On Target | H11: %
A12: Training Completion | B12: Development | C12: Higher | D12: 90 | E12: 78 | F12: =IF(OR(D12="",E12=0,E12="",D12=0),"",IF(C12="Higher",E12/D12,D12/E12)) -> 0.86666667 | G12: =IF(F12="","",IF(F12>=1,"On Target",IF(F12>=0.9,"Near Target","Off Target"))) -> Off Target | H12: %
A13: Internal Promotion | B13: Development | C13: Higher | D13: 20 | E13: 24 | F13: =IF(OR(D13="",E13=0,E13="",D13=0),"",IF(C13="Higher",E13/D13,D13/E13)) -> 1.2 | G13: =IF(F13="","",IF(F13>=1,"On Target",IF(F13>=0.9,"Near Target","Off Target"))) -> On Target | H13: %
A14: Diversity Ratio | B14: Diversity | C14: Higher | D14: 40 | E14: 38 | F14: =IF(OR(D14="",E14=0,E14="",D14=0),"",IF(C14="Higher",E14/D14,D14/E14)) -> 0.95 | G14: =IF(F14="","",IF(F14>=1,"On Target",IF(F14>=0.9,"Near Target","Off Target"))) -> Near Target | H14: %
A15: HR Cost per Employee | B15: Cost | C15: Lower | D15: 1200 | E15: 1100 | F15: =IF(OR(D15="",E15=0,E15="",D15=0),"",IF(C15="Higher",E15/D15,D15/E15)) -> 1.0909091 | G15: =IF(F15="","",IF(F15>=1,"On Target",IF(F15>=0.9,"Near Target","Off Target"))) -> On Target | H15: USD
F16: =IF(OR(D16="",E16=0,E16="",D16=0),"",IF(C16="Higher",E16/D16,D16/E16)) | G16: =IF(F16="","",IF(F16>=1,"On Target",IF(F16>=0.9,"Near Target","Off Target")))
F17: =IF(OR(D17="",E17=0,E17="",D17=0),"",IF(C17="Higher",E17/D17,D17/E17)) | G17: =IF(F17="","",IF(F17>=1,"On Target",IF(F17>=0.9,"Near Target","Off Target")))
F18: =IF(OR(D18="",E18=0,E18="",D18=0),"",IF(C18="Higher",E18/D18,D18/E18)) | G18: =IF(F18="","",IF(F18>=1,"On Target",IF(F18>=0.9,"Near Target","Off Target")))
F19: =IF(OR(D19="",E19=0,E19="",D19=0),"",IF(C19="Higher",E19/D19,D19/E19)) | G19: =IF(F19="","",IF(F19>=1,"On Target",IF(F19>=0.9,"Near Target","Off Target")))
F20: =IF(OR(D20="",E20=0,E20="",D20=0),"",IF(C20="Higher",E20/D20,D20/E20)) | G20: =IF(F20="","",IF(F20>=1,"On Target",IF(F20>=0.9,"Near Target","Off Target")))
F21: =IF(OR(D21="",E21=0,E21="",D21=0),"",IF(C21="Higher",E21/D21,D21/E21)) | G21: =IF(F21="","",IF(F21>=1,"On Target",IF(F21>=0.9,"Near Target","Off Target")))
F22: =IF(OR(D22="",E22=0,E22="",D22=0),"",IF(C22="Higher",E22/D22,D22/E22)) | G22: =IF(F22="","",IF(F22>=1,"On Target",IF(F22>=0.9,"Near Target","Off Target")))
F23: =IF(OR(D23="",E23=0,E23="",D23=0),"",IF(C23="Higher",E23/D23,D23/E23)) | G23: =IF(F23="","",IF(F23>=1,"On Target",IF(F23>=0.9,"Near Target","Off Target")))
F24: =IF(OR(D24="",E24=0,E24="",D24=0),"",IF(C24="Higher",E24/D24,D24/E24)) | G24: =IF(F24="","",IF(F24>=1,"On Target",IF(F24>=0.9,"Near Target","Off Target")))
F25: =IF(OR(D25="",E25=0,E25="",D25=0),"",IF(C25="Higher",E25/D25,D25/E25)) | G25: =IF(F25="","",IF(F25>=1,"On Target",IF(F25>=0.9,"Near Target","Off Target")))
F26: =IF(OR(D26="",E26=0,E26="",D26=0),"",IF(C26="Higher",E26/D26,D26/E26)) | G26: =IF(F26="","",IF(F26>=1,"On Target",IF(F26>=0.9,"Near Target","Off Target")))
F27: =IF(OR(D27="",E27=0,E27="",D27=0),"",IF(C27="Higher",E27/D27,D27/E27)) | G27: =IF(F27="","",IF(F27>=1,"On Target",IF(F27>=0.9,"Near Target","Off Target")))
... F33: =IF(OR(D33="",E33=0,E33="",D33=0),"",IF(C33="Higher",E33/D33,D33/E33)) | G33: =IF(F33="","",IF(F33>=1,"On Target",IF(F33>=0.9,"Near Target","Off Target")))

Sheet Lists
A1: Dropdown Lists
A3: Category | B3: Direction
A4: Retention | B4: Higher
A5: Recruitment | B5: Lower
A6: Engagement
A7: Development
A8: Cost
A9: Diversity
