Workbook

Sheet How to Use
A1: How to Use — Probation Review Tracker
A2: by ExcelGuru.io | Never miss a probation review or let one quietly lapse.
A4: What this template does
A5: Track each new hire's probation period, calculate the end date and days remaining, and flag reviews that are due.
A7: Sheet 1 — Probation
A8: Enter the start date and probation length in months. The end date, days remaining and status calculate automatically.
A10: Sheet 2 — Dashboard
A11: See who is in probation, which reviews are due or due soon, and the next review date.
A13: Colour guide
A14: Green means On Track or Passed, amber means Due Soon or Extended, and red means Review Due or Failed.
A16: Tips
A17: Schedule the review before the end date, not after. Record the outcome promptly so the status and counts stay accurate.

Sheet Dashboard
A1: PROBATION REVIEW — DASHBOARD
A3: Tracked | C3: In Probation | E3: Review Due | G3: Due Soon (<=14d)
A4: =COUNTA(Probation!B4:B43) -> 15 | C4: =COUNTIF(Probation!H4:H43,"Pending") -> 11 | E4: =COUNTIF(Probation!I4:I43,"Review Due") -> 3 | G4: =COUNTIF(Probation!I4:I43,"Due Soon") -> 7
A6: Passed | C6: Failed / Extended
A7: =COUNTIF(Probation!H4:H43,"Passed") -> 2 | C7: =COUNTIF(Probation!H4:H43,"Failed")+COUNTIF(Probation!H4:H43,"Extended") -> 2
A10: Next Review Due | D10: Status Breakdown
A11: =IFERROR(MIN(Probation!K4:K43),"") -> 46180 | D11: Status | E11: Count
D12: On Track | E12: =COUNTIF(Probation!I4:I43,"On Track") -> 1
A13: Outcome Breakdown | D13: Due Soon | E13: =COUNTIF(Probation!I4:I43,"Due Soon") -> 7
A14: Outcome | B14: Count | D14: Review Due | E14: =COUNTIF(Probation!I4:I43,"Review Due") -> 3
A15: Pending | B15: =COUNTIF(Probation!H4:H43,"Pending") -> 11 | D15: Passed | E15: =COUNTIF(Probation!I4:I43,"Passed") -> 2
A16: Passed | B16: =COUNTIF(Probation!H4:H43,"Passed") -> 2 | D16: Extended | E16: =COUNTIF(Probation!I4:I43,"Extended") -> 1
A17: Extended | B17: =COUNTIF(Probation!H4:H43,"Extended") -> 1 | D17: Failed | E17: =COUNTIF(Probation!I4:I43,"Failed") -> 1
A18: Failed | B18: =COUNTIF(Probation!H4:H43,"Failed") -> 1

Sheet Probation
A1: Probation Review Tracker — end date, days remaining & status auto-calculate
A3: Emp ID | B3: Name | C3: Department | D3: Start Date | E3: Probation (mo) | F3: Probation End | G3: Days Remaining | H3: Outcome | I3: Status
A4: E-016 | B4: Ian Wells | C4: Sales | D4: 46013 | E4: 6 | F4: =IF(OR(D4="",E4=""),"",EDATE(D4,E4)) -> 46195 | G4: =IF(F4="","",F4-TODAY()) -> 11 | H4: Pending | I4: =IF(D4="","",IF(H4="Passed","Passed",IF(H4="Failed","Failed",IF(H4="Extended","Extended",IF(F4<=TODAY(),"Review Due",IF(F4-TODAY()<=14,"Due Soon","On Track")))))) -> Due Soon | K4: =IF(AND(H4="Pending",F4<>""),F4,"") -> 46195
A5: E-017 | B5: Julia Stone | C5: Finance | D5: 46008 | E5: 6 | F5: =IF(OR(D5="",E5=""),"",EDATE(D5,E5)) -> 46190 | G5: =IF(F5="","",F5-TODAY()) -> 6 | H5: Pending | I5: =IF(D5="","",IF(H5="Passed","Passed",IF(H5="Failed","Failed",IF(H5="Extended","Extended",IF(F5<=TODAY(),"Review Due",IF(F5-TODAY()<=14,"Due Soon","On Track")))))) -> Due Soon | K5: =IF(AND(H5="Pending",F5<>""),F5,"") -> 46190
A6: E-018 | B6: Kofi Mensah | C6: Sales | D6: 46103 | E6: 3 | F6: =IF(OR(D6="",E6=""),"",EDATE(D6,E6)) -> 46195 | G6: =IF(F6="","",F6-TODAY()) -> 11 | H6: Pending | I6: =IF(D6="","",IF(H6="Passed","Passed",IF(H6="Failed","Failed",IF(H6="Extended","Extended",IF(F6<=TODAY(),"Review Due",IF(F6-TODAY()<=14,"Due Soon","On Track")))))) -> Due Soon | K6: =IF(AND(H6="Pending",F6<>""),F6,"") -> 46195
A7: E-019 | B7: Lena Vogel | C7: Engineering | D7: 46098 | E7: 3 | F7: =IF(OR(D7="",E7=""),"",EDATE(D7,E7)) -> 46190 | G7: =IF(F7="","",F7-TODAY()) -> 6 | H7: Pending | I7: =IF(D7="","",IF(H7="Passed","Passed",IF(H7="Failed","Failed",IF(H7="Extended","Extended",IF(F7<=TODAY(),"Review Due",IF(F7-TODAY()<=14,"Due Soon","On Track")))))) -> Due Soon | K7: =IF(AND(H7="Pending",F7<>""),F7,"") -> 46190
A8: E-020 | B8: Maya Singh | C8: Marketing | D8: 46023 | E8: 6 | F8: =IF(OR(D8="",E8=""),"",EDATE(D8,E8)) -> 46204 | G8: =IF(F8="","",F8-TODAY()) -> 20 | H8: Pending | I8: =IF(D8="","",IF(H8="Passed","Passed",IF(H8="Failed","Failed",IF(H8="Extended","Extended",IF(F8<=TODAY(),"Review Due",IF(F8-TODAY()<=14,"Due Soon","On Track")))))) -> On Track | K8: =IF(AND(H8="Pending",F8<>""),F8,"") -> 46204
A9: E-021 | B9: Noah Reed | C9: Operations | D9: 46088 | E9: 3 | F9: =IF(OR(D9="",E9=""),"",EDATE(D9,E9)) -> 46180 | G9: =IF(F9="","",F9-TODAY()) -> -4 | H9: Extended | I9: =IF(D9="","",IF(H9="Passed","Passed",IF(H9="Failed","Failed",IF(H9="Extended","Extended",IF(F9<=TODAY(),"Review Due",IF(F9-TODAY()<=14,"Due Soon","On Track")))))) -> Extended | K9: =IF(AND(H9="Pending",F9<>""),F9,"")
A10: E-022 | B10: Olivia Tan | C10: HR | D10: 45983 | E10: 6 | F10: =IF(OR(D10="",E10=""),"",EDATE(D10,E10)) -> 46164 | G10: =IF(F10="","",F10-TODAY()) -> -20 | H10: Passed | I10: =IF(D10="","",IF(H10="Passed","Passed",IF(H10="Failed","Failed",IF(H10="Extended","Extended",IF(F10<=TODAY(),"Review Due",IF(F10-TODAY()<=14,"Due Soon","On Track")))))) -> Passed | K10: =IF(AND(H10="Pending",F10<>""),F10,"")
A11: E-023 | B11: Paul Adams | C11: Engineering | D11: 45998 | E11: 6 | F11: =IF(OR(D11="",E11=""),"",EDATE(D11,E11)) -> 46180 | G11: =IF(F11="","",F11-TODAY()) -> -4 | H11: Pending | I11: =IF(D11="","",IF(H11="Passed","Passed",IF(H11="Failed","Failed",IF(H11="Extended","Extended",IF(F11<=TODAY(),"Review Due",IF(F11-TODAY()<=14,"Due Soon","On Track")))))) -> Review Due | K11: =IF(AND(H11="Pending",F11<>""),F11,"") -> 46180
A12: E-024 | B12: Quinn Boyd | C12: Finance | D12: 46083 | E12: 3 | F12: =IF(OR(D12="",E12=""),"",EDATE(D12,E12)) -> 46175 | G12: =IF(F12="","",F12-TODAY()) -> -9 | H12: Failed | I12: =IF(D12="","",IF(H12="Passed","Passed",IF(H12="Failed","Failed",IF(H12="Extended","Extended",IF(F12<=TODAY(),"Review Due",IF(F12-TODAY()<=14,"Due Soon","On Track")))))) -> Failed | K12: =IF(AND(H12="Pending",F12<>""),F12,"")
A13: E-025 | B13: Rosa Diaz | C13: Operations | D13: 46005 | E13: 6 | F13: =IF(OR(D13="",E13=""),"",EDATE(D13,E13)) -> 46187 | G13: =IF(F13="","",F13-TODAY()) -> 3 | H13: Pending | I13: =IF(D13="","",IF(H13="Passed","Passed",IF(H13="Failed","Failed",IF(H13="Extended","Extended",IF(F13<=TODAY(),"Review Due",IF(F13-TODAY()<=14,"Due Soon","On Track")))))) -> Due Soon | K13: =IF(AND(H13="Pending",F13<>""),F13,"") -> 46187
A14: E-026 | B14: Sam Lee | C14: Marketing | D14: 46095 | E14: 3 | F14: =IF(OR(D14="",E14=""),"",EDATE(D14,E14)) -> 46187 | G14: =IF(F14="","",F14-TODAY()) -> 3 | H14: Pending | I14: =IF(D14="","",IF(H14="Passed","Passed",IF(H14="Failed","Failed",IF(H14="Extended","Extended",IF(F14<=TODAY(),"Review Due",IF(F14-TODAY()<=14,"Due Soon","On Track")))))) -> Due Soon | K14: =IF(AND(H14="Pending",F14<>""),F14,"") -> 46187
A15: E-027 | B15: Tara Khan | C15: Sales | D15: 45978 | E15: 6 | F15: =IF(OR(D15="",E15=""),"",EDATE(D15,E15)) -> 46159 | G15: =IF(F15="","",F15-TODAY()) -> -25 | H15: Passed | I15: =IF(D15="","",IF(H15="Passed","Passed",IF(H15="Failed","Failed",IF(H15="Extended","Extended",IF(F15<=TODAY(),"Review Due",IF(F15-TODAY()<=14,"Due Soon","On Track")))))) -> Passed | K15: =IF(AND(H15="Pending",F15<>""),F15,"")
... A18: E-030 | B18: Will Park | C18: Finance | D18: 46004 | E18: 6 | F18: =IF(OR(D18="",E18=""),"",EDATE(D18,E18)) -> 46186 | G18: =IF(F18="","",F18-TODAY()) -> 2 | H18: Pending | I18: =IF(D18="","",IF(H18="Passed","Passed",IF(H18="Failed","Failed",IF(H18="Extended","Extended",IF(F18<=TODAY(),"Review Due",IF(F18-TODAY()<=14,"Due Soon","On Track")))))) -> Due Soon | K18: =IF(AND(H18="Pending",F18<>""),F18,"") -> 46186
F19: =IF(OR(D19="",E19=""),"",EDATE(D19,E19)) | G19: =IF(F19="","",F19-TODAY()) | I19: =IF(D19="","",IF(H19="Passed","Passed",IF(H19="Failed","Failed",IF(H19="Extended","Extended",IF(F19<=TODAY(),"Review Due",IF(F19-TODAY()<=14,"Due Soon","On Track")))))) | K19: =IF(AND(H19="Pending",F19<>""),F19,"")
F20: =IF(OR(D20="",E20=""),"",EDATE(D20,E20)) | G20: =IF(F20="","",F20-TODAY()) | I20: =IF(D20="","",IF(H20="Passed","Passed",IF(H20="Failed","Failed",IF(H20="Extended","Extended",IF(F20<=TODAY(),"Review Due",IF(F20-TODAY()<=14,"Due Soon","On Track")))))) | K20: =IF(AND(H20="Pending",F20<>""),F20,"")
F21: =IF(OR(D21="",E21=""),"",EDATE(D21,E21)) | G21: =IF(F21="","",F21-TODAY()) | I21: =IF(D21="","",IF(H21="Passed","Passed",IF(H21="Failed","Failed",IF(H21="Extended","Extended",IF(F21<=TODAY(),"Review Due",IF(F21-TODAY()<=14,"Due Soon","On Track")))))) | K21: =IF(AND(H21="Pending",F21<>""),F21,"")
F22: =IF(OR(D22="",E22=""),"",EDATE(D22,E22)) | G22: =IF(F22="","",F22-TODAY()) | I22: =IF(D22="","",IF(H22="Passed","Passed",IF(H22="Failed","Failed",IF(H22="Extended","Extended",IF(F22<=TODAY(),"Review Due",IF(F22-TODAY()<=14,"Due Soon","On Track")))))) | K22: =IF(AND(H22="Pending",F22<>""),F22,"")
F23: =IF(OR(D23="",E23=""),"",EDATE(D23,E23)) | G23: =IF(F23="","",F23-TODAY()) | I23: =IF(D23="","",IF(H23="Passed","Passed",IF(H23="Failed","Failed",IF(H23="Extended","Extended",IF(F23<=TODAY(),"Review Due",IF(F23-TODAY()<=14,"Due Soon","On Track")))))) | K23: =IF(AND(H23="Pending",F23<>""),F23,"")
F24: =IF(OR(D24="",E24=""),"",EDATE(D24,E24)) | G24: =IF(F24="","",F24-TODAY()) | I24: =IF(D24="","",IF(H24="Passed","Passed",IF(H24="Failed","Failed",IF(H24="Extended","Extended",IF(F24<=TODAY(),"Review Due",IF(F24-TODAY()<=14,"Due Soon","On Track")))))) | K24: =IF(AND(H24="Pending",F24<>""),F24,"")
F25: =IF(OR(D25="",E25=""),"",EDATE(D25,E25)) | G25: =IF(F25="","",F25-TODAY()) | I25: =IF(D25="","",IF(H25="Passed","Passed",IF(H25="Failed","Failed",IF(H25="Extended","Extended",IF(F25<=TODAY(),"Review Due",IF(F25-TODAY()<=14,"Due Soon","On Track")))))) | K25: =IF(AND(H25="Pending",F25<>""),F25,"")
F26: =IF(OR(D26="",E26=""),"",EDATE(D26,E26)) | G26: =IF(F26="","",F26-TODAY()) | I26: =IF(D26="","",IF(H26="Passed","Passed",IF(H26="Failed","Failed",IF(H26="Extended","Extended",IF(F26<=TODAY(),"Review Due",IF(F26-TODAY()<=14,"Due Soon","On Track")))))) | K26: =IF(AND(H26="Pending",F26<>""),F26,"")
F27: =IF(OR(D27="",E27=""),"",EDATE(D27,E27)) | G27: =IF(F27="","",F27-TODAY()) | I27: =IF(D27="","",IF(H27="Passed","Passed",IF(H27="Failed","Failed",IF(H27="Extended","Extended",IF(F27<=TODAY(),"Review Due",IF(F27-TODAY()<=14,"Due Soon","On Track")))))) | K27: =IF(AND(H27="Pending",F27<>""),F27,"")
F28: =IF(OR(D28="",E28=""),"",EDATE(D28,E28)) | G28: =IF(F28="","",F28-TODAY()) | I28: =IF(D28="","",IF(H28="Passed","Passed",IF(H28="Failed","Failed",IF(H28="Extended","Extended",IF(F28<=TODAY(),"Review Due",IF(F28-TODAY()<=14,"Due Soon","On Track")))))) | K28: =IF(AND(H28="Pending",F28<>""),F28,"")
F29: =IF(OR(D29="",E29=""),"",EDATE(D29,E29)) | G29: =IF(F29="","",F29-TODAY()) | I29: =IF(D29="","",IF(H29="Passed","Passed",IF(H29="Failed","Failed",IF(H29="Extended","Extended",IF(F29<=TODAY(),"Review Due",IF(F29-TODAY()<=14,"Due Soon","On Track")))))) | K29: =IF(AND(H29="Pending",F29<>""),F29,"")
F30: =IF(OR(D30="",E30=""),"",EDATE(D30,E30)) | G30: =IF(F30="","",F30-TODAY()) | I30: =IF(D30="","",IF(H30="Passed","Passed",IF(H30="Failed","Failed",IF(H30="Extended","Extended",IF(F30<=TODAY(),"Review Due",IF(F30-TODAY()<=14,"Due Soon","On Track")))))) | K30: =IF(AND(H30="Pending",F30<>""),F30,"")
... F43: =IF(OR(D43="",E43=""),"",EDATE(D43,E43)) | G43: =IF(F43="","",F43-TODAY()) | I43: =IF(D43="","",IF(H43="Passed","Passed",IF(H43="Failed","Failed",IF(H43="Extended","Extended",IF(F43<=TODAY(),"Review Due",IF(F43-TODAY()<=14,"Due Soon","On Track")))))) | K43: =IF(AND(H43="Pending",F43<>""),F43,"")

Sheet Lists
A1: Dropdown Lists
A3: Department | B3: Outcome
A4: Sales | B4: Pending
A5: Engineering | B5: Passed
A6: Operations | B6: Extended
A7: Finance | B7: Failed
A8: HR
A9: Marketing
