Workbook

Sheet How to Use
A1: How to Use — Weighted Decision Matrix
A2: by ExcelGuru.io | ExcelGuru.io | Score your options objectively and rank the winner
A4: 1. Set your weights
A5: On the Lists tab, set how much each criterion matters. The weights should add up to 1.00.
A7: 2. List your options
A8: Enter each option you are choosing between in the Option column.
A10: 3. Score each criterion
A11: Rate every option from 1 to 5 on cost, quality, speed and risk.
A13: 4. Read the ranking
A14: The weighted score and rank update instantly, so the best option is clear and objective.

Sheet Dashboard
A1: Weighted Decision Matrix — Dashboard
A3: Options | C3: Best Score | E3: Best Option | G3: Lowest Score
A4: =COUNTA(Matrix!A4:A43) -> 4 | C4: =IFERROR(MAX(Matrix!F4:F43),0) -> 4.05 | E4: =IFERROR(INDEX(Matrix!A4:A43,MATCH(MAX(Matrix!F4:F43),Matrix!F4:F43,0)),"") -> Supplier A | G4: =IFERROR(SMALL(Matrix!F4:F43,1),0) -> 3.35
A6: Criteria | C6: Total Weight
A7: =COUNTA(Lists!A4:A7) -> 4 | C7: =SUM(Lists!B4:B7) -> 1

Sheet Matrix
A1: Weighted Decision Matrix
A2: ExcelGuru.io | Score your options objectively and rank the winner
A3: Option | B3: Cost (1-5) | C3: Quality (1-5) | D3: Speed (1-5) | E3: Risk (1-5) | F3: Weighted Score | G3: Rank
A4: Supplier A | B4: 4 | C4: 5 | D4: 3 | E4: 4 | F4: =IF(A4="","",B4*Lists!$B$4+C4*Lists!$B$5+D4*Lists!$B$6+E4*Lists!$B$7) -> 4.05 | G4: =IF(A4="","",RANK(F4,$F$4:$F$43)) -> 1
A5: Supplier B | B5: 5 | C5: 3 | D5: 4 | E5: 3 | F5: =IF(A5="","",B5*Lists!$B$4+C5*Lists!$B$5+D5*Lists!$B$6+E5*Lists!$B$7) -> 3.85 | G5: =IF(A5="","",RANK(F5,$F$4:$F$43)) -> 3
A6: Supplier C | B6: 3 | C6: 4 | D6: 5 | E6: 4 | F6: =IF(A6="","",B6*Lists!$B$4+C6*Lists!$B$5+D6*Lists!$B$6+E6*Lists!$B$7) -> 3.95 | G6: =IF(A6="","",RANK(F6,$F$4:$F$43)) -> 2
A7: In-house | B7: 2 | C7: 5 | D7: 2 | E7: 5 | F7: =IF(A7="","",B7*Lists!$B$4+C7*Lists!$B$5+D7*Lists!$B$6+E7*Lists!$B$7) -> 3.35 | G7: =IF(A7="","",RANK(F7,$F$4:$F$43)) -> 4
F8: =IF(A8="","",B8*Lists!$B$4+C8*Lists!$B$5+D8*Lists!$B$6+E8*Lists!$B$7) | G8: =IF(A8="","",RANK(F8,$F$4:$F$43))
F9: =IF(A9="","",B9*Lists!$B$4+C9*Lists!$B$5+D9*Lists!$B$6+E9*Lists!$B$7) | G9: =IF(A9="","",RANK(F9,$F$4:$F$43))
F10: =IF(A10="","",B10*Lists!$B$4+C10*Lists!$B$5+D10*Lists!$B$6+E10*Lists!$B$7) | G10: =IF(A10="","",RANK(F10,$F$4:$F$43))
F11: =IF(A11="","",B11*Lists!$B$4+C11*Lists!$B$5+D11*Lists!$B$6+E11*Lists!$B$7) | G11: =IF(A11="","",RANK(F11,$F$4:$F$43))
F12: =IF(A12="","",B12*Lists!$B$4+C12*Lists!$B$5+D12*Lists!$B$6+E12*Lists!$B$7) | G12: =IF(A12="","",RANK(F12,$F$4:$F$43))
F13: =IF(A13="","",B13*Lists!$B$4+C13*Lists!$B$5+D13*Lists!$B$6+E13*Lists!$B$7) | G13: =IF(A13="","",RANK(F13,$F$4:$F$43))
F14: =IF(A14="","",B14*Lists!$B$4+C14*Lists!$B$5+D14*Lists!$B$6+E14*Lists!$B$7) | G14: =IF(A14="","",RANK(F14,$F$4:$F$43))
F15: =IF(A15="","",B15*Lists!$B$4+C15*Lists!$B$5+D15*Lists!$B$6+E15*Lists!$B$7) | G15: =IF(A15="","",RANK(F15,$F$4:$F$43))
F16: =IF(A16="","",B16*Lists!$B$4+C16*Lists!$B$5+D16*Lists!$B$6+E16*Lists!$B$7) | G16: =IF(A16="","",RANK(F16,$F$4:$F$43))
F17: =IF(A17="","",B17*Lists!$B$4+C17*Lists!$B$5+D17*Lists!$B$6+E17*Lists!$B$7) | G17: =IF(A17="","",RANK(F17,$F$4:$F$43))
F18: =IF(A18="","",B18*Lists!$B$4+C18*Lists!$B$5+D18*Lists!$B$6+E18*Lists!$B$7) | G18: =IF(A18="","",RANK(F18,$F$4:$F$43))
F19: =IF(A19="","",B19*Lists!$B$4+C19*Lists!$B$5+D19*Lists!$B$6+E19*Lists!$B$7) | G19: =IF(A19="","",RANK(F19,$F$4:$F$43))
... F43: =IF(A43="","",B43*Lists!$B$4+C43*Lists!$B$5+D43*Lists!$B$6+E43*Lists!$B$7) | G43: =IF(A43="","",RANK(F43,$F$4:$F$43))

Sheet Lists
A1: Lists — edit these to customise dropdowns
A3: Criterion | B3: Weight
A4: Cost | B4: 0.3
A5: Quality | B5: 0.3
A6: Speed | B6: 0.25
A7: Risk | B7: 0.15
