Workbook

Sheet How to Use
A1: How to Use — Equipment Checkout Log
A2: by ExcelGuru.io | ExcelGuru.io | Know who has what, and what is overdue back
A4: 1. Log each checkout
A5: Enter the item, who is borrowing it, and the checkout and due-back dates.
A7: 2. Mark returns
A8: Set Returned? to Yes when an item comes back. The status updates automatically.
A10: 3. Watch for overdue items
A11: Anything past its due-back date shows as Overdue in red.
A13: 4. Use the dashboard
A14: See how many items are out, overdue, and who has had something longest.

Sheet Dashboard
A1: Equipment Checkout Log — Dashboard
A3: Total Records | C3: Checked Out | E3: Overdue | G3: Returned
A4: =COUNTA('Checkout Log'!A4:A43) -> 5 | C4: =COUNTIF('Checkout Log'!H4:H43,"Out") -> 2 | E4: =COUNTIF('Checkout Log'!H4:H43,"Overdue") -> 2 | G4: =COUNTIF('Checkout Log'!F4:F43,"Yes") -> 1
A6: Distinct Borrowers | C6: Longest Out (days)
A7: =SUMPRODUCT(('Checkout Log'!C4:C43<>"")/COUNTIF('Checkout Log'!C4:C43,'Checkout Log'!C4:C43&"")) -> 5 | C7: =IFERROR(MAX('Checkout Log'!G4:G43),0) -> 5

Sheet Checkout Log
A1: Equipment Checkout Log
A2: ExcelGuru.io | Know who has what, and what is overdue back
A3: Item | B3: Asset Tag | C3: Borrower | D3: Checkout Date | E3: Due Back | F3: Returned? | G3: Days Out | H3: Status
A4: Projector EPSON-X | B4: AV-001 | C4: Alex | D4: =TODAY()-3 -> 46183 | E4: =TODAY()-1 -> 46185 | F4: No | G4: =IF(OR(D4="",F4="Yes"),"",TODAY()-D4) -> 3 | H4: =IF(D4="","",IF(F4="Yes","Returned",IF(E4<TODAY(),"Overdue","Out"))) -> Overdue
A5: MacBook Pro 14 | B5: IT-204 | C5: Sam | D5: =TODAY()-2 -> 46184 | E5: =TODAY()+5 -> 46191 | F5: No | G5: =IF(OR(D5="",F5="Yes"),"",TODAY()-D5) -> 2 | H5: =IF(D5="","",IF(F5="Yes","Returned",IF(E5<TODAY(),"Overdue","Out"))) -> Out
A6: DSLR Camera | B6: AV-008 | C6: Jordan | D6: =TODAY()-10 -> 46176 | E6: =TODAY()-6 -> 46180 | F6: Yes | G6: =IF(OR(D6="",F6="Yes"),"",TODAY()-D6) | H6: =IF(D6="","",IF(F6="Yes","Returned",IF(E6<TODAY(),"Overdue","Out"))) -> Returned
A7: Cordless drill | B7: TL-031 | C7: Priya | D7: =TODAY()-1 -> 46185 | E7: =TODAY()+2 -> 46188 | F7: No | G7: =IF(OR(D7="",F7="Yes"),"",TODAY()-D7) -> 1 | H7: =IF(D7="","",IF(F7="Yes","Returned",IF(E7<TODAY(),"Overdue","Out"))) -> Out
A8: Conference mic | B8: AV-015 | C8: Chris | D8: =TODAY()-5 -> 46181 | E8: =TODAY()-2 -> 46184 | F8: No | G8: =IF(OR(D8="",F8="Yes"),"",TODAY()-D8) -> 5 | H8: =IF(D8="","",IF(F8="Yes","Returned",IF(E8<TODAY(),"Overdue","Out"))) -> Overdue
G9: =IF(OR(D9="",F9="Yes"),"",TODAY()-D9) | H9: =IF(D9="","",IF(F9="Yes","Returned",IF(E9<TODAY(),"Overdue","Out")))
G10: =IF(OR(D10="",F10="Yes"),"",TODAY()-D10) | H10: =IF(D10="","",IF(F10="Yes","Returned",IF(E10<TODAY(),"Overdue","Out")))
G11: =IF(OR(D11="",F11="Yes"),"",TODAY()-D11) | H11: =IF(D11="","",IF(F11="Yes","Returned",IF(E11<TODAY(),"Overdue","Out")))
G12: =IF(OR(D12="",F12="Yes"),"",TODAY()-D12) | H12: =IF(D12="","",IF(F12="Yes","Returned",IF(E12<TODAY(),"Overdue","Out")))
G13: =IF(OR(D13="",F13="Yes"),"",TODAY()-D13) | H13: =IF(D13="","",IF(F13="Yes","Returned",IF(E13<TODAY(),"Overdue","Out")))
G14: =IF(OR(D14="",F14="Yes"),"",TODAY()-D14) | H14: =IF(D14="","",IF(F14="Yes","Returned",IF(E14<TODAY(),"Overdue","Out")))
G15: =IF(OR(D15="",F15="Yes"),"",TODAY()-D15) | H15: =IF(D15="","",IF(F15="Yes","Returned",IF(E15<TODAY(),"Overdue","Out")))
G16: =IF(OR(D16="",F16="Yes"),"",TODAY()-D16) | H16: =IF(D16="","",IF(F16="Yes","Returned",IF(E16<TODAY(),"Overdue","Out")))
G17: =IF(OR(D17="",F17="Yes"),"",TODAY()-D17) | H17: =IF(D17="","",IF(F17="Yes","Returned",IF(E17<TODAY(),"Overdue","Out")))
G18: =IF(OR(D18="",F18="Yes"),"",TODAY()-D18) | H18: =IF(D18="","",IF(F18="Yes","Returned",IF(E18<TODAY(),"Overdue","Out")))
G19: =IF(OR(D19="",F19="Yes"),"",TODAY()-D19) | H19: =IF(D19="","",IF(F19="Yes","Returned",IF(E19<TODAY(),"Overdue","Out")))
G20: =IF(OR(D20="",F20="Yes"),"",TODAY()-D20) | H20: =IF(D20="","",IF(F20="Yes","Returned",IF(E20<TODAY(),"Overdue","Out")))
... G43: =IF(OR(D43="",F43="Yes"),"",TODAY()-D43) | H43: =IF(D43="","",IF(F43="Yes","Returned",IF(E43<TODAY(),"Overdue","Out")))

Sheet Lists
A1: Lists — edit these to customise dropdowns
A3: Returned? | B3: Borrowers (sample)
A4: Yes | B4: Alex
A5: No | B5: Sam
B6: Jordan
B7: Priya
B8: Chris
