Workbook

Sheet How to Use
A1: How to Use — Benefits Enrollment Tracker
A2: by ExcelGuru.io | See who is enrolled in what, and what it costs you.
A4: What this template does
A5: Track each employee's benefit enrolment, count their benefits, calculate the employer cost and assign a coverage level.
A7: Sheet 1 — Benefits
A8: Mark each benefit Y or N for every employee. The count, monthly cost and coverage level calculate automatically.
A10: Sheet 2 — Dashboard
A11: See enrolment by benefit, total monthly cost, and how many staff are fully or not covered.
A13: The cost figure
A14: Each benefit has a set employer cost on the Lists tab, and the monthly cost adds up whatever each person is enrolled in.
A16: Tips
A17: Update enrolment at each renewal window. Follow up with anyone not enrolled to make sure it is a choice, not an oversight.

Sheet Dashboard
A1: BENEFITS ENROLLMENT — DASHBOARD
A3: Employees | C3: Health Enrolled | E3: Avg Benefits / Person | G3: Total Monthly Cost
A4: =COUNTA(Benefits!B4:B43) -> 15 | C4: =COUNTIF(Benefits!D4:D43,"Y") -> 14 | E4: =IFERROR(SUM(Benefits!I4:I43)/COUNTA(Benefits!B4:B43),0) -> 3.2 | G4: =SUM(Benefits!J4:J43) -> 8460
A6: Fully Covered | C6: Not Enrolled
A7: =COUNTIF(Benefits!K4:K43,"Full") -> 8 | C7: =COUNTIF(Benefits!K4:K43,"None") -> 1
A10: Enrollment by Benefit | D10: Coverage Level
A11: Benefit | B11: Enrolled | D11: Level | E11: Count
A12: Health | B12: =COUNTIF(Benefits!D4:D43,"Y") -> 14 | D12: Full | E12: =COUNTIF(Benefits!K4:K43,"Full") -> 8
A13: Dental | B13: =COUNTIF(Benefits!E4:E43,"Y") -> 10 | D13: Partial | E13: =COUNTIF(Benefits!K4:K43,"Partial") -> 5
A14: Vision | B14: =COUNTIF(Benefits!F4:F43,"Y") -> 6 | D14: Basic | E14: =COUNTIF(Benefits!K4:K43,"Basic") -> 1
A15: Life | B15: =COUNTIF(Benefits!G4:G43,"Y") -> 8 | D15: None | E15: =COUNTIF(Benefits!K4:K43,"None") -> 1
A16: Retirement | B16: =COUNTIF(Benefits!H4:H43,"Y") -> 10

Sheet Benefits
A1: Benefits Enrollment Tracker — mark Y/N; count, cost & coverage auto-calculate
A3: Emp ID | B3: Name | C3: Department | D3: Health | E3: Dental | F3: Vision | G3: Life | H3: Retirement | I3: Enrolled | J3: Monthly Cost | K3: Coverage
A4: E-001 | B4: Sarah Mitchell | C4: Sales | D4: Y | E4: Y | F4: Y | G4: Y | H4: Y | I4: =IF(B4="","",COUNTIF(D4:H4,"Y")) -> 5 | J4: =IF(B4="","",(D4="Y")*400+(E4="Y")*50+(F4="Y")*20+(G4="Y")*30+(H4="Y")*200) -> 700 | K4: =IF(B4="","",IF(I4>=4,"Full",IF(I4>=2,"Partial",IF(I4>=1,"Basic","None")))) -> Full
A5: E-002 | B5: James Park | C5: Engineering | D5: Y | E5: Y | F5: N | G5: Y | H5: Y | I5: =IF(B5="","",COUNTIF(D5:H5,"Y")) -> 4 | J5: =IF(B5="","",(D5="Y")*400+(E5="Y")*50+(F5="Y")*20+(G5="Y")*30+(H5="Y")*200) -> 680 | K5: =IF(B5="","",IF(I5>=4,"Full",IF(I5>=2,"Partial",IF(I5>=1,"Basic","None")))) -> Full
A6: E-003 | B6: Aisha Khan | C6: Operations | D6: Y | E6: Y | F6: Y | G6: N | H6: Y | I6: =IF(B6="","",COUNTIF(D6:H6,"Y")) -> 4 | J6: =IF(B6="","",(D6="Y")*400+(E6="Y")*50+(F6="Y")*20+(G6="Y")*30+(H6="Y")*200) -> 670 | K6: =IF(B6="","",IF(I6>=4,"Full",IF(I6>=2,"Partial",IF(I6>=1,"Basic","None")))) -> Full
A7: E-004 | B7: Diego Lopez | C7: Finance | D7: Y | E7: N | F7: N | G7: N | H7: Y | I7: =IF(B7="","",COUNTIF(D7:H7,"Y")) -> 2 | J7: =IF(B7="","",(D7="Y")*400+(E7="Y")*50+(F7="Y")*20+(G7="Y")*30+(H7="Y")*200) -> 600 | K7: =IF(B7="","",IF(I7>=4,"Full",IF(I7>=2,"Partial",IF(I7>=1,"Basic","None")))) -> Partial
A8: E-005 | B8: Emma Wright | C8: HR | D8: Y | E8: Y | F8: Y | G8: Y | H8: N | I8: =IF(B8="","",COUNTIF(D8:H8,"Y")) -> 4 | J8: =IF(B8="","",(D8="Y")*400+(E8="Y")*50+(F8="Y")*20+(G8="Y")*30+(H8="Y")*200) -> 500 | K8: =IF(B8="","",IF(I8>=4,"Full",IF(I8>=2,"Partial",IF(I8>=1,"Basic","None")))) -> Full
A9: E-006 | B9: Liam Chen | C9: Marketing | D9: Y | E9: N | F9: N | G9: Y | H9: Y | I9: =IF(B9="","",COUNTIF(D9:H9,"Y")) -> 3 | J9: =IF(B9="","",(D9="Y")*400+(E9="Y")*50+(F9="Y")*20+(G9="Y")*30+(H9="Y")*200) -> 630 | K9: =IF(B9="","",IF(I9>=4,"Full",IF(I9>=2,"Partial",IF(I9>=1,"Basic","None")))) -> Partial
A10: E-007 | B10: Nadia Haq | C10: Sales | D10: Y | E10: Y | F10: N | G10: N | H10: N | I10: =IF(B10="","",COUNTIF(D10:H10,"Y")) -> 2 | J10: =IF(B10="","",(D10="Y")*400+(E10="Y")*50+(F10="Y")*20+(G10="Y")*30+(H10="Y")*200) -> 450 | K10: =IF(B10="","",IF(I10>=4,"Full",IF(I10>=2,"Partial",IF(I10>=1,"Basic","None")))) -> Partial
A11: E-008 | B11: Tom Vance | C11: Engineering | D11: Y | E11: Y | F11: Y | G11: Y | H11: Y | I11: =IF(B11="","",COUNTIF(D11:H11,"Y")) -> 5 | J11: =IF(B11="","",(D11="Y")*400+(E11="Y")*50+(F11="Y")*20+(G11="Y")*30+(H11="Y")*200) -> 700 | K11: =IF(B11="","",IF(I11>=4,"Full",IF(I11>=2,"Partial",IF(I11>=1,"Basic","None")))) -> Full
A12: E-009 | B12: Grace Lee | C12: Operations | D12: Y | E12: N | F12: N | G12: N | H12: N | I12: =IF(B12="","",COUNTIF(D12:H12,"Y")) -> 1 | J12: =IF(B12="","",(D12="Y")*400+(E12="Y")*50+(F12="Y")*20+(G12="Y")*30+(H12="Y")*200) -> 400 | K12: =IF(B12="","",IF(I12>=4,"Full",IF(I12>=2,"Partial",IF(I12>=1,"Basic","None")))) -> Basic
A13: E-010 | B13: Omar Said | C13: Finance | D13: Y | E13: Y | F13: N | G13: Y | H13: Y | I13: =IF(B13="","",COUNTIF(D13:H13,"Y")) -> 4 | J13: =IF(B13="","",(D13="Y")*400+(E13="Y")*50+(F13="Y")*20+(G13="Y")*30+(H13="Y")*200) -> 680 | K13: =IF(B13="","",IF(I13>=4,"Full",IF(I13>=2,"Partial",IF(I13>=1,"Basic","None")))) -> Full
A14: E-011 | B14: Chloe Adams | C14: HR | D14: Y | E14: Y | F14: Y | G14: N | H14: N | I14: =IF(B14="","",COUNTIF(D14:H14,"Y")) -> 3 | J14: =IF(B14="","",(D14="Y")*400+(E14="Y")*50+(F14="Y")*20+(G14="Y")*30+(H14="Y")*200) -> 470 | K14: =IF(B14="","",IF(I14>=4,"Full",IF(I14>=2,"Partial",IF(I14>=1,"Basic","None")))) -> Partial
A15: E-012 | B15: Ben Foster | C15: Marketing | D15: N | E15: N | F15: N | G15: N | H15: N | I15: =IF(B15="","",COUNTIF(D15:H15,"Y")) -> 0 | J15: =IF(B15="","",(D15="Y")*400+(E15="Y")*50+(F15="Y")*20+(G15="Y")*30+(H15="Y")*200) -> 0 | K15: =IF(B15="","",IF(I15>=4,"Full",IF(I15>=2,"Partial",IF(I15>=1,"Basic","None")))) -> None
... A18: E-015 | B18: Hannah Boyd | C18: Operations | D18: Y | E18: N | F18: N | G18: N | H18: Y | I18: =IF(B18="","",COUNTIF(D18:H18,"Y")) -> 2 | J18: =IF(B18="","",(D18="Y")*400+(E18="Y")*50+(F18="Y")*20+(G18="Y")*30+(H18="Y")*200) -> 600 | K18: =IF(B18="","",IF(I18>=4,"Full",IF(I18>=2,"Partial",IF(I18>=1,"Basic","None")))) -> Partial
I19: =IF(B19="","",COUNTIF(D19:H19,"Y")) | J19: =IF(B19="","",(D19="Y")*400+(E19="Y")*50+(F19="Y")*20+(G19="Y")*30+(H19="Y")*200) | K19: =IF(B19="","",IF(I19>=4,"Full",IF(I19>=2,"Partial",IF(I19>=1,"Basic","None"))))
I20: =IF(B20="","",COUNTIF(D20:H20,"Y")) | J20: =IF(B20="","",(D20="Y")*400+(E20="Y")*50+(F20="Y")*20+(G20="Y")*30+(H20="Y")*200) | K20: =IF(B20="","",IF(I20>=4,"Full",IF(I20>=2,"Partial",IF(I20>=1,"Basic","None"))))
I21: =IF(B21="","",COUNTIF(D21:H21,"Y")) | J21: =IF(B21="","",(D21="Y")*400+(E21="Y")*50+(F21="Y")*20+(G21="Y")*30+(H21="Y")*200) | K21: =IF(B21="","",IF(I21>=4,"Full",IF(I21>=2,"Partial",IF(I21>=1,"Basic","None"))))
I22: =IF(B22="","",COUNTIF(D22:H22,"Y")) | J22: =IF(B22="","",(D22="Y")*400+(E22="Y")*50+(F22="Y")*20+(G22="Y")*30+(H22="Y")*200) | K22: =IF(B22="","",IF(I22>=4,"Full",IF(I22>=2,"Partial",IF(I22>=1,"Basic","None"))))
I23: =IF(B23="","",COUNTIF(D23:H23,"Y")) | J23: =IF(B23="","",(D23="Y")*400+(E23="Y")*50+(F23="Y")*20+(G23="Y")*30+(H23="Y")*200) | K23: =IF(B23="","",IF(I23>=4,"Full",IF(I23>=2,"Partial",IF(I23>=1,"Basic","None"))))
I24: =IF(B24="","",COUNTIF(D24:H24,"Y")) | J24: =IF(B24="","",(D24="Y")*400+(E24="Y")*50+(F24="Y")*20+(G24="Y")*30+(H24="Y")*200) | K24: =IF(B24="","",IF(I24>=4,"Full",IF(I24>=2,"Partial",IF(I24>=1,"Basic","None"))))
I25: =IF(B25="","",COUNTIF(D25:H25,"Y")) | J25: =IF(B25="","",(D25="Y")*400+(E25="Y")*50+(F25="Y")*20+(G25="Y")*30+(H25="Y")*200) | K25: =IF(B25="","",IF(I25>=4,"Full",IF(I25>=2,"Partial",IF(I25>=1,"Basic","None"))))
I26: =IF(B26="","",COUNTIF(D26:H26,"Y")) | J26: =IF(B26="","",(D26="Y")*400+(E26="Y")*50+(F26="Y")*20+(G26="Y")*30+(H26="Y")*200) | K26: =IF(B26="","",IF(I26>=4,"Full",IF(I26>=2,"Partial",IF(I26>=1,"Basic","None"))))
I27: =IF(B27="","",COUNTIF(D27:H27,"Y")) | J27: =IF(B27="","",(D27="Y")*400+(E27="Y")*50+(F27="Y")*20+(G27="Y")*30+(H27="Y")*200) | K27: =IF(B27="","",IF(I27>=4,"Full",IF(I27>=2,"Partial",IF(I27>=1,"Basic","None"))))
I28: =IF(B28="","",COUNTIF(D28:H28,"Y")) | J28: =IF(B28="","",(D28="Y")*400+(E28="Y")*50+(F28="Y")*20+(G28="Y")*30+(H28="Y")*200) | K28: =IF(B28="","",IF(I28>=4,"Full",IF(I28>=2,"Partial",IF(I28>=1,"Basic","None"))))
I29: =IF(B29="","",COUNTIF(D29:H29,"Y")) | J29: =IF(B29="","",(D29="Y")*400+(E29="Y")*50+(F29="Y")*20+(G29="Y")*30+(H29="Y")*200) | K29: =IF(B29="","",IF(I29>=4,"Full",IF(I29>=2,"Partial",IF(I29>=1,"Basic","None"))))
I30: =IF(B30="","",COUNTIF(D30:H30,"Y")) | J30: =IF(B30="","",(D30="Y")*400+(E30="Y")*50+(F30="Y")*20+(G30="Y")*30+(H30="Y")*200) | K30: =IF(B30="","",IF(I30>=4,"Full",IF(I30>=2,"Partial",IF(I30>=1,"Basic","None"))))
... I43: =IF(B43="","",COUNTIF(D43:H43,"Y")) | J43: =IF(B43="","",(D43="Y")*400+(E43="Y")*50+(F43="Y")*20+(G43="Y")*30+(H43="Y")*200) | K43: =IF(B43="","",IF(I43>=4,"Full",IF(I43>=2,"Partial",IF(I43>=1,"Basic","None"))))

Sheet Lists
A1: Dropdown Lists & Monthly Costs
A3: Department | B3: Enrolled | D3: Employer monthly cost per benefit:
A4: Sales | B4: Y | D4: Health: $400
A5: Engineering | B5: N | D5: Dental: $50
A6: Operations | D6: Vision: $20
A7: Finance | D7: Life: $30
A8: HR | D8: Retirement: $200
A9: Marketing
