Workbook

Sheet Schedule
A1: IMPLEMENTATION GANTT CHART | C1: View Start | E1: 45814 | F1: Timeline | G1: 1 | I1: =E1 -> 45814 | J1: =I1+$G$1 -> 45815 | K1: =J1+$G$1 -> 45816 | L1: =K1+$G$1 -> 45817 | M1: =L1+$G$1 -> 45818 | N1: =M1+$G$1 -> 45819 | O1: =N1+$G$1 -> 45820 | P1: =O1+$G$1 -> 45821 | Q1: =P1+$G$1 -> 45822 | ... JG1: =JF1+$G$1 -> 46072
A2: # | B2: Task Name | C2: Resource | D2: Pre | E2: Start | F2: Finish | G2: Effort (days) | H2: %
F3: Auto | I3: =LEFT(TEXT(I1,"ddd")) -> F | J3: =LEFT(TEXT(J1,"ddd")) -> S | K3: =LEFT(TEXT(K1,"ddd")) -> S | L3: =LEFT(TEXT(L1,"ddd")) -> M | M3: =LEFT(TEXT(M1,"ddd")) -> T | N3: =LEFT(TEXT(N1,"ddd")) -> W | O3: =LEFT(TEXT(O1,"ddd")) -> T | P3: =LEFT(TEXT(P1,"ddd")) -> F | ... JG3: =LEFT(TEXT(JG1,"ddd")) -> T
A4: 1 | B4: Requirement Gathering | C4: John | E4: 45814 | F4: =WORKDAY(E4,G4-1,Config!$C$2:$C$21) -> 45817 | G4: 2 | H4: 1 | I4: =IF(AND(I$1>=$E4,I$1<=$F4),"."," ") -> . | J4: =IF(AND(J$1>=$E4,J$1<=$F4),"."," ") -> . | K4: =IF(AND(K$1>=$E4,K$1<=$F4),"."," ") -> . | L4: =IF(AND(L$1>=$E4,L$1<=$F4),"."," ") -> . | M4: =IF(AND(M$1>=$E4,M$1<=$F4),"."," ") | P4: =IF(AND(P$1>=$E4,P$1<=$F4),"."," ") | Q4: =IF(AND(Q$1>=$E4,Q$1<=$F4),"."," ") | R4: =IF(AND(R$1>=$E4,R$1<=$F4),"."," ") | S4: =IF(AND(S$1>=$E4,S$1<=$F4),"."," ") | T4: =IF(AND(T$1>=$E4,T$1<=$F4),"."," ") | W4: =IF(AND(W$1>=$E4,W$1<=$F4),"."," ") | X4: =IF(AND(X$1>=$E4,X$1<=$F4),"."," ") | Y4: =IF(AND(Y$1>=$E4,Y$1<=$F4),"."," ") | Z4: =IF(AND(Z$1>=$E4,Z$1<=$F4),"."," ") | AA4: =IF(AND(AA$1>=$E4,AA$1<=$F4),"."," ") | AD4: =IF(AND(AD$1>=$E4,AD$1<=$F4),"."," ") | AE4: =IF(AND(AE$1>=$E4,AE$1<=$F4),"."," ") | AF4: =IF(AND(AF$1>=$E4,AF$1<=$F4),"."," ") | AG4: =IF(AND(AG$1>=$E4,AG$1<=$F4),"."," ") | AH4: =IF(AND(AH$1>=$E4,AH$1<=$F4),"."," ") | AK4: =IF(AND(AK$1>=$E4,AK$1<=$F4),"."," ") | AL4: =IF(AND(AL$1>=$E4,AL$1<=$F4),"."," ") | AM4: =IF(AND(AM$1>=$E4,AM$1<=$F4),"."," ") | AN4: =IF(AND(AN$1>=$E4,AN$1<=$F4),"."," ") | AO4: =IF(AND(AO$1>=$E4,AO$1<=$F4),"."," ") | AR4: =IF(AND(AR$1>=$E4,AR$1<=$F4),"."," ") | AS4: =IF(AND(AS$1>=$E4,AS$1<=$F4),"."," ") | AT4: =IF(AND(AT$1>=$E4,AT$1<=$F4),"."," ") | AU4: =IF(AND(AU$1>=$E4,AU$1<=$F4),"."," ") | AV4: =IF(AND(AV$1>=$E4,AV$1<=$F4),"."," ") | AY4: =IF(AND(AY$1>=$E4,AY$1<=$F4),"."," ") | AZ4: =IF(AND(AZ$1>=$E4,AZ$1<=$F4),"."," ") | BA4: =IF(AND(BA$1>=$E4,BA$1<=$F4),"."," ") | BB4: =IF(AND(BB$1>=$E4,BB$1<=$F4),"."," ") | BC4: =IF(AND(BC$1>=$E4,BC$1<=$F4),"."," ") | BF4: =IF(AND(BF$1>=$E4,BF$1<=$F4),"."," ") | BG4: =IF(AND(BG$1>=$E4,BG$1<=$F4),"."," ") | BH4: =IF(AND(BH$1>=$E4,BH$1<=$F4),"."," ") | BI4: =IF(AND(BI$1>=$E4,BI$1<=$F4),"."," ") | BJ4: =IF(AND(BJ$1>=$E4,BJ$1<=$F4),"."," ") | BM4: =IF(AND(BM$1>=$E4,BM$1<=$F4),"."," ") | BN4: =IF(AND(BN$1>=$E4,BN$1<=$F4),"."," ") | BO4: =IF(AND(BO$1>=$E4,BO$1<=$F4),"."," ") | BP4: =IF(AND(BP$1>=$E4,BP$1<=$F4),"."," ") | BQ4: =IF(AND(BQ$1>=$E4,BQ$1<=$F4),"."," ") | BT4: =IF(AND(BT$1>=$E4,BT$1<=$F4),"."," ") | BU4: =IF(AND(BU$1>=$E4,BU$1<=$F4),"."," ") | BV4: =IF(AND(BV$1>=$E4,BV$1<=$F4),"."," ") | BW4: =IF(AND(BW$1>=$E4,BW$1<=$F4),"."," ") | BX4: =IF(AND(BX$1>=$E4,BX$1<=$F4),"."," ") | CA4: =IF(AND(CA$1>=$E4,CA$1<=$F4),"."," ") | CB4: =IF(AND(CB$1>=$E4,CB$1<=$F4),"."," ") | CC4: =IF(AND(CC$1>=$E4,CC$1<=$F4),"."," ") | CD4: =IF(AND(CD$1>=$E4,CD$1<=$F4),"."," ") | CE4: =IF(AND(CE$1>=$E4,CE$1<=$F4),"."," ") | CH4: =IF(AND(CH$1>=$E4,CH$1<=$F4),"."," ") | CI4: =IF(AND(CI$1>=$E4,CI$1<=$F4),"."," ") | CJ4: =IF(AND(CJ$1>=$E4,CJ$1<=$F4),"."," ") | CK4: =IF(AND(CK$1>=$E4,CK$1<=$F4),"."," ") | CL4: =IF(AND(CL$1>=$E4,CL$1<=$F4),"."," ") | CO4: =IF(AND(CO$1>=$E4,CO$1<=$F4),"."," ") | CP4: =IF(AND(CP$1>=$E4,CP$1<=$F4),"."," ") | CQ4: =IF(AND(CQ$1>=$E4,CQ$1<=$F4),"."," ") | CR4: =IF(AND(CR$1>=$E4,CR$1<=$F4),"."," ") | CS4: =IF(AND(CS$1>=$E4,CS$1<=$F4),"."," ") | CV4: =IF(AND(CV$1>=$E4,CV$1<=$F4),"."," ") | CW4: =IF(AND(CW$1>=$E4,CW$1<=$F4),"."," ") | CX4: =IF(AND(CX$1>=$E4,CX$1<=$F4),"."," ") | CY4: =IF(AND(CY$1>=$E4,CY$1<=$F4),"."," ") | CZ4: =IF(AND(CZ$1>=$E4,CZ$1<=$F4),"."," ") | DC4: =IF(AND(DC$1>=$E4,DC$1<=$F4),"."," ") | DD4: =IF(AND(DD$1>=$E4,DD$1<=$F4),"."," ") | DE4: =IF(AND(DE$1>=$E4,DE$1<=$F4),"."," ") | DF4: =IF(AND(DF$1>=$E4,DF$1<=$F4),"."," ") | DG4: =IF(AND(DG$1>=$E4,DG$1<=$F4),"."," ") | DJ4: =IF(AND(DJ$1>=$E4,DJ$1<=$F4),"."," ") | DK4: =IF(AND(DK$1>=$E4,DK$1<=$F4),"."," ") | DL4: =IF(AND(DL$1>=$E4,DL$1<=$F4),"."," ") | DM4: =IF(AND(DM$1>=$E4,DM$1<=$F4),"."," ") | DN4: =IF(AND(DN$1>=$E4,DN$1<=$F4),"."," ") | DQ4: =IF(AND(DQ$1>=$E4,DQ$1<=$F4),"."," ") | DR4: =IF(AND(DR$1>=$E4,DR$1<=$F4),"."," ") | DS4: =IF(AND(DS$1>=$E4,DS$1<=$F4),"."," ") | DT4: =IF(AND(DT$1>=$E4,DT$1<=$F4),"."," ") | DU4: =IF(AND(DU$1>=$E4,DU$1<=$F4),"."," ") | DX4: =IF(AND(DX$1>=$E4,DX$1<=$F4),"."," ") | DY4: =IF(AND(DY$1>=$E4,DY$1<=$F4),"."," ") | DZ4: =IF(AND(DZ$1>=$E4,DZ$1<=$F4),"."," ") | EA4: =IF(AND(EA$1>=$E4,EA$1<=$F4),"."," ") | EB4: =IF(AND(EB$1>=$E4,EB$1<=$F4),"."," ") | EE4: =IF(AND(EE$1>=$E4,EE$1<=$F4),"."," ") | EF4: =IF(AND(EF$1>=$E4,EF$1<=$F4),"."," ") | EG4: =IF(AND(EG$1>=$E4,EG$1<=$F4),"."," ") | EH4: =IF(AND(EH$1>=$E4,EH$1<=$F4),"."," ") | EI4: =IF(AND(EI$1>=$E4,EI$1<=$F4),"."," ") | EL4: =IF(AND(EL$1>=$E4,EL$1<=$F4),"."," ") | EM4: =IF(AND(EM$1>=$E4,EM$1<=$F4),"."," ") | EN4: =IF(AND(EN$1>=$E4,EN$1<=$F4),"."," ") | EO4: =IF(AND(EO$1>=$E4,EO$1<=$F4),"."," ") | EP4: =IF(AND(EP$1>=$E4,EP$1<=$F4),"."," ") | ES4: =IF(AND(ES$1>=$E4,ES$1<=$F4),"."," ") | ET4: =IF(AND(ET$1>=$E4,ET$1<=$F4),"."," ") | EU4: =IF(AND(EU$1>=$E4,EU$1<=$F4),"."," ") | EV4: =IF(AND(EV$1>=$E4,EV$1<=$F4),"."," ") | EW4: =IF(AND(EW$1>=$E4,EW$1<=$F4),"."," ") | EZ4: =IF(AND(EZ$1>=$E4,EZ$1<=$F4),"."," ") | FA4: =IF(AND(FA$1>=$E4,FA$1<=$F4),"."," ") | FB4: =IF(AND(FB$1>=$E4,FB$1<=$F4),"."," ") | FC4: =IF(AND(FC$1>=$E4,FC$1<=$F4),"."," ") | FD4: =IF(AND(FD$1>=$E4,FD$1<=$F4),"."," ") | FG4: =IF(AND(FG$1>=$E4,FG$1<=$F4),"."," ") | FH4: =IF(AND(FH$1>=$E4,FH$1<=$F4),"."," ") | FI4: =IF(AND(FI$1>=$E4,FI$1<=$F4),"."," ") | FJ4: =IF(AND(FJ$1>=$E4,FJ$1<=$F4),"."," ") | FK4: =IF(AND(FK$1>=$E4,FK$1<=$F4),"."," ") | FN4: =IF(AND(FN$1>=$E4,FN$1<=$F4),"."," ") | FO4: =IF(AND(FO$1>=$E4,FO$1<=$F4),"."," ") | FP4: =IF(AND(FP$1>=$E4,FP$1<=$F4),"."," ") | FQ4: =IF(AND(FQ$1>=$E4,FQ$1<=$F4),"."," ") | FR4: =IF(AND(FR$1>=$E4,FR$1<=$F4),"."," ") | FU4: =IF(AND(FU$1>=$E4,FU$1<=$F4),"."," ") | FV4: =IF(AND(FV$1>=$E4,FV$1<=$F4),"."," ") | FW4: =IF(AND(FW$1>=$E4,FW$1<=$F4),"."," ") | FX4: =IF(AND(FX$1>=$E4,FX$1<=$F4),"."," ") | FY4: =IF(AND(FY$1>=$E4,FY$1<=$F4),"."," ") | GB4: =IF(AND(GB$1>=$E4,GB$1<=$F4),"."," ") | GC4: =IF(AND(GC$1>=$E4,GC$1<=$F4),"."," ") | GD4: =IF(AND(GD$1>=$E4,GD$1<=$F4),"."," ") | GE4: =IF(AND(GE$1>=$E4,GE$1<=$F4),"."," ") | GF4: =IF(AND(GF$1>=$E4,GF$1<=$F4),"."," ") | GI4: =IF(AND(GI$1>=$E4,GI$1<=$F4),"."," ") | GJ4: =IF(AND(GJ$1>=$E4,GJ$1<=$F4),"."," ") | GK4: =IF(AND(GK$1>=$E4,GK$1<=$F4),"."," ") | GL4: =IF(AND(GL$1>=$E4,GL$1<=$F4),"."," ") | GM4: =IF(AND(GM$1>=$E4,GM$1<=$F4),"."," ") | GP4: =IF(AND(GP$1>=$E4,GP$1<=$F4),"."," ") | GQ4: =IF(AND(GQ$1>=$E4,GQ$1<=$F4),"."," ") | GR4: =IF(AND(GR$1>=$E4,GR$1<=$F4),"."," ") | GS4: =IF(AND(GS$1>=$E4,GS$1<=$F4),"."," ") | GT4: =IF(AND(GT$1>=$E4,GT$1<=$F4),"."," ") | GW4: =IF(AND(GW$1>=$E4,GW$1<=$F4),"."," ") | GX4: =IF(AND(GX$1>=$E4,GX$1<=$F4),"."," ") | GY4: =IF(AND(GY$1>=$E4,GY$1<=$F4),"."," ") | GZ4: =IF(AND(GZ$1>=$E4,GZ$1<=$F4),"."," ") | HA4: =IF(AND(HA$1>=$E4,HA$1<=$F4),"."," ") | HD4: =IF(AND(HD$1>=$E4,HD$1<=$F4),"."," ") | HE4: =IF(AND(HE$1>=$E4,HE$1<=$F4),"."," ") | HF4: =IF(AND(HF$1>=$E4,HF$1<=$F4),"."," ") | HG4: =IF(AND(HG$1>=$E4,HG$1<=$F4),"."," ") | HH4: =IF(AND(HH$1>=$E4,HH$1<=$F4),"."," ") | HK4: =IF(AND(HK$1>=$E4,HK$1<=$F4),"."," ") | HL4: =IF(AND(HL$1>=$E4,HL$1<=$F4),"."," ") | HM4: =IF(AND(HM$1>=$E4,HM$1<=$F4),"."," ") | HN4: =IF(AND(HN$1>=$E4,HN$1<=$F4),"."," ") | HO4: =IF(AND(HO$1>=$E4,HO$1<=$F4),"."," ") | HR4: =IF(AND(HR$1>=$E4,HR$1<=$F4),"."," ") | HS4: =IF(AND(HS$1>=$E4,HS$1<=$F4),"."," ") | HT4: =IF(AND(HT$1>=$E4,HT$1<=$F4),"."," ") | HU4: =IF(AND(HU$1>=$E4,HU$1<=$F4),"."," ") | HV4: =IF(AND(HV$1>=$E4,HV$1<=$F4),"."," ") | HY4: =IF(AND(HY$1>=$E4,HY$1<=$F4),"."," ") | HZ4: =IF(AND(HZ$1>=$E4,HZ$1<=$F4),"."," ") | IA4: =IF(AND(IA$1>=$E4,IA$1<=$F4),"."," ") | IB4: =IF(AND(IB$1>=$E4,IB$1<=$F4),"."," ") | IC4: =IF(AND(IC$1>=$E4,IC$1<=$F4),"."," ") | IF4: =IF(AND(IF$1>=$E4,IF$1<=$F4),"."," ") | IG4: =IF(AND(IG$1>=$E4,IG$1<=$F4),"."," ") | IH4: =IF(AND(IH$1>=$E4,IH$1<=$F4),"."," ") | II4: =IF(AND(II$1>=$E4,II$1<=$F4),"."," ") | IJ4: =IF(AND(IJ$1>=$E4,IJ$1<=$F4),"."," ") | IM4: =IF(AND(IM$1>=$E4,IM$1<=$F4),"."," ") | IN4: =IF(AND(IN$1>=$E4,IN$1<=$F4),"."," ") | IO4: =IF(AND(IO$1>=$E4,IO$1<=$F4),"."," ") | IP4: =IF(AND(IP$1>=$E4,IP$1<=$F4),"."," ") | IQ4: =IF(AND(IQ$1>=$E4,IQ$1<=$F4),"."," ") | IT4: =IF(AND(IT$1>=$E4,IT$1<=$F4),"."," ") | IU4: =IF(AND(IU$1>=$E4,IU$1<=$F4),"."," ") | IV4: =IF(AND(IV$1>=$E4,IV$1<=$F4),"."," ") | IW4: =IF(AND(IW$1>=$E4,IW$1<=$F4),"."," ") | IX4: =IF(AND(IX$1>=$E4,IX$1<=$F4),"."," ") | JA4: =IF(AND(JA$1>=$E4,JA$1<=$F4),"."," ") | JB4: =IF(AND(JB$1>=$E4,JB$1<=$F4),"."," ") | JC4: =IF(AND(JC$1>=$E4,JC$1<=$F4),"."," ") | JD4: =IF(AND(JD$1>=$E4,JD$1<=$F4),"."," ") | JE4: =IF(AND(JE$1>=$E4,JE$1<=$F4),"."," ")
A5: =A4+1 -> 2 | B5: Draft Business Requirements | C5: Ted | D5: 1 | E5: =VLOOKUP(D5,$A$1:$F$146,6,FALSE) + 1 -> 45818 | F5: =WORKDAY(E5,G5-1,Config!$C$2:$C$21) -> 45819 | G5: 2 | H5: 1 | I5: =IF(AND(I$1>=$E5,I$1<=$F5),"."," ") | J5: =IF(AND(J$1>=$E5,J$1<=$F5),"."," ") | K5: =IF(AND(K$1>=$E5,K$1<=$F5),"."," ") | L5: =IF(AND(L$1>=$E5,L$1<=$F5),"."," ") | M5: =IF(AND(M$1>=$E5,M$1<=$F5),"."," ") -> . | P5: =IF(AND(P$1>=$E5,P$1<=$F5),"."," ") | Q5: =IF(AND(Q$1>=$E5,Q$1<=$F5),"."," ") | R5: =IF(AND(R$1>=$E5,R$1<=$F5),"."," ") | S5: =IF(AND(S$1>=$E5,S$1<=$F5),"."," ") | T5: =IF(AND(T$1>=$E5,T$1<=$F5),"."," ") | W5: =IF(AND(W$1>=$E5,W$1<=$F5),"."," ") | X5: =IF(AND(X$1>=$E5,X$1<=$F5),"."," ") | Y5: =IF(AND(Y$1>=$E5,Y$1<=$F5),"."," ") | Z5: =IF(AND(Z$1>=$E5,Z$1<=$F5),"."," ") | AA5: =IF(AND(AA$1>=$E5,AA$1<=$F5),"."," ") | AD5: =IF(AND(AD$1>=$E5,AD$1<=$F5),"."," ") | AE5: =IF(AND(AE$1>=$E5,AE$1<=$F5),"."," ") | AF5: =IF(AND(AF$1>=$E5,AF$1<=$F5),"."," ") | AG5: =IF(AND(AG$1>=$E5,AG$1<=$F5),"."," ") | AH5: =IF(AND(AH$1>=$E5,AH$1<=$F5),"."," ") | AK5: =IF(AND(AK$1>=$E5,AK$1<=$F5),"."," ") | AL5: =IF(AND(AL$1>=$E5,AL$1<=$F5),"."," ") | AM5: =IF(AND(AM$1>=$E5,AM$1<=$F5),"."," ") | AN5: =IF(AND(AN$1>=$E5,AN$1<=$F5),"."," ") | AO5: =IF(AND(AO$1>=$E5,AO$1<=$F5),"."," ") | AR5: =IF(AND(AR$1>=$E5,AR$1<=$F5),"."," ") | AS5: =IF(AND(AS$1>=$E5,AS$1<=$F5),"."," ") | AT5: =IF(AND(AT$1>=$E5,AT$1<=$F5),"."," ") | AU5: =IF(AND(AU$1>=$E5,AU$1<=$F5),"."," ") | AV5: =IF(AND(AV$1>=$E5,AV$1<=$F5),"."," ") | AY5: =IF(AND(AY$1>=$E5,AY$1<=$F5),"."," ") | AZ5: =IF(AND(AZ$1>=$E5,AZ$1<=$F5),"."," ") | BA5: =IF(AND(BA$1>=$E5,BA$1<=$F5),"."," ") | BB5: =IF(AND(BB$1>=$E5,BB$1<=$F5),"."," ") | BC5: =IF(AND(BC$1>=$E5,BC$1<=$F5),"."," ") | BF5: =IF(AND(BF$1>=$E5,BF$1<=$F5),"."," ") | BG5: =IF(AND(BG$1>=$E5,BG$1<=$F5),"."," ") | BH5: =IF(AND(BH$1>=$E5,BH$1<=$F5),"."," ") | BI5: =IF(AND(BI$1>=$E5,BI$1<=$F5),"."," ") | BJ5: =IF(AND(BJ$1>=$E5,BJ$1<=$F5),"."," ") | BM5: =IF(AND(BM$1>=$E5,BM$1<=$F5),"."," ") | BN5: =IF(AND(BN$1>=$E5,BN$1<=$F5),"."," ") | BO5: =IF(AND(BO$1>=$E5,BO$1<=$F5),"."," ") | BP5: =IF(AND(BP$1>=$E5,BP$1<=$F5),"."," ") | BQ5: =IF(AND(BQ$1>=$E5,BQ$1<=$F5),"."," ") | BT5: =IF(AND(BT$1>=$E5,BT$1<=$F5),"."," ") | BU5: =IF(AND(BU$1>=$E5,BU$1<=$F5),"."," ") | BV5: =IF(AND(BV$1>=$E5,BV$1<=$F5),"."," ") | BW5: =IF(AND(BW$1>=$E5,BW$1<=$F5),"."," ") | BX5: =IF(AND(BX$1>=$E5,BX$1<=$F5),"."," ") | CA5: =IF(AND(CA$1>=$E5,CA$1<=$F5),"."," ") | CB5: =IF(AND(CB$1>=$E5,CB$1<=$F5),"."," ") | CC5: =IF(AND(CC$1>=$E5,CC$1<=$F5),"."," ") | CD5: =IF(AND(CD$1>=$E5,CD$1<=$F5),"."," ") | CE5: =IF(AND(CE$1>=$E5,CE$1<=$F5),"."," ") | CH5: =IF(AND(CH$1>=$E5,CH$1<=$F5),"."," ") | CI5: =IF(AND(CI$1>=$E5,CI$1<=$F5),"."," ") | CJ5: =IF(AND(CJ$1>=$E5,CJ$1<=$F5),"."," ") | CK5: =IF(AND(CK$1>=$E5,CK$1<=$F5),"."," ") | CL5: =IF(AND(CL$1>=$E5,CL$1<=$F5),"."," ") | CO5: =IF(AND(CO$1>=$E5,CO$1<=$F5),"."," ") | CP5: =IF(AND(CP$1>=$E5,CP$1<=$F5),"."," ") | CQ5: =IF(AND(CQ$1>=$E5,CQ$1<=$F5),"."," ") | CR5: =IF(AND(CR$1>=$E5,CR$1<=$F5),"."," ") | CS5: =IF(AND(CS$1>=$E5,CS$1<=$F5),"."," ") | CV5: =IF(AND(CV$1>=$E5,CV$1<=$F5),"."," ") | CW5: =IF(AND(CW$1>=$E5,CW$1<=$F5),"."," ") | CX5: =IF(AND(CX$1>=$E5,CX$1<=$F5),"."," ") | CY5: =IF(AND(CY$1>=$E5,CY$1<=$F5),"."," ") | CZ5: =IF(AND(CZ$1>=$E5,CZ$1<=$F5),"."," ") | DC5: =IF(AND(DC$1>=$E5,DC$1<=$F5),"."," ") | DD5: =IF(AND(DD$1>=$E5,DD$1<=$F5),"."," ") | DE5: =IF(AND(DE$1>=$E5,DE$1<=$F5),"."," ") | DF5: =IF(AND(DF$1>=$E5,DF$1<=$F5),"."," ") | DG5: =IF(AND(DG$1>=$E5,DG$1<=$F5),"."," ") | DJ5: =IF(AND(DJ$1>=$E5,DJ$1<=$F5),"."," ") | DK5: =IF(AND(DK$1>=$E5,DK$1<=$F5),"."," ") | DL5: =IF(AND(DL$1>=$E5,DL$1<=$F5),"."," ") | DM5: =IF(AND(DM$1>=$E5,DM$1<=$F5),"."," ") | DN5: =IF(AND(DN$1>=$E5,DN$1<=$F5),"."," ") | DQ5: =IF(AND(DQ$1>=$E5,DQ$1<=$F5),"."," ") | DR5: =IF(AND(DR$1>=$E5,DR$1<=$F5),"."," ") | DS5: =IF(AND(DS$1>=$E5,DS$1<=$F5),"."," ") | DT5: =IF(AND(DT$1>=$E5,DT$1<=$F5),"."," ") | DU5: =IF(AND(DU$1>=$E5,DU$1<=$F5),"."," ") | DX5: =IF(AND(DX$1>=$E5,DX$1<=$F5),"."," ") | DY5: =IF(AND(DY$1>=$E5,DY$1<=$F5),"."," ") | DZ5: =IF(AND(DZ$1>=$E5,DZ$1<=$F5),"."," ") | EA5: =IF(AND(EA$1>=$E5,EA$1<=$F5),"."," ") | EB5: =IF(AND(EB$1>=$E5,EB$1<=$F5),"."," ") | EE5: =IF(AND(EE$1>=$E5,EE$1<=$F5),"."," ") | EF5: =IF(AND(EF$1>=$E5,EF$1<=$F5),"."," ") | EG5: =IF(AND(EG$1>=$E5,EG$1<=$F5),"."," ") | EH5: =IF(AND(EH$1>=$E5,EH$1<=$F5),"."," ") | EI5: =IF(AND(EI$1>=$E5,EI$1<=$F5),"."," ") | EL5: =IF(AND(EL$1>=$E5,EL$1<=$F5),"."," ") | EM5: =IF(AND(EM$1>=$E5,EM$1<=$F5),"."," ") | EN5: =IF(AND(EN$1>=$E5,EN$1<=$F5),"."," ") | EO5: =IF(AND(EO$1>=$E5,EO$1<=$F5),"."," ") | EP5: =IF(AND(EP$1>=$E5,EP$1<=$F5),"."," ") | ES5: =IF(AND(ES$1>=$E5,ES$1<=$F5),"."," ") | ET5: =IF(AND(ET$1>=$E5,ET$1<=$F5),"."," ") | EU5: =IF(AND(EU$1>=$E5,EU$1<=$F5),"."," ") | EV5: =IF(AND(EV$1>=$E5,EV$1<=$F5),"."," ") | EW5: =IF(AND(EW$1>=$E5,EW$1<=$F5),"."," ") | EZ5: =IF(AND(EZ$1>=$E5,EZ$1<=$F5),"."," ") | FA5: =IF(AND(FA$1>=$E5,FA$1<=$F5),"."," ") | FB5: =IF(AND(FB$1>=$E5,FB$1<=$F5),"."," ") | FC5: =IF(AND(FC$1>=$E5,FC$1<=$F5),"."," ") | FD5: =IF(AND(FD$1>=$E5,FD$1<=$F5),"."," ") | FG5: =IF(AND(FG$1>=$E5,FG$1<=$F5),"."," ") | FH5: =IF(AND(FH$1>=$E5,FH$1<=$F5),"."," ") | FI5: =IF(AND(FI$1>=$E5,FI$1<=$F5),"."," ") | FJ5: =IF(AND(FJ$1>=$E5,FJ$1<=$F5),"."," ") | FK5: =IF(AND(FK$1>=$E5,FK$1<=$F5),"."," ") | FN5: =IF(AND(FN$1>=$E5,FN$1<=$F5),"."," ") | FO5: =IF(AND(FO$1>=$E5,FO$1<=$F5),"."," ") | FP5: =IF(AND(FP$1>=$E5,FP$1<=$F5),"."," ") | FQ5: =IF(AND(FQ$1>=$E5,FQ$1<=$F5),"."," ") | FR5: =IF(AND(FR$1>=$E5,FR$1<=$F5),"."," ") | FU5: =IF(AND(FU$1>=$E5,FU$1<=$F5),"."," ") | FV5: =IF(AND(FV$1>=$E5,FV$1<=$F5),"."," ") | FW5: =IF(AND(FW$1>=$E5,FW$1<=$F5),"."," ") | FX5: =IF(AND(FX$1>=$E5,FX$1<=$F5),"."," ") | FY5: =IF(AND(FY$1>=$E5,FY$1<=$F5),"."," ") | GB5: =IF(AND(GB$1>=$E5,GB$1<=$F5),"."," ") | GC5: =IF(AND(GC$1>=$E5,GC$1<=$F5),"."," ") | GD5: =IF(AND(GD$1>=$E5,GD$1<=$F5),"."," ") | GE5: =IF(AND(GE$1>=$E5,GE$1<=$F5),"."," ") | GF5: =IF(AND(GF$1>=$E5,GF$1<=$F5),"."," ") | GI5: =IF(AND(GI$1>=$E5,GI$1<=$F5),"."," ") | GJ5: =IF(AND(GJ$1>=$E5,GJ$1<=$F5),"."," ") | GK5: =IF(AND(GK$1>=$E5,GK$1<=$F5),"."," ") | GL5: =IF(AND(GL$1>=$E5,GL$1<=$F5),"."," ") | GM5: =IF(AND(GM$1>=$E5,GM$1<=$F5),"."," ") | GP5: =IF(AND(GP$1>=$E5,GP$1<=$F5),"."," ") | GQ5: =IF(AND(GQ$1>=$E5,GQ$1<=$F5),"."," ") | GR5: =IF(AND(GR$1>=$E5,GR$1<=$F5),"."," ") | GS5: =IF(AND(GS$1>=$E5,GS$1<=$F5),"."," ") | GT5: =IF(AND(GT$1>=$E5,GT$1<=$F5),"."," ") | GW5: =IF(AND(GW$1>=$E5,GW$1<=$F5),"."," ") | GX5: =IF(AND(GX$1>=$E5,GX$1<=$F5),"."," ") | GY5: =IF(AND(GY$1>=$E5,GY$1<=$F5),"."," ") | GZ5: =IF(AND(GZ$1>=$E5,GZ$1<=$F5),"."," ") | HA5: =IF(AND(HA$1>=$E5,HA$1<=$F5),"."," ") | HD5: =IF(AND(HD$1>=$E5,HD$1<=$F5),"."," ") | HE5: =IF(AND(HE$1>=$E5,HE$1<=$F5),"."," ") | HF5: =IF(AND(HF$1>=$E5,HF$1<=$F5),"."," ") | HG5: =IF(AND(HG$1>=$E5,HG$1<=$F5),"."," ") | HH5: =IF(AND(HH$1>=$E5,HH$1<=$F5),"."," ") | HK5: =IF(AND(HK$1>=$E5,HK$1<=$F5),"."," ") | HL5: =IF(AND(HL$1>=$E5,HL$1<=$F5),"."," ") | HM5: =IF(AND(HM$1>=$E5,HM$1<=$F5),"."," ") | HN5: =IF(AND(HN$1>=$E5,HN$1<=$F5),"."," ") | HO5: =IF(AND(HO$1>=$E5,HO$1<=$F5),"."," ") | HR5: =IF(AND(HR$1>=$E5,HR$1<=$F5),"."," ") | HS5: =IF(AND(HS$1>=$E5,HS$1<=$F5),"."," ") | HT5: =IF(AND(HT$1>=$E5,HT$1<=$F5),"."," ") | HU5: =IF(AND(HU$1>=$E5,HU$1<=$F5),"."," ") | HV5: =IF(AND(HV$1>=$E5,HV$1<=$F5),"."," ") | HY5: =IF(AND(HY$1>=$E5,HY$1<=$F5),"."," ") | HZ5: =IF(AND(HZ$1>=$E5,HZ$1<=$F5),"."," ") | IA5: =IF(AND(IA$1>=$E5,IA$1<=$F5),"."," ") | IB5: =IF(AND(IB$1>=$E5,IB$1<=$F5),"."," ") | IC5: =IF(AND(IC$1>=$E5,IC$1<=$F5),"."," ") | IF5: =IF(AND(IF$1>=$E5,IF$1<=$F5),"."," ") | IG5: =IF(AND(IG$1>=$E5,IG$1<=$F5),"."," ") | IH5: =IF(AND(IH$1>=$E5,IH$1<=$F5),"."," ") | II5: =IF(AND(II$1>=$E5,II$1<=$F5),"."," ") | IJ5: =IF(AND(IJ$1>=$E5,IJ$1<=$F5),"."," ") | IM5: =IF(AND(IM$1>=$E5,IM$1<=$F5),"."," ") | IN5: =IF(AND(IN$1>=$E5,IN$1<=$F5),"."," ") | IO5: =IF(AND(IO$1>=$E5,IO$1<=$F5),"."," ") | IP5: =IF(AND(IP$1>=$E5,IP$1<=$F5),"."," ") | IQ5: =IF(AND(IQ$1>=$E5,IQ$1<=$F5),"."," ") | IT5: =IF(AND(IT$1>=$E5,IT$1<=$F5),"."," ") | IU5: =IF(AND(IU$1>=$E5,IU$1<=$F5),"."," ") | IV5: =IF(AND(IV$1>=$E5,IV$1<=$F5),"."," ") | IW5: =IF(AND(IW$1>=$E5,IW$1<=$F5),"."," ") | IX5: =IF(AND(IX$1>=$E5,IX$1<=$F5),"."," ") | JA5: =IF(AND(JA$1>=$E5,JA$1<=$F5),"."," ") | JB5: =IF(AND(JB$1>=$E5,JB$1<=$F5),"."," ") | JC5: =IF(AND(JC$1>=$E5,JC$1<=$F5),"."," ") | JD5: =IF(AND(JD$1>=$E5,JD$1<=$F5),"."," ") | JE5: =IF(AND(JE$1>=$E5,JE$1<=$F5),"."," ")
A6: =A5+1 -> 3 | B6: Sign Off Business Requirements | C6: Med | D6: 2 | E6: =VLOOKUP(D6,$A$1:$F$146,6,FALSE) + 1 -> 45820 | F6: =WORKDAY(E6,G6-1,Config!$C$2:$C$21) -> 45821 | G6: 2 | H6: 0.25 | I6: =IF(AND(I$1>=$E6,I$1<=$F6),"."," ") | J6: =IF(AND(J$1>=$E6,J$1<=$F6),"."," ") | K6: =IF(AND(K$1>=$E6,K$1<=$F6),"."," ") | L6: =IF(AND(L$1>=$E6,L$1<=$F6),"."," ") | M6: =IF(AND(M$1>=$E6,M$1<=$F6),"."," ") | P6: =IF(AND(P$1>=$E6,P$1<=$F6),"."," ") -> . | Q6: =IF(AND(Q$1>=$E6,Q$1<=$F6),"."," ") | R6: =IF(AND(R$1>=$E6,R$1<=$F6),"."," ") | S6: =IF(AND(S$1>=$E6,S$1<=$F6),"."," ") | T6: =IF(AND(T$1>=$E6,T$1<=$F6),"."," ") | W6: =IF(AND(W$1>=$E6,W$1<=$F6),"."," ") | X6: =IF(AND(X$1>=$E6,X$1<=$F6),"."," ") | Y6: =IF(AND(Y$1>=$E6,Y$1<=$F6),"."," ") | Z6: =IF(AND(Z$1>=$E6,Z$1<=$F6),"."," ") | AA6: =IF(AND(AA$1>=$E6,AA$1<=$F6),"."," ") | AD6: =IF(AND(AD$1>=$E6,AD$1<=$F6),"."," ") | AE6: =IF(AND(AE$1>=$E6,AE$1<=$F6),"."," ") | AF6: =IF(AND(AF$1>=$E6,AF$1<=$F6),"."," ") | AG6: =IF(AND(AG$1>=$E6,AG$1<=$F6),"."," ") | AH6: =IF(AND(AH$1>=$E6,AH$1<=$F6),"."," ") | AK6: =IF(AND(AK$1>=$E6,AK$1<=$F6),"."," ") | AL6: =IF(AND(AL$1>=$E6,AL$1<=$F6),"."," ") | AM6: =IF(AND(AM$1>=$E6,AM$1<=$F6),"."," ") | AN6: =IF(AND(AN$1>=$E6,AN$1<=$F6),"."," ") | AO6: =IF(AND(AO$1>=$E6,AO$1<=$F6),"."," ") | AR6: =IF(AND(AR$1>=$E6,AR$1<=$F6),"."," ") | AS6: =IF(AND(AS$1>=$E6,AS$1<=$F6),"."," ") | AT6: =IF(AND(AT$1>=$E6,AT$1<=$F6),"."," ") | AU6: =IF(AND(AU$1>=$E6,AU$1<=$F6),"."," ") | AV6: =IF(AND(AV$1>=$E6,AV$1<=$F6),"."," ") | AY6: =IF(AND(AY$1>=$E6,AY$1<=$F6),"."," ") | AZ6: =IF(AND(AZ$1>=$E6,AZ$1<=$F6),"."," ") | BA6: =IF(AND(BA$1>=$E6,BA$1<=$F6),"."," ") | BB6: =IF(AND(BB$1>=$E6,BB$1<=$F6),"."," ") | BC6: =IF(AND(BC$1>=$E6,BC$1<=$F6),"."," ") | BF6: =IF(AND(BF$1>=$E6,BF$1<=$F6),"."," ") | BG6: =IF(AND(BG$1>=$E6,BG$1<=$F6),"."," ") | BH6: =IF(AND(BH$1>=$E6,BH$1<=$F6),"."," ") | BI6: =IF(AND(BI$1>=$E6,BI$1<=$F6),"."," ") | BJ6: =IF(AND(BJ$1>=$E6,BJ$1<=$F6),"."," ") | BM6: =IF(AND(BM$1>=$E6,BM$1<=$F6),"."," ") | BN6: =IF(AND(BN$1>=$E6,BN$1<=$F6),"."," ") | BO6: =IF(AND(BO$1>=$E6,BO$1<=$F6),"."," ") | BP6: =IF(AND(BP$1>=$E6,BP$1<=$F6),"."," ") | BQ6: =IF(AND(BQ$1>=$E6,BQ$1<=$F6),"."," ") | BT6: =IF(AND(BT$1>=$E6,BT$1<=$F6),"."," ") | BU6: =IF(AND(BU$1>=$E6,BU$1<=$F6),"."," ") | BV6: =IF(AND(BV$1>=$E6,BV$1<=$F6),"."," ") | BW6: =IF(AND(BW$1>=$E6,BW$1<=$F6),"."," ") | BX6: =IF(AND(BX$1>=$E6,BX$1<=$F6),"."," ") | CA6: =IF(AND(CA$1>=$E6,CA$1<=$F6),"."," ") | CB6: =IF(AND(CB$1>=$E6,CB$1<=$F6),"."," ") | CC6: =IF(AND(CC$1>=$E6,CC$1<=$F6),"."," ") | CD6: =IF(AND(CD$1>=$E6,CD$1<=$F6),"."," ") | CE6: =IF(AND(CE$1>=$E6,CE$1<=$F6),"."," ") | CH6: =IF(AND(CH$1>=$E6,CH$1<=$F6),"."," ") | CI6: =IF(AND(CI$1>=$E6,CI$1<=$F6),"."," ") | CJ6: =IF(AND(CJ$1>=$E6,CJ$1<=$F6),"."," ") | CK6: =IF(AND(CK$1>=$E6,CK$1<=$F6),"."," ") | CL6: =IF(AND(CL$1>=$E6,CL$1<=$F6),"."," ") | CO6: =IF(AND(CO$1>=$E6,CO$1<=$F6),"."," ") | CP6: =IF(AND(CP$1>=$E6,CP$1<=$F6),"."," ") | CQ6: =IF(AND(CQ$1>=$E6,CQ$1<=$F6),"."," ") | CR6: =IF(AND(CR$1>=$E6,CR$1<=$F6),"."," ") | CS6: =IF(AND(CS$1>=$E6,CS$1<=$F6),"."," ") | CV6: =IF(AND(CV$1>=$E6,CV$1<=$F6),"."," ") | CW6: =IF(AND(CW$1>=$E6,CW$1<=$F6),"."," ") | CX6: =IF(AND(CX$1>=$E6,CX$1<=$F6),"."," ") | CY6: =IF(AND(CY$1>=$E6,CY$1<=$F6),"."," ") | CZ6: =IF(AND(CZ$1>=$E6,CZ$1<=$F6),"."," ") | DC6: =IF(AND(DC$1>=$E6,DC$1<=$F6),"."," ") | DD6: =IF(AND(DD$1>=$E6,DD$1<=$F6),"."," ") | DE6: =IF(AND(DE$1>=$E6,DE$1<=$F6),"."," ") | DF6: =IF(AND(DF$1>=$E6,DF$1<=$F6),"."," ") | DG6: =IF(AND(DG$1>=$E6,DG$1<=$F6),"."," ") | DJ6: =IF(AND(DJ$1>=$E6,DJ$1<=$F6),"."," ") | DK6: =IF(AND(DK$1>=$E6,DK$1<=$F6),"."," ") | DL6: =IF(AND(DL$1>=$E6,DL$1<=$F6),"."," ") | DM6: =IF(AND(DM$1>=$E6,DM$1<=$F6),"."," ") | DN6: =IF(AND(DN$1>=$E6,DN$1<=$F6),"."," ") | DQ6: =IF(AND(DQ$1>=$E6,DQ$1<=$F6),"."," ") | DR6: =IF(AND(DR$1>=$E6,DR$1<=$F6),"."," ") | DS6: =IF(AND(DS$1>=$E6,DS$1<=$F6),"."," ") | DT6: =IF(AND(DT$1>=$E6,DT$1<=$F6),"."," ") | DU6: =IF(AND(DU$1>=$E6,DU$1<=$F6),"."," ") | DX6: =IF(AND(DX$1>=$E6,DX$1<=$F6),"."," ") | DY6: =IF(AND(DY$1>=$E6,DY$1<=$F6),"."," ") | DZ6: =IF(AND(DZ$1>=$E6,DZ$1<=$F6),"."," ") | EA6: =IF(AND(EA$1>=$E6,EA$1<=$F6),"."," ") | EB6: =IF(AND(EB$1>=$E6,EB$1<=$F6),"."," ") | EE6: =IF(AND(EE$1>=$E6,EE$1<=$F6),"."," ") | EF6: =IF(AND(EF$1>=$E6,EF$1<=$F6),"."," ") | EG6: =IF(AND(EG$1>=$E6,EG$1<=$F6),"."," ") | EH6: =IF(AND(EH$1>=$E6,EH$1<=$F6),"."," ") | EI6: =IF(AND(EI$1>=$E6,EI$1<=$F6),"."," ") | EL6: =IF(AND(EL$1>=$E6,EL$1<=$F6),"."," ") | EM6: =IF(AND(EM$1>=$E6,EM$1<=$F6),"."," ") | EN6: =IF(AND(EN$1>=$E6,EN$1<=$F6),"."," ") | EO6: =IF(AND(EO$1>=$E6,EO$1<=$F6),"."," ") | EP6: =IF(AND(EP$1>=$E6,EP$1<=$F6),"."," ") | ES6: =IF(AND(ES$1>=$E6,ES$1<=$F6),"."," ") | ET6: =IF(AND(ET$1>=$E6,ET$1<=$F6),"."," ") | EU6: =IF(AND(EU$1>=$E6,EU$1<=$F6),"."," ") | EV6: =IF(AND(EV$1>=$E6,EV$1<=$F6),"."," ") | EW6: =IF(AND(EW$1>=$E6,EW$1<=$F6),"."," ") | EZ6: =IF(AND(EZ$1>=$E6,EZ$1<=$F6),"."," ") | FA6: =IF(AND(FA$1>=$E6,FA$1<=$F6),"."," ") | FB6: =IF(AND(FB$1>=$E6,FB$1<=$F6),"."," ") | FC6: =IF(AND(FC$1>=$E6,FC$1<=$F6),"."," ") | FD6: =IF(AND(FD$1>=$E6,FD$1<=$F6),"."," ") | FG6: =IF(AND(FG$1>=$E6,FG$1<=$F6),"."," ") | FH6: =IF(AND(FH$1>=$E6,FH$1<=$F6),"."," ") | FI6: =IF(AND(FI$1>=$E6,FI$1<=$F6),"."," ") | FJ6: =IF(AND(FJ$1>=$E6,FJ$1<=$F6),"."," ") | FK6: =IF(AND(FK$1>=$E6,FK$1<=$F6),"."," ") | FN6: =IF(AND(FN$1>=$E6,FN$1<=$F6),"."," ") | FO6: =IF(AND(FO$1>=$E6,FO$1<=$F6),"."," ") | FP6: =IF(AND(FP$1>=$E6,FP$1<=$F6),"."," ") | FQ6: =IF(AND(FQ$1>=$E6,FQ$1<=$F6),"."," ") | FR6: =IF(AND(FR$1>=$E6,FR$1<=$F6),"."," ") | FU6: =IF(AND(FU$1>=$E6,FU$1<=$F6),"."," ") | FV6: =IF(AND(FV$1>=$E6,FV$1<=$F6),"."," ") | FW6: =IF(AND(FW$1>=$E6,FW$1<=$F6),"."," ") | FX6: =IF(AND(FX$1>=$E6,FX$1<=$F6),"."," ") | FY6: =IF(AND(FY$1>=$E6,FY$1<=$F6),"."," ") | GB6: =IF(AND(GB$1>=$E6,GB$1<=$F6),"."," ") | GC6: =IF(AND(GC$1>=$E6,GC$1<=$F6),"."," ") | GD6: =IF(AND(GD$1>=$E6,GD$1<=$F6),"."," ") | GE6: =IF(AND(GE$1>=$E6,GE$1<=$F6),"."," ") | GF6: =IF(AND(GF$1>=$E6,GF$1<=$F6),"."," ") | GI6: =IF(AND(GI$1>=$E6,GI$1<=$F6),"."," ") | GJ6: =IF(AND(GJ$1>=$E6,GJ$1<=$F6),"."," ") | GK6: =IF(AND(GK$1>=$E6,GK$1<=$F6),"."," ") | GL6: =IF(AND(GL$1>=$E6,GL$1<=$F6),"."," ") | GM6: =IF(AND(GM$1>=$E6,GM$1<=$F6),"."," ") | GP6: =IF(AND(GP$1>=$E6,GP$1<=$F6),"."," ") | GQ6: =IF(AND(GQ$1>=$E6,GQ$1<=$F6),"."," ") | GR6: =IF(AND(GR$1>=$E6,GR$1<=$F6),"."," ") | GS6: =IF(AND(GS$1>=$E6,GS$1<=$F6),"."," ") | GT6: =IF(AND(GT$1>=$E6,GT$1<=$F6),"."," ") | GW6: =IF(AND(GW$1>=$E6,GW$1<=$F6),"."," ") | GX6: =IF(AND(GX$1>=$E6,GX$1<=$F6),"."," ") | GY6: =IF(AND(GY$1>=$E6,GY$1<=$F6),"."," ") | GZ6: =IF(AND(GZ$1>=$E6,GZ$1<=$F6),"."," ") | HA6: =IF(AND(HA$1>=$E6,HA$1<=$F6),"."," ") | HD6: =IF(AND(HD$1>=$E6,HD$1<=$F6),"."," ") | HE6: =IF(AND(HE$1>=$E6,HE$1<=$F6),"."," ") | HF6: =IF(AND(HF$1>=$E6,HF$1<=$F6),"."," ") | HG6: =IF(AND(HG$1>=$E6,HG$1<=$F6),"."," ") | HH6: =IF(AND(HH$1>=$E6,HH$1<=$F6),"."," ") | HK6: =IF(AND(HK$1>=$E6,HK$1<=$F6),"."," ") | HL6: =IF(AND(HL$1>=$E6,HL$1<=$F6),"."," ") | HM6: =IF(AND(HM$1>=$E6,HM$1<=$F6),"."," ") | HN6: =IF(AND(HN$1>=$E6,HN$1<=$F6),"."," ") | HO6: =IF(AND(HO$1>=$E6,HO$1<=$F6),"."," ") | HR6: =IF(AND(HR$1>=$E6,HR$1<=$F6),"."," ") | HS6: =IF(AND(HS$1>=$E6,HS$1<=$F6),"."," ") | HT6: =IF(AND(HT$1>=$E6,HT$1<=$F6),"."," ") | HU6: =IF(AND(HU$1>=$E6,HU$1<=$F6),"."," ") | HV6: =IF(AND(HV$1>=$E6,HV$1<=$F6),"."," ") | HY6: =IF(AND(HY$1>=$E6,HY$1<=$F6),"."," ") | HZ6: =IF(AND(HZ$1>=$E6,HZ$1<=$F6),"."," ") | IA6: =IF(AND(IA$1>=$E6,IA$1<=$F6),"."," ") | IB6: =IF(AND(IB$1>=$E6,IB$1<=$F6),"."," ") | IC6: =IF(AND(IC$1>=$E6,IC$1<=$F6),"."," ") | IF6: =IF(AND(IF$1>=$E6,IF$1<=$F6),"."," ") | IG6: =IF(AND(IG$1>=$E6,IG$1<=$F6),"."," ") | IH6: =IF(AND(IH$1>=$E6,IH$1<=$F6),"."," ") | II6: =IF(AND(II$1>=$E6,II$1<=$F6),"."," ") | IJ6: =IF(AND(IJ$1>=$E6,IJ$1<=$F6),"."," ") | IM6: =IF(AND(IM$1>=$E6,IM$1<=$F6),"."," ") | IN6: =IF(AND(IN$1>=$E6,IN$1<=$F6),"."," ") | IO6: =IF(AND(IO$1>=$E6,IO$1<=$F6),"."," ") | IP6: =IF(AND(IP$1>=$E6,IP$1<=$F6),"."," ") | IQ6: =IF(AND(IQ$1>=$E6,IQ$1<=$F6),"."," ") | IT6: =IF(AND(IT$1>=$E6,IT$1<=$F6),"."," ") | IU6: =IF(AND(IU$1>=$E6,IU$1<=$F6),"."," ") | IV6: =IF(AND(IV$1>=$E6,IV$1<=$F6),"."," ") | IW6: =IF(AND(IW$1>=$E6,IW$1<=$F6),"."," ") | IX6: =IF(AND(IX$1>=$E6,IX$1<=$F6),"."," ") | JA6: =IF(AND(JA$1>=$E6,JA$1<=$F6),"."," ") | JB6: =IF(AND(JB$1>=$E6,JB$1<=$F6),"."," ") | JC6: =IF(AND(JC$1>=$E6,JC$1<=$F6),"."," ") | JD6: =IF(AND(JD$1>=$E6,JD$1<=$F6),"."," ") | JE6: =IF(AND(JE$1>=$E6,JE$1<=$F6),"."," ")
A7: =A6+1 -> 4 | B7: Draft Functional Requirements | C7: Geg | D7: 3 | E7: =VLOOKUP(D7,$A$1:$F$146,6,FALSE) + 1 -> 45822 | F7: =WORKDAY(E7,G7-1,Config!$C$2:$C$21) -> 45824 | G7: 2 | H7: 0.3 | I7: =IF(AND(I$1>=$E7,I$1<=$F7),"."," ") | J7: =IF(AND(J$1>=$E7,J$1<=$F7),"."," ") | K7: =IF(AND(K$1>=$E7,K$1<=$F7),"."," ") | L7: =IF(AND(L$1>=$E7,L$1<=$F7),"."," ") | M7: =IF(AND(M$1>=$E7,M$1<=$F7),"."," ") | P7: =IF(AND(P$1>=$E7,P$1<=$F7),"."," ") | Q7: =IF(AND(Q$1>=$E7,Q$1<=$F7),"."," ") -> . | R7: =IF(AND(R$1>=$E7,R$1<=$F7),"."," ") -> . | S7: =IF(AND(S$1>=$E7,S$1<=$F7),"."," ") -> . | T7: =IF(AND(T$1>=$E7,T$1<=$F7),"."," ") | W7: =IF(AND(W$1>=$E7,W$1<=$F7),"."," ") | X7: =IF(AND(X$1>=$E7,X$1<=$F7),"."," ") | Y7: =IF(AND(Y$1>=$E7,Y$1<=$F7),"."," ") | Z7: =IF(AND(Z$1>=$E7,Z$1<=$F7),"."," ") | AA7: =IF(AND(AA$1>=$E7,AA$1<=$F7),"."," ") | AD7: =IF(AND(AD$1>=$E7,AD$1<=$F7),"."," ") | AE7: =IF(AND(AE$1>=$E7,AE$1<=$F7),"."," ") | AF7: =IF(AND(AF$1>=$E7,AF$1<=$F7),"."," ") | AG7: =IF(AND(AG$1>=$E7,AG$1<=$F7),"."," ") | AH7: =IF(AND(AH$1>=$E7,AH$1<=$F7),"."," ") | AK7: =IF(AND(AK$1>=$E7,AK$1<=$F7),"."," ") | AL7: =IF(AND(AL$1>=$E7,AL$1<=$F7),"."," ") | AM7: =IF(AND(AM$1>=$E7,AM$1<=$F7),"."," ") | AN7: =IF(AND(AN$1>=$E7,AN$1<=$F7),"."," ") | AO7: =IF(AND(AO$1>=$E7,AO$1<=$F7),"."," ") | AR7: =IF(AND(AR$1>=$E7,AR$1<=$F7),"."," ") | AS7: =IF(AND(AS$1>=$E7,AS$1<=$F7),"."," ") | AT7: =IF(AND(AT$1>=$E7,AT$1<=$F7),"."," ") | AU7: =IF(AND(AU$1>=$E7,AU$1<=$F7),"."," ") | AV7: =IF(AND(AV$1>=$E7,AV$1<=$F7),"."," ") | AY7: =IF(AND(AY$1>=$E7,AY$1<=$F7),"."," ") | AZ7: =IF(AND(AZ$1>=$E7,AZ$1<=$F7),"."," ") | BA7: =IF(AND(BA$1>=$E7,BA$1<=$F7),"."," ") | BB7: =IF(AND(BB$1>=$E7,BB$1<=$F7),"."," ") | BC7: =IF(AND(BC$1>=$E7,BC$1<=$F7),"."," ") | BF7: =IF(AND(BF$1>=$E7,BF$1<=$F7),"."," ") | BG7: =IF(AND(BG$1>=$E7,BG$1<=$F7),"."," ") | BH7: =IF(AND(BH$1>=$E7,BH$1<=$F7),"."," ") | BI7: =IF(AND(BI$1>=$E7,BI$1<=$F7),"."," ") | BJ7: =IF(AND(BJ$1>=$E7,BJ$1<=$F7),"."," ") | BM7: =IF(AND(BM$1>=$E7,BM$1<=$F7),"."," ") | BN7: =IF(AND(BN$1>=$E7,BN$1<=$F7),"."," ") | BO7: =IF(AND(BO$1>=$E7,BO$1<=$F7),"."," ") | BP7: =IF(AND(BP$1>=$E7,BP$1<=$F7),"."," ") | BQ7: =IF(AND(BQ$1>=$E7,BQ$1<=$F7),"."," ") | BT7: =IF(AND(BT$1>=$E7,BT$1<=$F7),"."," ") | BU7: =IF(AND(BU$1>=$E7,BU$1<=$F7),"."," ") | BV7: =IF(AND(BV$1>=$E7,BV$1<=$F7),"."," ") | BW7: =IF(AND(BW$1>=$E7,BW$1<=$F7),"."," ") | BX7: =IF(AND(BX$1>=$E7,BX$1<=$F7),"."," ") | CA7: =IF(AND(CA$1>=$E7,CA$1<=$F7),"."," ") | CB7: =IF(AND(CB$1>=$E7,CB$1<=$F7),"."," ") | CC7: =IF(AND(CC$1>=$E7,CC$1<=$F7),"."," ") | CD7: =IF(AND(CD$1>=$E7,CD$1<=$F7),"."," ") | CE7: =IF(AND(CE$1>=$E7,CE$1<=$F7),"."," ") | CH7: =IF(AND(CH$1>=$E7,CH$1<=$F7),"."," ") | CI7: =IF(AND(CI$1>=$E7,CI$1<=$F7),"."," ") | CJ7: =IF(AND(CJ$1>=$E7,CJ$1<=$F7),"."," ") | CK7: =IF(AND(CK$1>=$E7,CK$1<=$F7),"."," ") | CL7: =IF(AND(CL$1>=$E7,CL$1<=$F7),"."," ") | CO7: =IF(AND(CO$1>=$E7,CO$1<=$F7),"."," ") | CP7: =IF(AND(CP$1>=$E7,CP$1<=$F7),"."," ") | CQ7: =IF(AND(CQ$1>=$E7,CQ$1<=$F7),"."," ") | CR7: =IF(AND(CR$1>=$E7,CR$1<=$F7),"."," ") | CS7: =IF(AND(CS$1>=$E7,CS$1<=$F7),"."," ") | CV7: =IF(AND(CV$1>=$E7,CV$1<=$F7),"."," ") | CW7: =IF(AND(CW$1>=$E7,CW$1<=$F7),"."," ") | CX7: =IF(AND(CX$1>=$E7,CX$1<=$F7),"."," ") | CY7: =IF(AND(CY$1>=$E7,CY$1<=$F7),"."," ") | CZ7: =IF(AND(CZ$1>=$E7,CZ$1<=$F7),"."," ") | DC7: =IF(AND(DC$1>=$E7,DC$1<=$F7),"."," ") | DD7: =IF(AND(DD$1>=$E7,DD$1<=$F7),"."," ") | DE7: =IF(AND(DE$1>=$E7,DE$1<=$F7),"."," ") | DF7: =IF(AND(DF$1>=$E7,DF$1<=$F7),"."," ") | DG7: =IF(AND(DG$1>=$E7,DG$1<=$F7),"."," ") | DJ7: =IF(AND(DJ$1>=$E7,DJ$1<=$F7),"."," ") | DK7: =IF(AND(DK$1>=$E7,DK$1<=$F7),"."," ") | DL7: =IF(AND(DL$1>=$E7,DL$1<=$F7),"."," ") | DM7: =IF(AND(DM$1>=$E7,DM$1<=$F7),"."," ") | DN7: =IF(AND(DN$1>=$E7,DN$1<=$F7),"."," ") | DQ7: =IF(AND(DQ$1>=$E7,DQ$1<=$F7),"."," ") | DR7: =IF(AND(DR$1>=$E7,DR$1<=$F7),"."," ") | DS7: =IF(AND(DS$1>=$E7,DS$1<=$F7),"."," ") | DT7: =IF(AND(DT$1>=$E7,DT$1<=$F7),"."," ") | DU7: =IF(AND(DU$1>=$E7,DU$1<=$F7),"."," ") | DX7: =IF(AND(DX$1>=$E7,DX$1<=$F7),"."," ") | DY7: =IF(AND(DY$1>=$E7,DY$1<=$F7),"."," ") | DZ7: =IF(AND(DZ$1>=$E7,DZ$1<=$F7),"."," ") | EA7: =IF(AND(EA$1>=$E7,EA$1<=$F7),"."," ") | EB7: =IF(AND(EB$1>=$E7,EB$1<=$F7),"."," ") | EE7: =IF(AND(EE$1>=$E7,EE$1<=$F7),"."," ") | EF7: =IF(AND(EF$1>=$E7,EF$1<=$F7),"."," ") | EG7: =IF(AND(EG$1>=$E7,EG$1<=$F7),"."," ") | EH7: =IF(AND(EH$1>=$E7,EH$1<=$F7),"."," ") | EI7: =IF(AND(EI$1>=$E7,EI$1<=$F7),"."," ") | EL7: =IF(AND(EL$1>=$E7,EL$1<=$F7),"."," ") | EM7: =IF(AND(EM$1>=$E7,EM$1<=$F7),"."," ") | EN7: =IF(AND(EN$1>=$E7,EN$1<=$F7),"."," ") | EO7: =IF(AND(EO$1>=$E7,EO$1<=$F7),"."," ") | EP7: =IF(AND(EP$1>=$E7,EP$1<=$F7),"."," ") | ES7: =IF(AND(ES$1>=$E7,ES$1<=$F7),"."," ") | ET7: =IF(AND(ET$1>=$E7,ET$1<=$F7),"."," ") | EU7: =IF(AND(EU$1>=$E7,EU$1<=$F7),"."," ") | EV7: =IF(AND(EV$1>=$E7,EV$1<=$F7),"."," ") | EW7: =IF(AND(EW$1>=$E7,EW$1<=$F7),"."," ") | EZ7: =IF(AND(EZ$1>=$E7,EZ$1<=$F7),"."," ") | FA7: =IF(AND(FA$1>=$E7,FA$1<=$F7),"."," ") | FB7: =IF(AND(FB$1>=$E7,FB$1<=$F7),"."," ") | FC7: =IF(AND(FC$1>=$E7,FC$1<=$F7),"."," ") | FD7: =IF(AND(FD$1>=$E7,FD$1<=$F7),"."," ") | FG7: =IF(AND(FG$1>=$E7,FG$1<=$F7),"."," ") | FH7: =IF(AND(FH$1>=$E7,FH$1<=$F7),"."," ") | FI7: =IF(AND(FI$1>=$E7,FI$1<=$F7),"."," ") | FJ7: =IF(AND(FJ$1>=$E7,FJ$1<=$F7),"."," ") | FK7: =IF(AND(FK$1>=$E7,FK$1<=$F7),"."," ") | FN7: =IF(AND(FN$1>=$E7,FN$1<=$F7),"."," ") | FO7: =IF(AND(FO$1>=$E7,FO$1<=$F7),"."," ") | FP7: =IF(AND(FP$1>=$E7,FP$1<=$F7),"."," ") | FQ7: =IF(AND(FQ$1>=$E7,FQ$1<=$F7),"."," ") | FR7: =IF(AND(FR$1>=$E7,FR$1<=$F7),"."," ") | FU7: =IF(AND(FU$1>=$E7,FU$1<=$F7),"."," ") | FV7: =IF(AND(FV$1>=$E7,FV$1<=$F7),"."," ") | FW7: =IF(AND(FW$1>=$E7,FW$1<=$F7),"."," ") | FX7: =IF(AND(FX$1>=$E7,FX$1<=$F7),"."," ") | FY7: =IF(AND(FY$1>=$E7,FY$1<=$F7),"."," ") | GB7: =IF(AND(GB$1>=$E7,GB$1<=$F7),"."," ") | GC7: =IF(AND(GC$1>=$E7,GC$1<=$F7),"."," ") | GD7: =IF(AND(GD$1>=$E7,GD$1<=$F7),"."," ") | GE7: =IF(AND(GE$1>=$E7,GE$1<=$F7),"."," ") | GF7: =IF(AND(GF$1>=$E7,GF$1<=$F7),"."," ") | GI7: =IF(AND(GI$1>=$E7,GI$1<=$F7),"."," ") | GJ7: =IF(AND(GJ$1>=$E7,GJ$1<=$F7),"."," ") | GK7: =IF(AND(GK$1>=$E7,GK$1<=$F7),"."," ") | GL7: =IF(AND(GL$1>=$E7,GL$1<=$F7),"."," ") | GM7: =IF(AND(GM$1>=$E7,GM$1<=$F7),"."," ") | GP7: =IF(AND(GP$1>=$E7,GP$1<=$F7),"."," ") | GQ7: =IF(AND(GQ$1>=$E7,GQ$1<=$F7),"."," ") | GR7: =IF(AND(GR$1>=$E7,GR$1<=$F7),"."," ") | GS7: =IF(AND(GS$1>=$E7,GS$1<=$F7),"."," ") | GT7: =IF(AND(GT$1>=$E7,GT$1<=$F7),"."," ") | GW7: =IF(AND(GW$1>=$E7,GW$1<=$F7),"."," ") | GX7: =IF(AND(GX$1>=$E7,GX$1<=$F7),"."," ") | GY7: =IF(AND(GY$1>=$E7,GY$1<=$F7),"."," ") | GZ7: =IF(AND(GZ$1>=$E7,GZ$1<=$F7),"."," ") | HA7: =IF(AND(HA$1>=$E7,HA$1<=$F7),"."," ") | HD7: =IF(AND(HD$1>=$E7,HD$1<=$F7),"."," ") | HE7: =IF(AND(HE$1>=$E7,HE$1<=$F7),"."," ") | HF7: =IF(AND(HF$1>=$E7,HF$1<=$F7),"."," ") | HG7: =IF(AND(HG$1>=$E7,HG$1<=$F7),"."," ") | HH7: =IF(AND(HH$1>=$E7,HH$1<=$F7),"."," ") | HK7: =IF(AND(HK$1>=$E7,HK$1<=$F7),"."," ") | HL7: =IF(AND(HL$1>=$E7,HL$1<=$F7),"."," ") | HM7: =IF(AND(HM$1>=$E7,HM$1<=$F7),"."," ") | HN7: =IF(AND(HN$1>=$E7,HN$1<=$F7),"."," ") | HO7: =IF(AND(HO$1>=$E7,HO$1<=$F7),"."," ") | HR7: =IF(AND(HR$1>=$E7,HR$1<=$F7),"."," ") | HS7: =IF(AND(HS$1>=$E7,HS$1<=$F7),"."," ") | HT7: =IF(AND(HT$1>=$E7,HT$1<=$F7),"."," ") | HU7: =IF(AND(HU$1>=$E7,HU$1<=$F7),"."," ") | HV7: =IF(AND(HV$1>=$E7,HV$1<=$F7),"."," ") | HY7: =IF(AND(HY$1>=$E7,HY$1<=$F7),"."," ") | HZ7: =IF(AND(HZ$1>=$E7,HZ$1<=$F7),"."," ") | IA7: =IF(AND(IA$1>=$E7,IA$1<=$F7),"."," ") | IB7: =IF(AND(IB$1>=$E7,IB$1<=$F7),"."," ") | IC7: =IF(AND(IC$1>=$E7,IC$1<=$F7),"."," ") | IF7: =IF(AND(IF$1>=$E7,IF$1<=$F7),"."," ") | IG7: =IF(AND(IG$1>=$E7,IG$1<=$F7),"."," ") | IH7: =IF(AND(IH$1>=$E7,IH$1<=$F7),"."," ") | II7: =IF(AND(II$1>=$E7,II$1<=$F7),"."," ") | IJ7: =IF(AND(IJ$1>=$E7,IJ$1<=$F7),"."," ") | IM7: =IF(AND(IM$1>=$E7,IM$1<=$F7),"."," ") | IN7: =IF(AND(IN$1>=$E7,IN$1<=$F7),"."," ") | IO7: =IF(AND(IO$1>=$E7,IO$1<=$F7),"."," ") | IP7: =IF(AND(IP$1>=$E7,IP$1<=$F7),"."," ") | IQ7: =IF(AND(IQ$1>=$E7,IQ$1<=$F7),"."," ") | IT7: =IF(AND(IT$1>=$E7,IT$1<=$F7),"."," ") | IU7: =IF(AND(IU$1>=$E7,IU$1<=$F7),"."," ") | IV7: =IF(AND(IV$1>=$E7,IV$1<=$F7),"."," ") | IW7: =IF(AND(IW$1>=$E7,IW$1<=$F7),"."," ") | IX7: =IF(AND(IX$1>=$E7,IX$1<=$F7),"."," ") | JA7: =IF(AND(JA$1>=$E7,JA$1<=$F7),"."," ") | JB7: =IF(AND(JB$1>=$E7,JB$1<=$F7),"."," ") | JC7: =IF(AND(JC$1>=$E7,JC$1<=$F7),"."," ") | JD7: =IF(AND(JD$1>=$E7,JD$1<=$F7),"."," ") | JE7: =IF(AND(JE$1>=$E7,JE$1<=$F7),"."," ")
A8: =A7+1 -> 5 | B8: Sign Off Functional Requirements | C8: Rice | D8: 4 | E8: =VLOOKUP(D8,$A$1:$F$146,6,FALSE) + 1 -> 45825 | F8: =WORKDAY(E8,G8-1,Config!$C$2:$C$21) -> 45828 | G8: 4 | H8: 0.4 | I8: =IF(AND(I$1>=$E8,I$1<=$F8),"."," ") | J8: =IF(AND(J$1>=$E8,J$1<=$F8),"."," ") | K8: =IF(AND(K$1>=$E8,K$1<=$F8),"."," ") | L8: =IF(AND(L$1>=$E8,L$1<=$F8),"."," ") | M8: =IF(AND(M$1>=$E8,M$1<=$F8),"."," ") | P8: =IF(AND(P$1>=$E8,P$1<=$F8),"."," ") | Q8: =IF(AND(Q$1>=$E8,Q$1<=$F8),"."," ") | R8: =IF(AND(R$1>=$E8,R$1<=$F8),"."," ") | S8: =IF(AND(S$1>=$E8,S$1<=$F8),"."," ") | T8: =IF(AND(T$1>=$E8,T$1<=$F8),"."," ") -> . | W8: =IF(AND(W$1>=$E8,W$1<=$F8),"."," ") -> . | X8: =IF(AND(X$1>=$E8,X$1<=$F8),"."," ") | Y8: =IF(AND(Y$1>=$E8,Y$1<=$F8),"."," ") | Z8: =IF(AND(Z$1>=$E8,Z$1<=$F8),"."," ") | AA8: =IF(AND(AA$1>=$E8,AA$1<=$F8),"."," ") | AD8: =IF(AND(AD$1>=$E8,AD$1<=$F8),"."," ") | AE8: =IF(AND(AE$1>=$E8,AE$1<=$F8),"."," ") | AF8: =IF(AND(AF$1>=$E8,AF$1<=$F8),"."," ") | AG8: =IF(AND(AG$1>=$E8,AG$1<=$F8),"."," ") | AH8: =IF(AND(AH$1>=$E8,AH$1<=$F8),"."," ") | AK8: =IF(AND(AK$1>=$E8,AK$1<=$F8),"."," ") | AL8: =IF(AND(AL$1>=$E8,AL$1<=$F8),"."," ") | AM8: =IF(AND(AM$1>=$E8,AM$1<=$F8),"."," ") | AN8: =IF(AND(AN$1>=$E8,AN$1<=$F8),"."," ") | AO8: =IF(AND(AO$1>=$E8,AO$1<=$F8),"."," ") | AR8: =IF(AND(AR$1>=$E8,AR$1<=$F8),"."," ") | AS8: =IF(AND(AS$1>=$E8,AS$1<=$F8),"."," ") | AT8: =IF(AND(AT$1>=$E8,AT$1<=$F8),"."," ") | AU8: =IF(AND(AU$1>=$E8,AU$1<=$F8),"."," ") | AV8: =IF(AND(AV$1>=$E8,AV$1<=$F8),"."," ") | AY8: =IF(AND(AY$1>=$E8,AY$1<=$F8),"."," ") | AZ8: =IF(AND(AZ$1>=$E8,AZ$1<=$F8),"."," ") | BA8: =IF(AND(BA$1>=$E8,BA$1<=$F8),"."," ") | BB8: =IF(AND(BB$1>=$E8,BB$1<=$F8),"."," ") | BC8: =IF(AND(BC$1>=$E8,BC$1<=$F8),"."," ") | BF8: =IF(AND(BF$1>=$E8,BF$1<=$F8),"."," ") | BG8: =IF(AND(BG$1>=$E8,BG$1<=$F8),"."," ") | BH8: =IF(AND(BH$1>=$E8,BH$1<=$F8),"."," ") | BI8: =IF(AND(BI$1>=$E8,BI$1<=$F8),"."," ") | BJ8: =IF(AND(BJ$1>=$E8,BJ$1<=$F8),"."," ") | BM8: =IF(AND(BM$1>=$E8,BM$1<=$F8),"."," ") | BN8: =IF(AND(BN$1>=$E8,BN$1<=$F8),"."," ") | BO8: =IF(AND(BO$1>=$E8,BO$1<=$F8),"."," ") | BP8: =IF(AND(BP$1>=$E8,BP$1<=$F8),"."," ") | BQ8: =IF(AND(BQ$1>=$E8,BQ$1<=$F8),"."," ") | BT8: =IF(AND(BT$1>=$E8,BT$1<=$F8),"."," ") | BU8: =IF(AND(BU$1>=$E8,BU$1<=$F8),"."," ") | BV8: =IF(AND(BV$1>=$E8,BV$1<=$F8),"."," ") | BW8: =IF(AND(BW$1>=$E8,BW$1<=$F8),"."," ") | BX8: =IF(AND(BX$1>=$E8,BX$1<=$F8),"."," ") | CA8: =IF(AND(CA$1>=$E8,CA$1<=$F8),"."," ") | CB8: =IF(AND(CB$1>=$E8,CB$1<=$F8),"."," ") | CC8: =IF(AND(CC$1>=$E8,CC$1<=$F8),"."," ") | CD8: =IF(AND(CD$1>=$E8,CD$1<=$F8),"."," ") | CE8: =IF(AND(CE$1>=$E8,CE$1<=$F8),"."," ") | CH8: =IF(AND(CH$1>=$E8,CH$1<=$F8),"."," ") | CI8: =IF(AND(CI$1>=$E8,CI$1<=$F8),"."," ") | CJ8: =IF(AND(CJ$1>=$E8,CJ$1<=$F8),"."," ") | CK8: =IF(AND(CK$1>=$E8,CK$1<=$F8),"."," ") | CL8: =IF(AND(CL$1>=$E8,CL$1<=$F8),"."," ") | CO8: =IF(AND(CO$1>=$E8,CO$1<=$F8),"."," ") | CP8: =IF(AND(CP$1>=$E8,CP$1<=$F8),"."," ") | CQ8: =IF(AND(CQ$1>=$E8,CQ$1<=$F8),"."," ") | CR8: =IF(AND(CR$1>=$E8,CR$1<=$F8),"."," ") | CS8: =IF(AND(CS$1>=$E8,CS$1<=$F8),"."," ") | CV8: =IF(AND(CV$1>=$E8,CV$1<=$F8),"."," ") | CW8: =IF(AND(CW$1>=$E8,CW$1<=$F8),"."," ") | CX8: =IF(AND(CX$1>=$E8,CX$1<=$F8),"."," ") | CY8: =IF(AND(CY$1>=$E8,CY$1<=$F8),"."," ") | CZ8: =IF(AND(CZ$1>=$E8,CZ$1<=$F8),"."," ") | DC8: =IF(AND(DC$1>=$E8,DC$1<=$F8),"."," ") | DD8: =IF(AND(DD$1>=$E8,DD$1<=$F8),"."," ") | DE8: =IF(AND(DE$1>=$E8,DE$1<=$F8),"."," ") | DF8: =IF(AND(DF$1>=$E8,DF$1<=$F8),"."," ") | DG8: =IF(AND(DG$1>=$E8,DG$1<=$F8),"."," ") | DJ8: =IF(AND(DJ$1>=$E8,DJ$1<=$F8),"."," ") | DK8: =IF(AND(DK$1>=$E8,DK$1<=$F8),"."," ") | DL8: =IF(AND(DL$1>=$E8,DL$1<=$F8),"."," ") | DM8: =IF(AND(DM$1>=$E8,DM$1<=$F8),"."," ") | DN8: =IF(AND(DN$1>=$E8,DN$1<=$F8),"."," ") | DQ8: =IF(AND(DQ$1>=$E8,DQ$1<=$F8),"."," ") | DR8: =IF(AND(DR$1>=$E8,DR$1<=$F8),"."," ") | DS8: =IF(AND(DS$1>=$E8,DS$1<=$F8),"."," ") | DT8: =IF(AND(DT$1>=$E8,DT$1<=$F8),"."," ") | DU8: =IF(AND(DU$1>=$E8,DU$1<=$F8),"."," ") | DX8: =IF(AND(DX$1>=$E8,DX$1<=$F8),"."," ") | DY8: =IF(AND(DY$1>=$E8,DY$1<=$F8),"."," ") | DZ8: =IF(AND(DZ$1>=$E8,DZ$1<=$F8),"."," ") | EA8: =IF(AND(EA$1>=$E8,EA$1<=$F8),"."," ") | EB8: =IF(AND(EB$1>=$E8,EB$1<=$F8),"."," ") | EE8: =IF(AND(EE$1>=$E8,EE$1<=$F8),"."," ") | EF8: =IF(AND(EF$1>=$E8,EF$1<=$F8),"."," ") | EG8: =IF(AND(EG$1>=$E8,EG$1<=$F8),"."," ") | EH8: =IF(AND(EH$1>=$E8,EH$1<=$F8),"."," ") | EI8: =IF(AND(EI$1>=$E8,EI$1<=$F8),"."," ") | EL8: =IF(AND(EL$1>=$E8,EL$1<=$F8),"."," ") | EM8: =IF(AND(EM$1>=$E8,EM$1<=$F8),"."," ") | EN8: =IF(AND(EN$1>=$E8,EN$1<=$F8),"."," ") | EO8: =IF(AND(EO$1>=$E8,EO$1<=$F8),"."," ") | EP8: =IF(AND(EP$1>=$E8,EP$1<=$F8),"."," ") | ES8: =IF(AND(ES$1>=$E8,ES$1<=$F8),"."," ") | ET8: =IF(AND(ET$1>=$E8,ET$1<=$F8),"."," ") | EU8: =IF(AND(EU$1>=$E8,EU$1<=$F8),"."," ") | EV8: =IF(AND(EV$1>=$E8,EV$1<=$F8),"."," ") | EW8: =IF(AND(EW$1>=$E8,EW$1<=$F8),"."," ") | EZ8: =IF(AND(EZ$1>=$E8,EZ$1<=$F8),"."," ") | FA8: =IF(AND(FA$1>=$E8,FA$1<=$F8),"."," ") | FB8: =IF(AND(FB$1>=$E8,FB$1<=$F8),"."," ") | FC8: =IF(AND(FC$1>=$E8,FC$1<=$F8),"."," ") | FD8: =IF(AND(FD$1>=$E8,FD$1<=$F8),"."," ") | FG8: =IF(AND(FG$1>=$E8,FG$1<=$F8),"."," ") | FH8: =IF(AND(FH$1>=$E8,FH$1<=$F8),"."," ") | FI8: =IF(AND(FI$1>=$E8,FI$1<=$F8),"."," ") | FJ8: =IF(AND(FJ$1>=$E8,FJ$1<=$F8),"."," ") | FK8: =IF(AND(FK$1>=$E8,FK$1<=$F8),"."," ") | FN8: =IF(AND(FN$1>=$E8,FN$1<=$F8),"."," ") | FO8: =IF(AND(FO$1>=$E8,FO$1<=$F8),"."," ") | FP8: =IF(AND(FP$1>=$E8,FP$1<=$F8),"."," ") | FQ8: =IF(AND(FQ$1>=$E8,FQ$1<=$F8),"."," ") | FR8: =IF(AND(FR$1>=$E8,FR$1<=$F8),"."," ") | FU8: =IF(AND(FU$1>=$E8,FU$1<=$F8),"."," ") | FV8: =IF(AND(FV$1>=$E8,FV$1<=$F8),"."," ") | FW8: =IF(AND(FW$1>=$E8,FW$1<=$F8),"."," ") | FX8: =IF(AND(FX$1>=$E8,FX$1<=$F8),"."," ") | FY8: =IF(AND(FY$1>=$E8,FY$1<=$F8),"."," ") | GB8: =IF(AND(GB$1>=$E8,GB$1<=$F8),"."," ") | GC8: =IF(AND(GC$1>=$E8,GC$1<=$F8),"."," ") | GD8: =IF(AND(GD$1>=$E8,GD$1<=$F8),"."," ") | GE8: =IF(AND(GE$1>=$E8,GE$1<=$F8),"."," ") | GF8: =IF(AND(GF$1>=$E8,GF$1<=$F8),"."," ") | GI8: =IF(AND(GI$1>=$E8,GI$1<=$F8),"."," ") | GJ8: =IF(AND(GJ$1>=$E8,GJ$1<=$F8),"."," ") | GK8: =IF(AND(GK$1>=$E8,GK$1<=$F8),"."," ") | GL8: =IF(AND(GL$1>=$E8,GL$1<=$F8),"."," ") | GM8: =IF(AND(GM$1>=$E8,GM$1<=$F8),"."," ") | GP8: =IF(AND(GP$1>=$E8,GP$1<=$F8),"."," ") | GQ8: =IF(AND(GQ$1>=$E8,GQ$1<=$F8),"."," ") | GR8: =IF(AND(GR$1>=$E8,GR$1<=$F8),"."," ") | GS8: =IF(AND(GS$1>=$E8,GS$1<=$F8),"."," ") | GT8: =IF(AND(GT$1>=$E8,GT$1<=$F8),"."," ") | GW8: =IF(AND(GW$1>=$E8,GW$1<=$F8),"."," ") | GX8: =IF(AND(GX$1>=$E8,GX$1<=$F8),"."," ") | GY8: =IF(AND(GY$1>=$E8,GY$1<=$F8),"."," ") | GZ8: =IF(AND(GZ$1>=$E8,GZ$1<=$F8),"."," ") | HA8: =IF(AND(HA$1>=$E8,HA$1<=$F8),"."," ") | HD8: =IF(AND(HD$1>=$E8,HD$1<=$F8),"."," ") | HE8: =IF(AND(HE$1>=$E8,HE$1<=$F8),"."," ") | HF8: =IF(AND(HF$1>=$E8,HF$1<=$F8),"."," ") | HG8: =IF(AND(HG$1>=$E8,HG$1<=$F8),"."," ") | HH8: =IF(AND(HH$1>=$E8,HH$1<=$F8),"."," ") | HK8: =IF(AND(HK$1>=$E8,HK$1<=$F8),"."," ") | HL8: =IF(AND(HL$1>=$E8,HL$1<=$F8),"."," ") | HM8: =IF(AND(HM$1>=$E8,HM$1<=$F8),"."," ") | HN8: =IF(AND(HN$1>=$E8,HN$1<=$F8),"."," ") | HO8: =IF(AND(HO$1>=$E8,HO$1<=$F8),"."," ") | HR8: =IF(AND(HR$1>=$E8,HR$1<=$F8),"."," ") | HS8: =IF(AND(HS$1>=$E8,HS$1<=$F8),"."," ") | HT8: =IF(AND(HT$1>=$E8,HT$1<=$F8),"."," ") | HU8: =IF(AND(HU$1>=$E8,HU$1<=$F8),"."," ") | HV8: =IF(AND(HV$1>=$E8,HV$1<=$F8),"."," ") | HY8: =IF(AND(HY$1>=$E8,HY$1<=$F8),"."," ") | HZ8: =IF(AND(HZ$1>=$E8,HZ$1<=$F8),"."," ") | IA8: =IF(AND(IA$1>=$E8,IA$1<=$F8),"."," ") | IB8: =IF(AND(IB$1>=$E8,IB$1<=$F8),"."," ") | IC8: =IF(AND(IC$1>=$E8,IC$1<=$F8),"."," ") | IF8: =IF(AND(IF$1>=$E8,IF$1<=$F8),"."," ") | IG8: =IF(AND(IG$1>=$E8,IG$1<=$F8),"."," ") | IH8: =IF(AND(IH$1>=$E8,IH$1<=$F8),"."," ") | II8: =IF(AND(II$1>=$E8,II$1<=$F8),"."," ") | IJ8: =IF(AND(IJ$1>=$E8,IJ$1<=$F8),"."," ") | IM8: =IF(AND(IM$1>=$E8,IM$1<=$F8),"."," ") | IN8: =IF(AND(IN$1>=$E8,IN$1<=$F8),"."," ") | IO8: =IF(AND(IO$1>=$E8,IO$1<=$F8),"."," ") | IP8: =IF(AND(IP$1>=$E8,IP$1<=$F8),"."," ") | IQ8: =IF(AND(IQ$1>=$E8,IQ$1<=$F8),"."," ") | IT8: =IF(AND(IT$1>=$E8,IT$1<=$F8),"."," ") | IU8: =IF(AND(IU$1>=$E8,IU$1<=$F8),"."," ") | IV8: =IF(AND(IV$1>=$E8,IV$1<=$F8),"."," ") | IW8: =IF(AND(IW$1>=$E8,IW$1<=$F8),"."," ") | IX8: =IF(AND(IX$1>=$E8,IX$1<=$F8),"."," ") | JA8: =IF(AND(JA$1>=$E8,JA$1<=$F8),"."," ") | JB8: =IF(AND(JB$1>=$E8,JB$1<=$F8),"."," ") | JC8: =IF(AND(JC$1>=$E8,JC$1<=$F8),"."," ") | JD8: =IF(AND(JD$1>=$E8,JD$1<=$F8),"."," ") | JE8: =IF(AND(JE$1>=$E8,JE$1<=$F8),"."," ")
A9: 6 | B9: System Design | C9: John | D9: 5 | E9: =VLOOKUP(D9,$A$1:$F$146,6,FALSE) + 1 -> 45829 | F9: =WORKDAY(E9,G9-1,Config!$C$2:$C$21) -> 45831 | G9: 2 | H9: 0.9 | I9: =IF(AND(I$1>=$E9,I$1<=$F9),"."," ") | J9: =IF(AND(J$1>=$E9,J$1<=$F9),"."," ") | K9: =IF(AND(K$1>=$E9,K$1<=$F9),"."," ") | L9: =IF(AND(L$1>=$E9,L$1<=$F9),"."," ") | M9: =IF(AND(M$1>=$E9,M$1<=$F9),"."," ") | P9: =IF(AND(P$1>=$E9,P$1<=$F9),"."," ") | Q9: =IF(AND(Q$1>=$E9,Q$1<=$F9),"."," ") | R9: =IF(AND(R$1>=$E9,R$1<=$F9),"."," ") | S9: =IF(AND(S$1>=$E9,S$1<=$F9),"."," ") | T9: =IF(AND(T$1>=$E9,T$1<=$F9),"."," ") | W9: =IF(AND(W$1>=$E9,W$1<=$F9),"."," ") | X9: =IF(AND(X$1>=$E9,X$1<=$F9),"."," ") -> . | Y9: =IF(AND(Y$1>=$E9,Y$1<=$F9),"."," ") -> . | Z9: =IF(AND(Z$1>=$E9,Z$1<=$F9),"."," ") -> . | AA9: =IF(AND(AA$1>=$E9,AA$1<=$F9),"."," ") | AD9: =IF(AND(AD$1>=$E9,AD$1<=$F9),"."," ") | AE9: =IF(AND(AE$1>=$E9,AE$1<=$F9),"."," ") | AF9: =IF(AND(AF$1>=$E9,AF$1<=$F9),"."," ") | AG9: =IF(AND(AG$1>=$E9,AG$1<=$F9),"."," ") | AH9: =IF(AND(AH$1>=$E9,AH$1<=$F9),"."," ") | AK9: =IF(AND(AK$1>=$E9,AK$1<=$F9),"."," ") | AL9: =IF(AND(AL$1>=$E9,AL$1<=$F9),"."," ") | AM9: =IF(AND(AM$1>=$E9,AM$1<=$F9),"."," ") | AN9: =IF(AND(AN$1>=$E9,AN$1<=$F9),"."," ") | AO9: =IF(AND(AO$1>=$E9,AO$1<=$F9),"."," ") | AR9: =IF(AND(AR$1>=$E9,AR$1<=$F9),"."," ") | AS9: =IF(AND(AS$1>=$E9,AS$1<=$F9),"."," ") | AT9: =IF(AND(AT$1>=$E9,AT$1<=$F9),"."," ") | AU9: =IF(AND(AU$1>=$E9,AU$1<=$F9),"."," ") | AV9: =IF(AND(AV$1>=$E9,AV$1<=$F9),"."," ") | AY9: =IF(AND(AY$1>=$E9,AY$1<=$F9),"."," ") | AZ9: =IF(AND(AZ$1>=$E9,AZ$1<=$F9),"."," ") | BA9: =IF(AND(BA$1>=$E9,BA$1<=$F9),"."," ") | BB9: =IF(AND(BB$1>=$E9,BB$1<=$F9),"."," ") | BC9: =IF(AND(BC$1>=$E9,BC$1<=$F9),"."," ") | BF9: =IF(AND(BF$1>=$E9,BF$1<=$F9),"."," ") | BG9: =IF(AND(BG$1>=$E9,BG$1<=$F9),"."," ") | BH9: =IF(AND(BH$1>=$E9,BH$1<=$F9),"."," ") | BI9: =IF(AND(BI$1>=$E9,BI$1<=$F9),"."," ") | BJ9: =IF(AND(BJ$1>=$E9,BJ$1<=$F9),"."," ") | BM9: =IF(AND(BM$1>=$E9,BM$1<=$F9),"."," ") | BN9: =IF(AND(BN$1>=$E9,BN$1<=$F9),"."," ") | BO9: =IF(AND(BO$1>=$E9,BO$1<=$F9),"."," ") | BP9: =IF(AND(BP$1>=$E9,BP$1<=$F9),"."," ") | BQ9: =IF(AND(BQ$1>=$E9,BQ$1<=$F9),"."," ") | BT9: =IF(AND(BT$1>=$E9,BT$1<=$F9),"."," ") | BU9: =IF(AND(BU$1>=$E9,BU$1<=$F9),"."," ") | BV9: =IF(AND(BV$1>=$E9,BV$1<=$F9),"."," ") | BW9: =IF(AND(BW$1>=$E9,BW$1<=$F9),"."," ") | BX9: =IF(AND(BX$1>=$E9,BX$1<=$F9),"."," ") | CA9: =IF(AND(CA$1>=$E9,CA$1<=$F9),"."," ") | CB9: =IF(AND(CB$1>=$E9,CB$1<=$F9),"."," ") | CC9: =IF(AND(CC$1>=$E9,CC$1<=$F9),"."," ") | CD9: =IF(AND(CD$1>=$E9,CD$1<=$F9),"."," ") | CE9: =IF(AND(CE$1>=$E9,CE$1<=$F9),"."," ") | CH9: =IF(AND(CH$1>=$E9,CH$1<=$F9),"."," ") | CI9: =IF(AND(CI$1>=$E9,CI$1<=$F9),"."," ") | CJ9: =IF(AND(CJ$1>=$E9,CJ$1<=$F9),"."," ") | CK9: =IF(AND(CK$1>=$E9,CK$1<=$F9),"."," ") | CL9: =IF(AND(CL$1>=$E9,CL$1<=$F9),"."," ") | CO9: =IF(AND(CO$1>=$E9,CO$1<=$F9),"."," ") | CP9: =IF(AND(CP$1>=$E9,CP$1<=$F9),"."," ") | CQ9: =IF(AND(CQ$1>=$E9,CQ$1<=$F9),"."," ") | CR9: =IF(AND(CR$1>=$E9,CR$1<=$F9),"."," ") | CS9: =IF(AND(CS$1>=$E9,CS$1<=$F9),"."," ") | CV9: =IF(AND(CV$1>=$E9,CV$1<=$F9),"."," ") | CW9: =IF(AND(CW$1>=$E9,CW$1<=$F9),"."," ") | CX9: =IF(AND(CX$1>=$E9,CX$1<=$F9),"."," ") | CY9: =IF(AND(CY$1>=$E9,CY$1<=$F9),"."," ") | CZ9: =IF(AND(CZ$1>=$E9,CZ$1<=$F9),"."," ") | DC9: =IF(AND(DC$1>=$E9,DC$1<=$F9),"."," ") | DD9: =IF(AND(DD$1>=$E9,DD$1<=$F9),"."," ") | DE9: =IF(AND(DE$1>=$E9,DE$1<=$F9),"."," ") | DF9: =IF(AND(DF$1>=$E9,DF$1<=$F9),"."," ") | DG9: =IF(AND(DG$1>=$E9,DG$1<=$F9),"."," ") | DJ9: =IF(AND(DJ$1>=$E9,DJ$1<=$F9),"."," ") | DK9: =IF(AND(DK$1>=$E9,DK$1<=$F9),"."," ") | DL9: =IF(AND(DL$1>=$E9,DL$1<=$F9),"."," ") | DM9: =IF(AND(DM$1>=$E9,DM$1<=$F9),"."," ") | DN9: =IF(AND(DN$1>=$E9,DN$1<=$F9),"."," ") | DQ9: =IF(AND(DQ$1>=$E9,DQ$1<=$F9),"."," ") | DR9: =IF(AND(DR$1>=$E9,DR$1<=$F9),"."," ") | DS9: =IF(AND(DS$1>=$E9,DS$1<=$F9),"."," ") | DT9: =IF(AND(DT$1>=$E9,DT$1<=$F9),"."," ") | DU9: =IF(AND(DU$1>=$E9,DU$1<=$F9),"."," ") | DX9: =IF(AND(DX$1>=$E9,DX$1<=$F9),"."," ") | DY9: =IF(AND(DY$1>=$E9,DY$1<=$F9),"."," ") | DZ9: =IF(AND(DZ$1>=$E9,DZ$1<=$F9),"."," ") | EA9: =IF(AND(EA$1>=$E9,EA$1<=$F9),"."," ") | EB9: =IF(AND(EB$1>=$E9,EB$1<=$F9),"."," ") | EE9: =IF(AND(EE$1>=$E9,EE$1<=$F9),"."," ") | EF9: =IF(AND(EF$1>=$E9,EF$1<=$F9),"."," ") | EG9: =IF(AND(EG$1>=$E9,EG$1<=$F9),"."," ") | EH9: =IF(AND(EH$1>=$E9,EH$1<=$F9),"."," ") | EI9: =IF(AND(EI$1>=$E9,EI$1<=$F9),"."," ") | EL9: =IF(AND(EL$1>=$E9,EL$1<=$F9),"."," ") | EM9: =IF(AND(EM$1>=$E9,EM$1<=$F9),"."," ") | EN9: =IF(AND(EN$1>=$E9,EN$1<=$F9),"."," ") | EO9: =IF(AND(EO$1>=$E9,EO$1<=$F9),"."," ") | EP9: =IF(AND(EP$1>=$E9,EP$1<=$F9),"."," ") | ES9: =IF(AND(ES$1>=$E9,ES$1<=$F9),"."," ") | ET9: =IF(AND(ET$1>=$E9,ET$1<=$F9),"."," ") | EU9: =IF(AND(EU$1>=$E9,EU$1<=$F9),"."," ") | EV9: =IF(AND(EV$1>=$E9,EV$1<=$F9),"."," ") | EW9: =IF(AND(EW$1>=$E9,EW$1<=$F9),"."," ") | EZ9: =IF(AND(EZ$1>=$E9,EZ$1<=$F9),"."," ") | FA9: =IF(AND(FA$1>=$E9,FA$1<=$F9),"."," ") | FB9: =IF(AND(FB$1>=$E9,FB$1<=$F9),"."," ") | FC9: =IF(AND(FC$1>=$E9,FC$1<=$F9),"."," ") | FD9: =IF(AND(FD$1>=$E9,FD$1<=$F9),"."," ") | FG9: =IF(AND(FG$1>=$E9,FG$1<=$F9),"."," ") | FH9: =IF(AND(FH$1>=$E9,FH$1<=$F9),"."," ") | FI9: =IF(AND(FI$1>=$E9,FI$1<=$F9),"."," ") | FJ9: =IF(AND(FJ$1>=$E9,FJ$1<=$F9),"."," ") | FK9: =IF(AND(FK$1>=$E9,FK$1<=$F9),"."," ") | FN9: =IF(AND(FN$1>=$E9,FN$1<=$F9),"."," ") | FO9: =IF(AND(FO$1>=$E9,FO$1<=$F9),"."," ") | FP9: =IF(AND(FP$1>=$E9,FP$1<=$F9),"."," ") | FQ9: =IF(AND(FQ$1>=$E9,FQ$1<=$F9),"."," ") | FR9: =IF(AND(FR$1>=$E9,FR$1<=$F9),"."," ") | FU9: =IF(AND(FU$1>=$E9,FU$1<=$F9),"."," ") | FV9: =IF(AND(FV$1>=$E9,FV$1<=$F9),"."," ") | FW9: =IF(AND(FW$1>=$E9,FW$1<=$F9),"."," ") | FX9: =IF(AND(FX$1>=$E9,FX$1<=$F9),"."," ") | FY9: =IF(AND(FY$1>=$E9,FY$1<=$F9),"."," ") | GB9: =IF(AND(GB$1>=$E9,GB$1<=$F9),"."," ") | GC9: =IF(AND(GC$1>=$E9,GC$1<=$F9),"."," ") | GD9: =IF(AND(GD$1>=$E9,GD$1<=$F9),"."," ") | GE9: =IF(AND(GE$1>=$E9,GE$1<=$F9),"."," ") | GF9: =IF(AND(GF$1>=$E9,GF$1<=$F9),"."," ") | GI9: =IF(AND(GI$1>=$E9,GI$1<=$F9),"."," ") | GJ9: =IF(AND(GJ$1>=$E9,GJ$1<=$F9),"."," ") | GK9: =IF(AND(GK$1>=$E9,GK$1<=$F9),"."," ") | GL9: =IF(AND(GL$1>=$E9,GL$1<=$F9),"."," ") | GM9: =IF(AND(GM$1>=$E9,GM$1<=$F9),"."," ") | GP9: =IF(AND(GP$1>=$E9,GP$1<=$F9),"."," ") | GQ9: =IF(AND(GQ$1>=$E9,GQ$1<=$F9),"."," ") | GR9: =IF(AND(GR$1>=$E9,GR$1<=$F9),"."," ") | GS9: =IF(AND(GS$1>=$E9,GS$1<=$F9),"."," ") | GT9: =IF(AND(GT$1>=$E9,GT$1<=$F9),"."," ") | GW9: =IF(AND(GW$1>=$E9,GW$1<=$F9),"."," ") | GX9: =IF(AND(GX$1>=$E9,GX$1<=$F9),"."," ") | GY9: =IF(AND(GY$1>=$E9,GY$1<=$F9),"."," ") | GZ9: =IF(AND(GZ$1>=$E9,GZ$1<=$F9),"."," ") | HA9: =IF(AND(HA$1>=$E9,HA$1<=$F9),"."," ") | HD9: =IF(AND(HD$1>=$E9,HD$1<=$F9),"."," ") | HE9: =IF(AND(HE$1>=$E9,HE$1<=$F9),"."," ") | HF9: =IF(AND(HF$1>=$E9,HF$1<=$F9),"."," ") | HG9: =IF(AND(HG$1>=$E9,HG$1<=$F9),"."," ") | HH9: =IF(AND(HH$1>=$E9,HH$1<=$F9),"."," ") | HK9: =IF(AND(HK$1>=$E9,HK$1<=$F9),"."," ") | HL9: =IF(AND(HL$1>=$E9,HL$1<=$F9),"."," ") | HM9: =IF(AND(HM$1>=$E9,HM$1<=$F9),"."," ") | HN9: =IF(AND(HN$1>=$E9,HN$1<=$F9),"."," ") | HO9: =IF(AND(HO$1>=$E9,HO$1<=$F9),"."," ") | HR9: =IF(AND(HR$1>=$E9,HR$1<=$F9),"."," ") | HS9: =IF(AND(HS$1>=$E9,HS$1<=$F9),"."," ") | HT9: =IF(AND(HT$1>=$E9,HT$1<=$F9),"."," ") | HU9: =IF(AND(HU$1>=$E9,HU$1<=$F9),"."," ") | HV9: =IF(AND(HV$1>=$E9,HV$1<=$F9),"."," ") | HY9: =IF(AND(HY$1>=$E9,HY$1<=$F9),"."," ") | HZ9: =IF(AND(HZ$1>=$E9,HZ$1<=$F9),"."," ") | IA9: =IF(AND(IA$1>=$E9,IA$1<=$F9),"."," ") | IB9: =IF(AND(IB$1>=$E9,IB$1<=$F9),"."," ") | IC9: =IF(AND(IC$1>=$E9,IC$1<=$F9),"."," ") | IF9: =IF(AND(IF$1>=$E9,IF$1<=$F9),"."," ") | IG9: =IF(AND(IG$1>=$E9,IG$1<=$F9),"."," ") | IH9: =IF(AND(IH$1>=$E9,IH$1<=$F9),"."," ") | II9: =IF(AND(II$1>=$E9,II$1<=$F9),"."," ") | IJ9: =IF(AND(IJ$1>=$E9,IJ$1<=$F9),"."," ") | IM9: =IF(AND(IM$1>=$E9,IM$1<=$F9),"."," ") | IN9: =IF(AND(IN$1>=$E9,IN$1<=$F9),"."," ") | IO9: =IF(AND(IO$1>=$E9,IO$1<=$F9),"."," ") | IP9: =IF(AND(IP$1>=$E9,IP$1<=$F9),"."," ") | IQ9: =IF(AND(IQ$1>=$E9,IQ$1<=$F9),"."," ") | IT9: =IF(AND(IT$1>=$E9,IT$1<=$F9),"."," ") | IU9: =IF(AND(IU$1>=$E9,IU$1<=$F9),"."," ") | IV9: =IF(AND(IV$1>=$E9,IV$1<=$F9),"."," ") | IW9: =IF(AND(IW$1>=$E9,IW$1<=$F9),"."," ") | IX9: =IF(AND(IX$1>=$E9,IX$1<=$F9),"."," ") | JA9: =IF(AND(JA$1>=$E9,JA$1<=$F9),"."," ") | JB9: =IF(AND(JB$1>=$E9,JB$1<=$F9),"."," ") | JC9: =IF(AND(JC$1>=$E9,JC$1<=$F9),"."," ") | JD9: =IF(AND(JD$1>=$E9,JD$1<=$F9),"."," ") | JE9: =IF(AND(JE$1>=$E9,JE$1<=$F9),"."," ")
