Workbook

Sheet Schedule
A1: IMPLEMENTATION GANTT CHART | C1: View Start | E1: 45814 | F1: Timeline | G1: 1 | I1: =E1 -> 45814 | J1: =I1+$G$1 -> 45815 | K1: =J1+$G$1 -> 45816 | L1: =K1+$G$1 -> 45817 | M1: =L1+$G$1 -> 45818 | N1: =M1+$G$1 -> 45819 | O1: =N1+$G$1 -> 45820 | P1: =O1+$G$1 -> 45821 | Q1: =P1+$G$1 -> 45822 | ... JG1: =JF1+$G$1 -> 46072
A2: # | B2: Task Name | C2: Resource | D2: Pre | E2: Start | F2: Finish | G2: Effort (days) | H2: %
F3: Auto | I3: =LEFT(TEXT(I1,"ddd")) -> F | J3: =LEFT(TEXT(J1,"ddd")) -> S | K3: =LEFT(TEXT(K1,"ddd")) -> S | L3: =LEFT(TEXT(L1,"ddd")) -> M | M3: =LEFT(TEXT(M1,"ddd")) -> T | N3: =LEFT(TEXT(N1,"ddd")) -> W | O3: =LEFT(TEXT(O1,"ddd")) -> T | P3: =LEFT(TEXT(P1,"ddd")) -> F | ... JG3: =LEFT(TEXT(JG1,"ddd")) -> T
A4: 1 | B4: Requirement Gathering | C4: John | E4: 45814 | F4: =WORKDAY(E4,G4-1,Config!$C$2:$C$21) -> 45817 | G4: 2 | H4: 1 | I4: =IF(AND(I$1>=$E4,I$1<=$F4),"."," ") -> . | J4: =IF(AND(J$1>=$E4,J$1<=$F4),"."," ") -> . | K4: =IF(AND(K$1>=$E4,K$1<=$F4),"."," ") -> . | L4: =IF(AND(L$1>=$E4,L$1<=$F4),"."," ") -> . | M4: =IF(AND(M$1>=$E4,M$1<=$F4),"."," ") | P4: =IF(AND(P$1>=$E4,P$1<=$F4),"."," ") | Q4: =IF(AND(Q$1>=$E4,Q$1<=$F4),"."," ") | R4: =IF(AND(R$1>=$E4,R$1<=$F4),"."," ") | S4: =IF(AND(S$1>=$E4,S$1<=$F4),"."," ") | T4: =IF(AND(T$1>=$E4,T$1<=$F4),"."," ") | W4: =IF(AND(W$1>=$E4,W$1<=$F4),"."," ") | X4: =IF(AND(X$1>=$E4,X$1<=$F4),"."," ") | Y4: =IF(AND(Y$1>=$E4,Y$1<=$F4),"."," ") | Z4: =IF(AND(Z$1>=$E4,Z$1<=$F4),"."," ") | AA4: =IF(AND(AA$1>=$E4,AA$1<=$F4),"."," ") | AD4: =IF(AND(AD$1>=$E4,AD$1<=$F4),"."," ") | AE4: =IF(AND(AE$1>=$E4,AE$1<=$F4),"."," ") | AF4: =IF(AND(AF$1>=$E4,AF$1<=$F4),"."," ") | AG4: =IF(AND(AG$1>=$E4,AG$1<=$F4),"."," ") | AH4: =IF(AND(AH$1>=$E4,AH$1<=$F4),"."," ") | AK4: =IF(AND(AK$1>=$E4,AK$1<=$F4),"."," ") | AL4: =IF(AND(AL$1>=$E4,AL$1<=$F4),"."," ") | AM4: =IF(AND(AM$1>=$E4,AM$1<=$F4),"."," ") | AN4: =IF(AND(AN$1>=$E4,AN$1<=$F4),"."," ") | AO4: =IF(AND(AO$1>=$E4,AO$1<=$F4),"."," ") | AR4: =IF(AND(AR$1>=$E4,AR$1<=$F4),"."," ") | AS4: =IF(AND(AS$1>=$E4,AS$1<=$F4),"."," ") | AT4: =IF(AND(AT$1>=$E4,AT$1<=$F4),"."," ") | AU4: =IF(AND(AU$1>=$E4,AU$1<=$F4),"."," ") | AV4: =IF(AND(AV$1>=$E4,AV$1<=$F4),"."," ") | AY4: =IF(AND(AY$1>=$E4,AY$1<=$F4),"."," ") | AZ4: =IF(AND(AZ$1>=$E4,AZ$1<=$F4),"."," ") | BA4: =IF(AND(BA$1>=$E4,BA$1<=$F4),"."," ") | BB4: =IF(AND(BB$1>=$E4,BB$1<=$F4),"."," ") | BC4: =IF(AND(BC$1>=$E4,BC$1<=$F4),"."," ") | BF4: =IF(AND(BF$1>=$E4,BF$1<=$F4),"."," ") | BG4: =IF(AND(BG$1>=$E4,BG$1<=$F4),"."," ") | BH4: =IF(AND(BH$1>=$E4,BH$1<=$F4),"."," ") | BI4: =IF(AND(BI$1>=$E4,BI$1<=$F4),"."," ") | BJ4: =IF(AND(BJ$1>=$E4,BJ$1<=$F4),"."," ") | BM4: =IF(AND(BM$1>=$E4,BM$1<=$F4),"."," ") | BN4: =IF(AND(BN$1>=$E4,BN$1<=$F4),"."," ") | BO4: =IF(AND(BO$1>=$E4,BO$1<=$F4),"."," ") | BP4: =IF(AND(BP$1>=$E4,BP$1<=$F4),"."," ") | BQ4: =IF(AND(BQ$1>=$E4,BQ$1<=$F4),"."," ") | BT4: =IF(AND(BT$1>=$E4,BT$1<=$F4),"."," ") | BU4: =IF(AND(BU$1>=$E4,BU$1<=$F4),"."," ") | BV4: =IF(AND(BV$1>=$E4,BV$1<=$F4),"."," ") | BW4: =IF(AND(BW$1>=$E4,BW$1<=$F4),"."," ") | BX4: =IF(AND(BX$1>=$E4,BX$1<=$F4),"."," ") | CA4: =IF(AND(CA$1>=$E4,CA$1<=$F4),"."," ") | CB4: =IF(AND(CB$1>=$E4,CB$1<=$F4),"."," ") | CC4: =IF(AND(CC$1>=$E4,CC$1<=$F4),"."," ") | CD4: =IF(AND(CD$1>=$E4,CD$1<=$F4),"."," ") | CE4: =IF(AND(CE$1>=$E4,CE$1<=$F4),"."," ") | CH4: =IF(AND(CH$1>=$E4,CH$1<=$F4),"."," ") | CI4: =IF(AND(CI$1>=$E4,CI$1<=$F4),"."," ") | CJ4: =IF(AND(CJ$1>=$E4,CJ$1<=$F4),"."," ") | CK4: =IF(AND(CK$1>=$E4,CK$1<=$F4),"."," ") | CL4: =IF(AND(CL$1>=$E4,CL$1<=$F4),"."," ") | CO4: =IF(AND(CO$1>=$E4,CO$1<=$F4),"."," ") | CP4: =IF(AND(CP$1>=$E4,CP$1<=$F4),"."," ") | CQ4: =IF(AND(CQ$1>=$E4,CQ$1<=$F4),"."," ") | CR4: =IF(AND(CR$1>=$E4,CR$1<=$F4),"."," ") | CS4: =IF(AND(CS$1>=$E4,CS$1<=$F4),"."," ") | CV4: =IF(AND(CV$1>=$E4,CV$1<=$F4),"."," ") | CW4: =IF(AND(CW$1>=$E4,CW$1<=$F4),"."," ") | CX4: =IF(AND(CX$1>=$E4,CX$1<=$F4),"."," ") | CY4: =IF(AND(CY$1>=$E4,CY$1<=$F4),"."," ") | CZ4: =IF(AND(CZ$1>=$E4,CZ$1<=$F4),"."," ") | DC4: =IF(AND(DC$1>=$E4,DC$1<=$F4),"."," ") | DD4: =IF(AND(DD$1>=$E4,DD$1<=$F4),"."," ") | DE4: =IF(AND(DE$1>=$E4,DE$1<=$F4),"."," ") | DF4: =IF(AND(DF$1>=$E4,DF$1<=$F4),"."," ") | DG4: =IF(AND(DG$1>=$E4,DG$1<=$F4),"."," ") | DJ4: =IF(AND(DJ$1>=$E4,DJ$1<=$F4),"."," ") | DK4: =IF(AND(DK$1>=$E4,DK$1<=$F4),"."," ") | DL4: =IF(AND(DL$1>=$E4,DL$1<=$F4),"."," ") | DM4: =IF(AND(DM$1>=$E4,DM$1<=$F4),"."," ") | DN4: =IF(AND(DN$1>=$E4,DN$1<=$F4),"."," ") | DQ4: =IF(AND(DQ$1>=$E4,DQ$1<=$F4),"."," ") | DR4: =IF(AND(DR$1>=$E4,DR$1<=$F4),"."," ") | DS4: =IF(AND(DS$1>=$E4,DS$1<=$F4),"."," ") | DT4: =IF(AND(DT$1>=$E4,DT$1<=$F4),"."," ") | DU4: =IF(AND(DU$1>=$E4,DU$1<=$F4),"."," ") | DX4: =IF(AND(DX$1>=$E4,DX$1<=$F4),"."," ") | DY4: =IF(AND(DY$1>=$E4,DY$1<=$F4),"."," ") | DZ4: =IF(AND(DZ$1>=$E4,DZ$1<=$F4),"."," ") | EA4: =IF(AND(EA$1>=$E4,EA$1<=$F4),"."," ") | EB4: =IF(AND(EB$1>=$E4,EB$1<=$F4),"."," ") | EE4: =IF(AND(EE$1>=$E4,EE$1<=$F4),"."," ") | EF4: =IF(AND(EF$1>=$E4,EF$1<=$F4),"."," ") | EG4: =IF(AND(EG$1>=$E4,EG$1<=$F4),"."," ") | EH4: =IF(AND(EH$1>=$E4,EH$1<=$F4),"."," ") | EI4: =IF(AND(EI$1>=$E4,EI$1<=$F4),"."," ") | EL4: =IF(AND(EL$1>=$E4,EL$1<=$F4),"."," ") | EM4: =IF(AND(EM$1>=$E4,EM$1<=$F4),"."," ") | EN4: =IF(AND(EN$1>=$E4,EN$1<=$F4),"."," ") | EO4: =IF(AND(EO$1>=$E4,EO$1<=$F4),"."," ") | EP4: =IF(AND(EP$1>=$E4,EP$1<=$F4),"."," ") | ES4: =IF(AND(ES$1>=$E4,ES$1<=$F4),"."," ") | ET4: =IF(AND(ET$1>=$E4,ET$1<=$F4),"."," ") | EU4: =IF(AND(EU$1>=$E4,EU$1<=$F4),"."," ") | EV4: =IF(AND(EV$1>=$E4,EV$1<=$F4),"."," ") | EW4: =IF(AND(EW$1>=$E4,EW$1<=$F4),"."," ") | EZ4: =IF(AND(EZ$1>=$E4,EZ$1<=$F4),"."," ") | FA4: =IF(AND(FA$1>=$E4,FA$1<=$F4),"."," ") | FB4: =IF(AND(FB$1>=$E4,FB$1<=$F4),"."," ") | FC4: =IF(AND(FC$1>=$E4,FC$1<=$F4),"."," ") | FD4: =IF(AND(FD$1>=$E4,FD$1<=$F4),"."," ") | FG4: =IF(AND(FG$1>=$E4,FG$1<=$F4),"."," ") | FH4: =IF(AND(FH$1>=$E4,FH$1<=$F4),"."," ") | FI4: =IF(AND(FI$1>=$E4,FI$1<=$F4),"."," ") | FJ4: =IF(AND(FJ$1>=$E4,FJ$1<=$F4),"."," ") | FK4: =IF(AND(FK$1>=$E4,FK$1<=$F4),"."," ") | FN4: =IF(AND(FN$1>=$E4,FN$1<=$F4),"."," ") | FO4: =IF(AND(FO$1>=$E4,FO$1<=$F4),"."," ") | FP4: =IF(AND(FP$1>=$E4,FP$1<=$F4),"."," ") | FQ4: =IF(AND(FQ$1>=$E4,FQ$1<=$F4),"."," ") | FR4: =IF(AND(FR$1>=$E4,FR$1<=$F4),"."," ") | FU4: =IF(AND(FU$1>=$E4,FU$1<=$F4),"."," ") | FV4: =IF(AND(FV$1>=$E4,FV$1<=$F4),"."," ") | FW4: =IF(AND(FW$1>=$E4,FW$1<=$F4),"."," ") | FX4: =IF(AND(FX$1>=$E4,FX$1<=$F4),"."," ") | FY4: =IF(AND(FY$1>=$E4,FY$1<=$F4),"."," ") | GB4: =IF(AND(GB$1>=$E4,GB$1<=$F4),"."," ") | GC4: =IF(AND(GC$1>=$E4,GC$1<=$F4),"."," ") | GD4: =IF(AND(GD$1>=$E4,GD$1<=$F4),"."," ") | GE4: =IF(AND(GE$1>=$E4,GE$1<=$F4),"."," ") | GF4: =IF(AND(GF$1>=$E4,GF$1<=$F4),"."," ") | GI4: =IF(AND(GI$1>=$E4,GI$1<=$F4),"."," ") | GJ4: =IF(AND(GJ$1>=$E4,GJ$1<=$F4),"."," ") | GK4: =IF(AND(GK$1>=$E4,GK$1<=$F4),"."," ") | GL4: =IF(AND(GL$1>=$E4,GL$1<=$F4),"."," ") | GM4: =IF(AND(GM$1>=$E4,GM$1<=$F4),"."," ") | GP4: =IF(AND(GP$1>=$E4,GP$1<=$F4),"."," ") | GQ4: =IF(AND(GQ$1>=$E4,GQ$1<=$F4),"."," ") | GR4: =IF(AND(GR$1>=$E4,GR$1<=$F4),"."," ") | GS4: =IF(AND(GS$1>=$E4,GS$1<=$F4),"."," ") | GT4: =IF(AND(GT$1>=$E4,GT$1<=$F4),"."," ") | GW4: =IF(AND(GW$1>=$E4,GW$1<=$F4),"."," ") | GX4: =IF(AND(GX$1>=$E4,GX$1<=$F4),"."," ") | GY4: =IF(AND(GY$1>=$E4,GY$1<=$F4),"."," ") | GZ4: =IF(AND(GZ$1>=$E4,GZ$1<=$F4),"."," ") | HA4: =IF(AND(HA$1>=$E4,HA$1<=$F4),"."," ") | HD4: =IF(AND(HD$1>=$E4,HD$1<=$F4),"."," ") | HE4: =IF(AND(HE$1>=$E4,HE$1<=$F4),"."," ") | HF4: =IF(AND(HF$1>=$E4,HF$1<=$F4),"."," ") | HG4: =IF(AND(HG$1>=$E4,HG$1<=$F4),"."," ") | HH4: =IF(AND(HH$1>=$E4,HH$1<=$F4),"."," ") | HK4: =IF(AND(HK$1>=$E4,HK$1<=$F4),"."," ") | HL4: =IF(AND(HL$1>=$E4,HL$1<=$F4),"."," ") | HM4: =IF(AND(HM$1>=$E4,HM$1<=$F4),"."," ") | HN4: =IF(AND(HN$1>=$E4,HN$1<=$F4),"."," ") | HO4: =IF(AND(HO$1>=$E4,HO$1<=$F4),"."," ") | HR4: =IF(AND(HR$1>=$E4,HR$1<=$F4),"."," ") | HS4: =IF(AND(HS$1>=$E4,HS$1<=$F4),"."," ") | HT4: =IF(AND(HT$1>=$E4,HT$1<=$F4),"."," ") | HU4: =IF(AND(HU$1>=$E4,HU$1<=$F4),"."," ") | HV4: =IF(AND(HV$1>=$E4,HV$1<=$F4),"."," ") | HY4: =IF(AND(HY$1>=$E4,HY$1<=$F4),"."," ") | HZ4: =IF(AND(HZ$1>=$E4,HZ$1<=$F4),"."," ") | IA4: =IF(AND(IA$1>=$E4,IA$1<=$F4),"."," ") | IB4: =IF(AND(IB$1>=$E4,IB$1<=$F4),"."," ") | IC4: =IF(AND(IC$1>=$E4,IC$1<=$F4),"."," ") | IF4: =IF(AND(IF$1>=$E4,IF$1<=$F4),"."," ") | IG4: =IF(AND(IG$1>=$E4,IG$1<=$F4),"."," ") | IH4: =IF(AND(IH$1>=$E4,IH$1<=$F4),"."," ") | II4: =IF(AND(II$1>=$E4,II$1<=$F4),"."," ") | IJ4: =IF(AND(IJ$1>=$E4,IJ$1<=$F4),"."," ") | IM4: =IF(AND(IM$1>=$E4,IM$1<=$F4),"."," ") | IN4: =IF(AND(IN$1>=$E4,IN$1<=$F4),"."," ") | IO4: =IF(AND(IO$1>=$E4,IO$1<=$F4),"."," ") | IP4: =IF(AND(IP$1>=$E4,IP$1<=$F4),"."," ") | IQ4: =IF(AND(IQ$1>=$E4,IQ$1<=$F4),"."," ") | IT4: =IF(AND(IT$1>=$E4,IT$1<=$F4),"."," ") | IU4: =IF(AND(IU$1>=$E4,IU$1<=$F4),"."," ") | IV4: =IF(AND(IV$1>=$E4,IV$1<=$F4),"."," ") | IW4: =IF(AND(IW$1>=$E4,IW$1<=$F4),"."," ") | IX4: =IF(AND(IX$1>=$E4,IX$1<=$F4),"."," ") | JA4: =IF(AND(JA$1>=$E4,JA$1<=$F4),"."," ") | JB4: =IF(AND(JB$1>=$E4,JB$1<=$F4),"."," ") | JC4: =IF(AND(JC$1>=$E4,JC$1<=$F4),"."," ") | JD4: =IF(AND(JD$1>=$E4,JD$1<=$F4),"."," ") | JE4: =IF(AND(JE$1>=$E4,JE$1<=$F4),"."," ")
A5: =A4+1 -> 2 | B5: Draft Business Requirements | C5: Ted | D5: 1 | E5: =VLOOKUP(D5,$A$1:$F$146,6,FALSE) + 1 -> 45818 | F5: =WORKDAY(E5,G5-1,Config!$C$2:$C$21) -> 45819 | G5: 2 | H5: 1 | I5: =IF(AND(I$1>=$E5,I$1<=$F5),"."," ") | J5: =IF(AND(J$1>=$E5,J$1<=$F5),"."," ") | K5: =IF(AND(K$1>=$E5,K$1<=$F5),"."," ") | L5: =IF(AND(L$1>=$E5,L$1<=$F5),"."," ") | M5: =IF(AND(M$1>=$E5,M$1<=$F5),"."," ") -> . | P5: =IF(AND(P$1>=$E5,P$1<=$F5),"."," ") | Q5: =IF(AND(Q$1>=$E5,Q$1<=$F5),"."," ") | R5: =IF(AND(R$1>=$E5,R$1<=$F5),"."," ") | S5: =IF(AND(S$1>=$E5,S$1<=$F5),"."," ") | T5: =IF(AND(T$1>=$E5,T$1<=$F5),"."," ") | W5: =IF(AND(W$1>=$E5,W$1<=$F5),"."," ") | X5: =IF(AND(X$1>=$E5,X$1<=$F5),"."," ") | Y5: =IF(AND(Y$1>=$E5,Y$1<=$F5),"."," ") | Z5: =IF(AND(Z$1>=$E5,Z$1<=$F5),"."," ") | AA5: =IF(AND(AA$1>=$E5,AA$1<=$F5),"."," ") | AD5: =IF(AND(AD$1>=$E5,AD$1<=$F5),"."," ") | AE5: =IF(AND(AE$1>=$E5,AE$1<=$F5),"."," ") | AF5: =IF(AND(AF$1>=$E5,AF$1<=$F5),"."," ") | AG5: =IF(AND(AG$1>=$E5,AG$1<=$F5),"."," ") | AH5: =IF(AND(AH$1>=$E5,AH$1<=$F5),"."," ") | AK5: =IF(AND(AK$1>=$E5,AK$1<=$F5),"."," ") | AL5: =IF(AND(AL$1>=$E5,AL$1<=$F5),"."," ") | AM5: =IF(AND(AM$1>=$E5,AM$1<=$F5),"."," ") | AN5: =IF(AND(AN$1>=$E5,AN$1<=$F5),"."," ") | AO5: =IF(AND(AO$1>=$E5,AO$1<=$F5),"."," ") | AR5: =IF(AND(AR$1>=$E5,AR$1<=$F5),"."," ") | AS5: =IF(AND(AS$1>=$E5,AS$1<=$F5),"."," ") | AT5: =IF(AND(AT$1>=$E5,AT$1<=$F5),"."," ") | AU5: =IF(AND(AU$1>=$E5,AU$1<=$F5),"."," ") | AV5: =IF(AND(AV$1>=$E5,AV$1<=$F5),"."," ") | AY5: =IF(AND(AY$1>=$E5,AY$1<=$F5),"."," ") | AZ5: =IF(AND(AZ$1>=$E5,AZ$1<=$F5),"."," ") | BA5: =IF(AND(BA$1>=$E5,BA$1<=$F5),"."," ") | BB5: =IF(AND(BB$1>=$E5,BB$1<=$F5),"."," ") | BC5: =IF(AND(BC$1>=$E5,BC$1<=$F5),"."," ") | BF5: =IF(AND(BF$1>=$E5,BF$1<=$F5),"."," ") | BG5: =IF(AND(BG$1>=$E5,BG$1<=$F5),"."," ") | BH5: =IF(AND(BH$1>=$E5,BH$1<=$F5),"."," ") | BI5: =IF(AND(BI$1>=$E5,BI$1<=$F5),"."," ") | BJ5: =IF(AND(BJ$1>=$E5,BJ$1<=$F5),"."," ") | BM5: =IF(AND(BM$1>=$E5,BM$1<=$F5),"."," ") | BN5: =IF(AND(BN$1>=$E5,BN$1<=$F5),"."," ") | BO5: =IF(AND(BO$1>=$E5,BO$1<=$F5),"."," ") | BP5: =IF(AND(BP$1>=$E5,BP$1<=$F5),"."," ") | BQ5: =IF(AND(BQ$1>=$E5,BQ$1<=$F5),"."," ") | BT5: =IF(AND(BT$1>=$E5,BT$1<=$F5),"."," ") | BU5: =IF(AND(BU$1>=$E5,BU$1<=$F5),"."," ") | BV5: =IF(AND(BV$1>=$E5,BV$1<=$F5),"."," ") | BW5: =IF(AND(BW$1>=$E5,BW$1<=$F5),"."," ") | BX5: =IF(AND(BX$1>=$E5,BX$1<=$F5),"."," ") | CA5: =IF(AND(CA$1>=$E5,CA$1<=$F5),"."," ") | CB5: =IF(AND(CB$1>=$E5,CB$1<=$F5),"."," ") | CC5: =IF(AND(CC$1>=$E5,CC$1<=$F5),"."," ") | CD5: =IF(AND(CD$1>=$E5,CD$1<=$F5),"."," ") | CE5: =IF(AND(CE$1>=$E5,CE$1<=$F5),"."," ") | CH5: =IF(AND(CH$1>=$E5,CH$1<=$F5),"."," ") | CI5: =IF(AND(CI$1>=$E5,CI$1<=$F5),"."," ") | CJ5: =IF(AND(CJ$1>=$E5,CJ$1<=$F5),"."," ") | CK5: =IF(AND(CK$1>=$E5,CK$1<=$F5),"."," ") | CL5: =IF(AND(CL$1>=$E5,CL$1<=$F5),"."," ") | CO5: =IF(AND(CO$1>=$E5,CO$1<=$F5),"."," ") | CP5: =IF(AND(CP$1>=$E5,CP$1<=$F5),"."," ") | CQ5: =IF(AND(CQ$1>=$E5,CQ$1<=$F5),"."," ") | CR5: =IF(AND(CR$1>=$E5,CR$1<=$F5),"."," ") | CS5: =IF(AND(CS$1>=$E5,CS$1<=$F5),"."," ") | CV5: =IF(AND(CV$1>=$E5,CV$1<=$F5),"."," ") | CW5: =IF(AND(CW$1>=$E5,CW$1<=$F5),"."," ") | CX5: =IF(AND(CX$1>=$E5,CX$1<=$F5),"."," ") | CY5: =IF(AND(CY$1>=$E5,CY$1<=$F5),"."," ") | CZ5: =IF(AND(CZ$1>=$E5,CZ$1<=$F5),"."," ") | DC5: =IF(AND(DC$1>=$E5,DC$1<=$F5),"."," ") | DD5: =IF(AND(DD$1>=$E5,DD$1<=$F5),"."," ") | DE5: =IF(AND(DE$1>=$E5,DE$1<=$F5),"."," ") | DF5: =IF(AND(DF$1>=$E5,DF$1<=$F5),"."," ") | DG5: =IF(AND(DG$1>=$E5,DG$1<=$F5),"."," ") | DJ5: =IF(AND(DJ$1>=$E5,DJ$1<=$F5),"."," ") | DK5: =IF(AND(DK$1>=$E5,DK$1<=$F5),"."," ") | DL5: =IF(AND(DL$1>=$E5,DL$1<=$F5),"."," ") | DM5: =IF(AND(DM$1>=$E5,DM$1<=$F5),"."," ") | DN5: =IF(AND(DN$1>=$E5,DN$1<=$F5),"."," ") | DQ5: =IF(AND(DQ$1>=$E5,DQ$1<=$F5),"."," ") | DR5: =IF(AND(DR$1>=$E5,DR$1<=$F5),"."," ") | DS5: =IF(AND(DS$1>=$E5,DS$1<=$F5),"."," ") | DT5: =IF(AND(DT$1>=$E5,DT$1<=$F5),"."," ") | DU5: =IF(AND(DU$1>=$E5,DU$1<=$F5),"."," ") | DX5: =IF(AND(DX$1>=$E5,DX$1<=$F5),"."," ") | DY5: =IF(AND(DY$1>=$E5,DY$1<=$F5),"."," ") | DZ5: =IF(AND(DZ$1>=$E5,DZ$1<=$F5),"."," ") | EA5: =IF(AND(EA$1>=$E5,EA$1<=$F5),"."," ") | EB5: =IF(AND(EB$1>=$E5,EB$1<=$F5),"."," ") | EE5: =IF(AND(EE$1>=$E5,EE$1<=$F5),"."," ") | EF5: =IF(AND(EF$1>=$E5,EF$1<=$F5),"."," ") | EG5: =IF(AND(EG$1>=$E5,EG$1<=$F5),"."," ") | EH5: =IF(AND(EH$1>=$E5,EH$1<=$F5),"."," ") | EI5: =IF(AND(EI$1>=$E5,EI$1<=$F5),"."," ") | EL5: =IF(AND(EL$1>=$E5,EL$1<=$F5),"."," ") | EM5: =IF(AND(EM$1>=$E5,EM$1<=$F5),"."," ") | EN5: =IF(AND(EN$1>=$E5,EN$1<=$F5),"."," ") | EO5: =IF(AND(EO$1>=$E5,EO$1<=$F5),"."," ") | EP5: =IF(AND(EP$1>=$E5,EP$1<=$F5),"."," ") | ES5: =IF(AND(ES$1>=$E5,ES$1<=$F5),"."," ") | ET5: =IF(AND(ET$1>=$E5,ET$1<=$F5),"."," ") | EU5: =IF(AND(EU$1>=$E5,EU$1<=$F5),"."," ") | EV5: =IF(AND(EV$1>=$E5,EV$1<=$F5),"."," ") | EW5: =IF(AND(EW$1>=$E5,EW$1<=$F5),"."," ") | EZ5: =IF(AND(EZ$1>=$E5,EZ$1<=$F5),"."," ") | FA5: =IF(AND(FA$1>=$E5,FA$1<=$F5),"."," ") | FB5: =IF(AND(FB$1>=$E5,FB$1<=$F5),"."," ") | FC5: =IF(AND(FC$1>=$E5,FC$1<=$F5),"."," ") | FD5: =IF(AND(FD$1>=$E5,FD$1<=$F5),"."," ") | FG5: =IF(AND(FG$1>=$E5,FG$1<=$F5),"."," ") | FH5: =IF(AND(FH$1>=$E5,FH$1<=$F5),"."," ") | FI5: =IF(AND(FI$1>=$E5,FI$1<=$F5),"."," ") | FJ5: =IF(AND(FJ$1>=$E5,FJ$1<=$F5),"."," ") | FK5: =IF(AND(FK$1>=$E5,FK$1<=$F5),"."," ") | FN5: =IF(AND(FN$1>=$E5,FN$1<=$F5),"."," ") | FO5: =IF(AND(FO$1>=$E5,FO$1<=$F5),"."," ") | FP5: =IF(AND(FP$1>=$E5,FP$1<=$F5),"."," ") | FQ5: =IF(AND(FQ$1>=$E5,FQ$1<=$F5),"."," ") | FR5: =IF(AND(FR$1>=$E5,FR$1<=$F5),"."," ") | FU5: =IF(AND(FU$1>=$E5,FU$1<=$F5),"."," ") | FV5: =IF(AND(FV$1>=$E5,FV$1<=$F5),"."," ") | FW5: =IF(AND(FW$1>=$E5,FW$1<=$F5),"."," ") | FX5: =IF(AND(FX$1>=$E5,FX$1<=$F5),"."," ") | FY5: =IF(AND(FY$1>=$E5,FY$1<=$F5),"."," ") | GB5: =IF(AND(GB$1>=$E5,GB$1<=$F5),"."," ") | GC5: =IF(AND(GC$1>=$E5,GC$1<=$F5),"."," ") | GD5: =IF(AND(GD$1>=$E5,GD$1<=$F5),"."," ") | GE5: =IF(AND(GE$1>=$E5,GE$1<=$F5),"."," ") | GF5: =IF(AND(GF$1>=$E5,GF$1<=$F5),"."," ") | GI5: =IF(AND(GI$1>=$E5,GI$1<=$F5),"."," ") | GJ5: =IF(AND(GJ$1>=$E5,GJ$1<=$F5),"."," ") | GK5: =IF(AND(GK$1>=$E5,GK$1<=$F5),"."," ") | GL5: =IF(AND(GL$1>=$E5,GL$1<=$F5),"."," ") | GM5: =IF(AND(GM$1>=$E5,GM$1<=$F5),"."," ") | GP5: =IF(AND(GP$1>=$E5,GP$1<=$F5),"."," ") | GQ5: =IF(AND(GQ$1>=$E5,GQ$1<=$F5),"."," ") | GR5: =IF(AND(GR$1>=$E5,GR$1<=$F5),"."," ") | GS5: =IF(AND(GS$1>=$E5,GS$1<=$F5),"."," ") | GT5: =IF(AND(GT$1>=$E5,GT$1<=$F5),"."," ") | GW5: =IF(AND(GW$1>=$E5,GW$1<=$F5),"."," ") | GX5: =IF(AND(GX$1>=$E5,GX$1<=$F5),"."," ") | GY5: =IF(AND(GY$1>=$E5,GY$1<=$F5),"."," ") | GZ5: =IF(AND(GZ$1>=$E5,GZ$1<=$F5),"."," ") | HA5: =IF(AND(HA$1>=$E5,HA$1<=$F5),"."," ") | HD5: =IF(AND(HD$1>=$E5,HD$1<=$F5),"."," ") | HE5: =IF(AND(HE$1>=$E5,HE$1<=$F5),"."," ") | HF5: =IF(AND(HF$1>=$E5,HF$1<=$F5),"."," ") | HG5: =IF(AND(HG$1>=$E5,HG$1<=$F5),"."," ") | HH5: =IF(AND(HH$1>=$E5,HH$1<=$F5),"."," ") | HK5: =IF(AND(HK$1>=$E5,HK$1<=$F5),"."," ") | HL5: =IF(AND(HL$1>=$E5,HL$1<=$F5),"."," ") | HM5: =IF(AND(HM$1>=$E5,HM$1<=$F5),"."," ") | HN5: =IF(AND(HN$1>=$E5,HN$1<=$F5),"."," ") | HO5: =IF(AND(HO$1>=$E5,HO$1<=$F5),"."," ") | HR5: =IF(AND(HR$1>=$E5,HR$1<=$F5),"."," ") | HS5: =IF(AND(HS$1>=$E5,HS$1<=$F5),"."," ") | HT5: =IF(AND(HT$1>=$E5,HT$1<=$F5),"."," ") | HU5: =IF(AND(HU$1>=$E5,HU$1<=$F5),"."," ") | HV5: =IF(AND(HV$1>=$E5,HV$1<=$F5),"."," ") | HY5: =IF(AND(HY$1>=$E5,HY$1<=$F5),"."," ") | HZ5: =IF(AND(HZ$1>=$E5,HZ$1<=$F5),"."," ") | IA5: =IF(AND(IA$1>=$E5,IA$1<=$F5),"."," ") | IB5: =IF(AND(IB$1>=$E5,IB$1<=$F5),"."," ") | IC5: =IF(AND(IC$1>=$E5,IC$1<=$F5),"."," ") | IF5: =IF(AND(IF$1>=$E5,IF$1<=$F5),"."," ") | IG5: =IF(AND(IG$1>=$E5,IG$1<=$F5),"."," ") | IH5: =IF(AND(IH$1>=$E5,IH$1<=$F5),"."," ") | II5: =IF(AND(II$1>=$E5,II$1<=$F5),"."," ") | IJ5: =IF(AND(IJ$1>=$E5,IJ$1<=$F5),"."," ") | IM5: =IF(AND(IM$1>=$E5,IM$1<=$F5),"."," ") | IN5: =IF(AND(IN$1>=$E5,IN$1<=$F5),"."," ") | IO5: =IF(AND(IO$1>=$E5,IO$1<=$F5),"."," ") | IP5: =IF(AND(IP$1>=$E5,IP$1<=$F5),"."," ") | IQ5: =IF(AND(IQ$1>=$E5,IQ$1<=$F5),"."," ") | IT5: =IF(AND(IT$1>=$E5,IT$1<=$F5),"."," ") | IU5: =IF(AND(IU$1>=$E5,IU$1<=$F5),"."," ") | IV5: =IF(AND(IV$1>=$E5,IV$1<=$F5),"."," ") | IW5: =IF(AND(IW$1>=$E5,IW$1<=$F5),"."," ") | IX5: =IF(AND(IX$1>=$E5,IX$1<=$F5),"."," ") | JA5: =IF(AND(JA$1>=$E5,JA$1<=$F5),"."," ") | JB5: =IF(AND(JB$1>=$E5,JB$1<=$F5),"."," ") | JC5: =IF(AND(JC$1>=$E5,JC$1<=$F5),"."," ") | JD5: =IF(AND(JD$1>=$E5,JD$1<=$F5),"."," ") | JE5: =IF(AND(JE$1>=$E5,JE$1<=$F5),"."," ")
A6: =A5+1 -> 3 | B6: Sign Off Business Requirements | C6: Med | D6: 2 | E6: =VLOOKUP(D6,$A$1:$F$146,6,FALSE) + 1 -> 45820 | F6: =WORKDAY(E6,G6-1,Config!$C$2:$C$21) -> 45821 | G6: 2 | H6: 0.25 | I6: =IF(AND(I$1>=$E6,I$1<=$F6),"."," ") | J6: =IF(AND(J$1>=$E6,J$1<=$F6),"."," ") | K6: =IF(AND(K$1>=$E6,K$1<=$F6),"."," ") | L6: =IF(AND(L$1>=$E6,L$1<=$F6),"."," ") | M6: =IF(AND(M$1>=$E6,M$1<=$F6),"."," ") | P6: =IF(AND(P$1>=$E6,P$1<=$F6),"."," ") -> . | Q6: =IF(AND(Q$1>=$E6,Q$1<=$F6),"."," ") | R6: =IF(AND(R$1>=$E6,R$1<=$F6),"."," ") | S6: =IF(AND(S$1>=$E6,S$1<=$F6),"."," ") | T6: =IF(AND(T$1>=$E6,T$1<=$F6),"."," ") | W6: =IF(AND(W$1>=$E6,W$1<=$F6),"."," ") | X6: =IF(AND(X$1>=$E6,X$1<=$F6),"."," ") | Y6: =IF(AND(Y$1>=$E6,Y$1<=$F6),"."," ") | Z6: =IF(AND(Z$1>=$E6,Z$1<=$F6),"."," ") | AA6: =IF(AND(AA$1>=$E6,AA$1<=$F6),"."," ") | AD6: =IF(AND(AD$1>=$E6,AD$1<=$F6),"."," ") | AE6: =IF(AND(AE$1>=$E6,AE$1<=$F6),"."," ") | AF6: =IF(AND(AF$1>=$E6,AF$1<=$F6),"."," ") | AG6: =IF(AND(AG$1>=$E6,AG$1<=$F6),"."," ") | AH6: =IF(AND(AH$1>=$E6,AH$1<=$F6),"."," ") | AK6: =IF(AND(AK$1>=$E6,AK$1<=$F6),"."," ") | AL6: =IF(AND(AL$1>=$E6,AL$1<=$F6),"."," ") | AM6: =IF(AND(AM$1>=$E6,AM$1<=$F6),"."," ") | AN6: =IF(AND(AN$1>=$E6,AN$1<=$F6),"."," ") | AO6: =IF(AND(AO$1>=$E6,AO$1<=$F6),"."," ") | AR6: =IF(AND(AR$1>=$E6,AR$1<=$F6),"."," ") | AS6: =IF(AND(AS$1>=$E6,AS$1<=$F6),"."," ") | AT6: =IF(AND(AT$1>=$E6,AT$1<=$F6),"."," ") | AU6: =IF(AND(AU$1>=$E6,AU$1<=$F6),"."," ") | AV6: =IF(AND(AV$1>=$E6,AV$1<=$F6),"."," ") | AY6: =IF(AND(AY$1>=$E6,AY$1<=$F6),"."," ") | AZ6: =IF(AND(AZ$1>=$E6,AZ$1<=$F6),"."," ") | BA6: =IF(AND(BA$1>=$E6,BA$1<=$F6),"."," ") | BB6: =IF(AND(BB$1>=$E6,BB$1<=$F6),"."," ") | BC6: =IF(AND(BC$1>=$E6,BC$1<=$F6),"."," ") | BF6: =IF(AND(BF$1>=$E6,BF$1<=$F6),"."," ") | BG6: =IF(AND(BG$1>=$E6,BG$1<=$F6),"."," ") | BH6: =IF(AND(BH$1>=$E6,BH$1<=$F6),"."," ") | BI6: =IF(AND(BI$1>=$E6,BI$1<=$F6),"."," ") | BJ6: =IF(AND(BJ$1>=$E6,BJ$1<=$F6),"."," ") | BM6: =IF(AND(BM$1>=$E6,BM$1<=$F6),"."," ") | BN6: =IF(AND(BN$1>=$E6,BN$1<=$F6),"."," ") | BO6: =IF(AND(BO$1>=$E6,BO$1<=$F6),"."," ") | BP6: =IF(AND(BP$1>=$E6,BP$1<=$F6),"."," ") | BQ6: =IF(AND(BQ$1>=$E6,BQ$1<=$F6),"."," ") | BT6: =IF(AND(BT$1>=$E6,BT$1<=$F6),"."," ") | BU6: =IF(AND(BU$1>=$E6,BU$1<=$F6),"."," ") | BV6: =IF(AND(BV$1>=$E6,BV$1<=$F6),"."," ") | BW6: =IF(AND(BW$1>=$E6,BW$1<=$F6),"."," ") | BX6: =IF(AND(BX$1>=$E6,BX$1<=$F6),"."," ") | CA6: =IF(AND(CA$1>=$E6,CA$1<=$F6),"."," ") | CB6: =IF(AND(CB$1>=$E6,CB$1<=$F6),"."," ") | CC6: =IF(AND(CC$1>=$E6,CC$1<=$F6),"."," ") | CD6: =IF(AND(CD$1>=$E6,CD$1<=$F6),"."," ") | CE6: =IF(AND(CE$1>=$E6,CE$1<=$F6),"."," ") | CH6: =IF(AND(CH$1>=$E6,CH$1<=$F6),"."," ") | CI6: =IF(AND(CI$1>=$E6,CI$1<=$F6),"."," ") | CJ6: =IF(AND(CJ$1>=$E6,CJ$1<=$F6),"."," ") | CK6: =IF(AND(CK$1>=$E6,CK$1<=$F6),"."," ") | CL6: =IF(AND(CL$1>=$E6,CL$1<=$F6),"."," ") | CO6: =IF(AND(CO$1>=$E6,CO$1<=$F6),"."," ") | CP6: =IF(AND(CP$1>=$E6,CP$1<=$F6),"."," ") | CQ6: =IF(AND(CQ$1>=$E6,CQ$1<=$F6),"."," ") | CR6: =IF(AND(CR$1>=$E6,CR$1<=$F6),"."," ") | CS6: =IF(AND(CS$1>=$E6,CS$1<=$F6),"."," ") | CV6: =IF(AND(CV$1>=$E6,CV$1<=$F6),"."," ") | CW6: =IF(AND(CW$1>=$E6,CW$1<=$F6),"."," ") | CX6: =IF(AND(CX$1>=$E6,CX$1<=$F6),"."," ") | CY6: =IF(AND(CY$1>=$E6,CY$1<=$F6),"."," ") | CZ6: =IF(AND(CZ$1>=$E6,CZ$1<=$F6),"."," ") | DC6: =IF(AND(DC$1>=$E6,DC$1<=$F6),"."," ") | DD6: =IF(AND(DD$1>=$E6,DD$1<=$F6),"."," ") | DE6: =IF(AND(DE$1>=$E6,DE$1<=$F6),"."," ") | DF6: =IF(AND(DF$1>=$E6,DF$1<=$F6),"."," ") | DG6: =IF(AND(DG$1>=$E6,DG$1<=$F6),"."," ") | DJ6: =IF(AND(DJ$1>=$E6,DJ$1<=$F6),"."," ") | DK6: =IF(AND(DK$1>=$E6,DK$1<=$F6),"."," ") | DL6: =IF(AND(DL$1>=$E6,DL$1<=$F6),"."," ") | DM6: =IF(AND(DM$1>=$E6,DM$1<=$F6),"."," ") | DN6: =IF(AND(DN$1>=$E6,DN$1<=$F6),"."," ") | DQ6: =IF(AND(DQ$1>=$E6,DQ$1<=$F6),"."," ") | DR6: =IF(AND(DR$1>=$E6,DR$1<=$F6),"."," ") | DS6: =IF(AND(DS$1>=$E6,DS$1<=$F6),"."," ") | DT6: =IF(AND(DT$1>=$E6,DT$1<=$F6),"."," ") | DU6: =IF(AND(DU$1>=$E6,DU$1<=$F6),"."," ") | DX6: =IF(AND(DX$1>=$E6,DX$1<=$F6),"."," ") | DY6: =IF(AND(DY$1>=$E6,DY$1<=$F6),"."," ") | DZ6: =IF(AND(DZ$1>=$E6,DZ$1<=$F6),"."," ") | EA6: =IF(AND(EA$1>=$E6,EA$1<=$F6),"."," ") | EB6: =IF(AND(EB$1>=$E6,EB$1<=$F6),"."," ") | EE6: =IF(AND(EE$1>=$E6,EE$1<=$F6),"."," ") | EF6: =IF(AND(EF$1>=$E6,EF$1<=$F6),"."," ") | EG6: =IF(AND(EG$1>=$E6,EG$1<=$F6),"."," ") | EH6: =IF(AND(EH$1>=$E6,EH$1<=$F6),"."," ") | EI6: =IF(AND(EI$1>=$E6,EI$1<=$F6),"."," ") | EL6: =IF(AND(EL$1>=$E6,EL$1<=$F6),"."," ") | EM6: =IF(AND(EM$1>=$E6,EM$1<=$F6),"."," ") | EN6: =IF(AND(EN$1>=$E6,EN$1<=$F6),"."," ") | EO6: =IF(AND(EO$1>=$E6,EO$1<=$F6),"."," ") | EP6: =IF(AND(EP$1>=$E6,EP$1<=$F6),"."," ") | ES6: =IF(AND(ES$1>=$E6,ES$1<=$F6),"."," ") | ET6: =IF(AND(ET$1>=$E6,ET$1<=$F6),"."," ") | EU6: =IF(AND(EU$1>=$E6,EU$1<=$F6),"."," ") | EV6: =IF(AND(EV$1>=$E6,EV$1<=$F6),"."," ") | EW6: =IF(AND(EW$1>=$E6,EW$1<=$F6),"."," ") | EZ6: =IF(AND(EZ$1>=$E6,EZ$1<=$F6),"."," ") | FA6: =IF(AND(FA$1>=$E6,FA$1<=$F6),"."," ") | FB6: =IF(AND(FB$1>=$E6,FB$1<=$F6),"."," ") | FC6: =IF(AND(FC$1>=$E6,FC$1<=$F6),"."," ") | FD6: =IF(AND(FD$1>=$E6,FD$1<=$F6),"."," ") | FG6: =IF(AND(FG$1>=$E6,FG$1<=$F6),"."," ") | FH6: =IF(AND(FH$1>=$E6,FH$1<=$F6),"."," ") | FI6: =IF(AND(FI$1>=$E6,FI$1<=$F6),"."," ") | FJ6: =IF(AND(FJ$1>=$E6,FJ$1<=$F6),"."," ") | FK6: =IF(AND(FK$1>=$E6,FK$1<=$F6),"."," ") | FN6: =IF(AND(FN$1>=$E6,FN$1<=$F6),"."," ") | FO6: =IF(AND(FO$1>=$E6,FO$1<=$F6),"."," ") | FP6: =IF(AND(FP$1>=$E6,FP$1<=$F6),"."," ") | FQ6: =IF(AND(FQ$1>=$E6,FQ$1<=$F6),"."," ") | FR6: =IF(AND(FR$1>=$E6,FR$1<=$F6),"."," ") | FU6: =IF(AND(FU$1>=$E6,FU$1<=$F6),"."," ") | FV6: =IF(AND(FV$1>=$E6,FV$1<=$F6),"."," ") | FW6: =IF(AND(FW$1>=$E6,FW$1<=$F6),"."," ") | FX6: =IF(AND(FX$1>=$E6,FX$1<=$F6),"."," ") | FY6: =IF(AND(FY$1>=$E6,FY$1<=$F6),"."," ") | GB6: =IF(AND(GB$1>=$E6,GB$1<=$F6),"."," ") | GC6: =IF(AND(GC$1>=$E6,GC$1<=$F6),"."," ") | GD6: =IF(AND(GD$1>=$E6,GD$1<=$F6),"."," ") | GE6: =IF(AND(GE$1>=$E6,GE$1<=$F6),"."," ") | GF6: =IF(AND(GF$1>=$E6,GF$1<=$F6),"."," ") | GI6: =IF(AND(GI$1>=$E6,GI$1<=$F6),"."," ") | GJ6: =IF(AND(GJ$1>=$E6,GJ$1<=$F6),"."," ") | GK6: =IF(AND(GK$1>=$E6,GK$1<=$F6),"."," ") | GL6: =IF(AND(GL$1>=$E6,GL$1<=$F6),"."," ") | GM6: =IF(AND(GM$1>=$E6,GM$1<=$F6),"."," ") | GP6: =IF(AND(GP$1>=$E6,GP$1<=$F6),"."," ") | GQ6: =IF(AND(GQ$1>=$E6,GQ$1<=$F6),"."," ") | GR6: =IF(AND(GR$1>=$E6,GR$1<=$F6),"."," ") | GS6: =IF(AND(GS$1>=$E6,GS$1<=$F6),"."," ") | GT6: =IF(AND(GT$1>=$E6,GT$1<=$F6),"."," ") | GW6: =IF(AND(GW$1>=$E6,GW$1<=$F6),"."," ") | GX6: =IF(AND(GX$1>=$E6,GX$1<=$F6),"."," ") | GY6: =IF(AND(GY$1>=$E6,GY$1<=$F6),"."," ") | GZ6: =IF(AND(GZ$1>=$E6,GZ$1<=$F6),"."," ") | HA6: =IF(AND(HA$1>=$E6,HA$1<=$F6),"."," ") | HD6: =IF(AND(HD$1>=$E6,HD$1<=$F6),"."," ") | HE6: =IF(AND(HE$1>=$E6,HE$1<=$F6),"."," ") | HF6: =IF(AND(HF$1>=$E6,HF$1<=$F6),"."," ") | HG6: =IF(AND(HG$1>=$E6,HG$1<=$F6),"."," ") | HH6: =IF(AND(HH$1>=$E6,HH$1<=$F6),"."," ") | HK6: =IF(AND(HK$1>=$E6,HK$1<=$F6),"."," ") | HL6: =IF(AND(HL$1>=$E6,HL$1<=$F6),"."," ") | HM6: =IF(AND(HM$1>=$E6,HM$1<=$F6),"."," ") | HN6: =IF(AND(HN$1>=$E6,HN$1<=$F6),"."," ") | HO6: =IF(AND(HO$1>=$E6,HO$1<=$F6),"."," ") | HR6: =IF(AND(HR$1>=$E6,HR$1<=$F6),"."," ") | HS6: =IF(AND(HS$1>=$E6,HS$1<=$F6),"."," ") | HT6: =IF(AND(HT$1>=$E6,HT$1<=$F6),"."," ") | HU6: =IF(AND(HU$1>=$E6,HU$1<=$F6),"."," ") | HV6: =IF(AND(HV$1>=$E6,HV$1<=$F6),"."," ") | HY6: =IF(AND(HY$1>=$E6,HY$1<=$F6),"."," ") | HZ6: =IF(AND(HZ$1>=$E6,HZ$1<=$F6),"."," ") | IA6: =IF(AND(IA$1>=$E6,IA$1<=$F6),"."," ") | IB6: =IF(AND(IB$1>=$E6,IB$1<=$F6),"."," ") | IC6: =IF(AND(IC$1>=$E6,IC$1<=$F6),"."," ") | IF6: =IF(AND(IF$1>=$E6,IF$1<=$F6),"."," ") | IG6: =IF(AND(IG$1>=$E6,IG$1<=$F6),"."," ") | IH6: =IF(AND(IH$1>=$E6,IH$1<=$F6),"."," ") | II6: =IF(AND(II$1>=$E6,II$1<=$F6),"."," ") | IJ6: =IF(AND(IJ$1>=$E6,IJ$1<=$F6),"."," ") | IM6: =IF(AND(IM$1>=$E6,IM$1<=$F6),"."," ") | IN6: =IF(AND(IN$1>=$E6,IN$1<=$F6),"."," ") | IO6: =IF(AND(IO$1>=$E6,IO$1<=$F6),"."," ") | IP6: =IF(AND(IP$1>=$E6,IP$1<=$F6),"."," ") | IQ6: =IF(AND(IQ$1>=$E6,IQ$1<=$F6),"."," ") | IT6: =IF(AND(IT$1>=$E6,IT$1<=$F6),"."," ") | IU6: =IF(AND(IU$1>=$E6,IU$1<=$F6),"."," ") | IV6: =IF(AND(IV$1>=$E6,IV$1<=$F6),"."," ") | IW6: =IF(AND(IW$1>=$E6,IW$1<=$F6),"."," ") | IX6: =IF(AND(IX$1>=$E6,IX$1<=$F6),"."," ") | JA6: =IF(AND(JA$1>=$E6,JA$1<=$F6),"."," ") | JB6: =IF(AND(JB$1>=$E6,JB$1<=$F6),"."," ") | JC6: =IF(AND(JC$1>=$E6,JC$1<=$F6),"."," ") | JD6: =IF(AND(JD$1>=$E6,JD$1<=$F6),"."," ") | JE6: =IF(AND(JE$1>=$E6,JE$1<=$F6),"."," ")
A7: =A6+1 -> 4 | B7: Draft Functional Requirements | C7: Geg | D7: 3 | E7: =VLOOKUP(D7,$A$1:$F$146,6,FALSE) + 1 -> 45822 | F7: =WORKDAY(E7,G7-1,Config!$C$2:$C$21) -> 45824 | G7: 2 | H7: 0.3 | I7: =IF(AND(I$1>=$E7,I$1<=$F7),"."," ") | J7: =IF(AND(J$1>=$E7,J$1<=$F7),"."," ") | K7: =IF(AND(K$1>=$E7,K$1<=$F7),"."," ") | L7: =IF(AND(L$1>=$E7,L$1<=$F7),"."," ") | M7: =IF(AND(M$1>=$E7,M$1<=$F7),"."," ") | P7: =IF(AND(P$1>=$E7,P$1<=$F7),"."," ") | Q7: =IF(AND(Q$1>=$E7,Q$1<=$F7),"."," ") -> . | R7: =IF(AND(R$1>=$E7,R$1<=$F7),"."," ") -> . | S7: =IF(AND(S$1>=$E7,S$1<=$F7),"."," ") -> . | T7: =IF(AND(T$1>=$E7,T$1<=$F7),"."," ") | W7: =IF(AND(W$1>=$E7,W$1<=$F7),"."," ") | X7: =IF(AND(X$1>=$E7,X$1<=$F7),"."," ") | Y7: =IF(AND(Y$1>=$E7,Y$1<=$F7),"."," ") | Z7: =IF(AND(Z$1>=$E7,Z$1<=$F7),"."," ") | AA7: =IF(AND(AA$1>=$E7,AA$1<=$F7),"."," ") | AD7: =IF(AND(AD$1>=$E7,AD$1<=$F7),"."," ") | AE7: =IF(AND(AE$1>=$E7,AE$1<=$F7),"."," ") | AF7: =IF(AND(AF$1>=$E7,AF$1<=$F7),"."," ") | AG7: =IF(AND(AG$1>=$E7,AG$1<=$F7),"."," ") | AH7: =IF(AND(AH$1>=$E7,AH$1<=$F7),"."," ") | AK7: =IF(AND(AK$1>=$E7,AK$1<=$F7),"."," ") | AL7: =IF(AND(AL$1>=$E7,AL$1<=$F7),"."," ") | AM7: =IF(AND(AM$1>=$E7,AM$1<=$F7),"."," ") | AN7: =IF(AND(AN$1>=$E7,AN$1<=$F7),"."," ") | AO7: =IF(AND(AO$1>=$E7,AO$1<=$F7),"."," ") | AR7: =IF(AND(AR$1>=$E7,AR$1<=$F7),"."," ") | AS7: =IF(AND(AS$1>=$E7,AS$1<=$F7),"."," ") | AT7: =IF(AND(AT$1>=$E7,AT$1<=$F7),"."," ") | AU7: =IF(AND(AU$1>=$E7,AU$1<=$F7),"."," ") | AV7: =IF(AND(AV$1>=$E7,AV$1<=$F7),"."," ") | AY7: =IF(AND(AY$1>=$E7,AY$1<=$F7),"."," ") | AZ7: =IF(AND(AZ$1>=$E7,AZ$1<=$F7),"."," ") | BA7: =IF(AND(BA$1>=$E7,BA$1<=$F7),"."," ") | BB7: =IF(AND(BB$1>=$E7,BB$1<=$F7),"."," ") | BC7: =IF(AND(BC$1>=$E7,BC$1<=$F7),"."," ") | BF7: =IF(AND(BF$1>=$E7,BF$1<=$F7),"."," ") | BG7: =IF(AND(BG$1>=$E7,BG$1<=$F7),"."," ") | BH7: =IF(AND(BH$1>=$E7,BH$1<=$F7),"."," ") | BI7: =IF(AND(BI$1>=$E7,BI$1<=$F7),"."," ") | BJ7: =IF(AND(BJ$1>=$E7,BJ$1<=$F7),"."," ") | BM7: =IF(AND(BM$1>=$E7,BM$1<=$F7),"."," ") | BN7: =IF(AND(BN$1>=$E7,BN$1<=$F7),"."," ") | BO7: =IF(AND(BO$1>=$E7,BO$1<=$F7),"."," ") | BP7: =IF(AND(BP$1>=$E7,BP$1<=$F7),"."," ") | BQ7: =IF(AND(BQ$1>=$E7,BQ$1<=$F7),"."," ") | BT7: =IF(AND(BT$1>=$E7,BT$1<=$F7),"."," ") | BU7: =IF(AND(BU$1>=$E7,BU$1<=$F7),"."," ") | BV7: =IF(AND(BV$1>=$E7,BV$1<=$F7),"."," ") | BW7: =IF(AND(BW$1>=$E7,BW$1<=$F7),"."," ") | BX7: =IF(AND(BX$1>=$E7,BX$1<=$F7),"."," ") | CA7: =IF(AND(CA$1>=$E7,CA$1<=$F7),"."," ") | CB7: =IF(AND(CB$1>=$E7,CB$1<=$F7),"."," ") | CC7: =IF(AND(CC$1>=$E7,CC$1<=$F7),"."," ") | CD7: =IF(AND(CD$1>=$E7,CD$1<=$F7),"."," ") | CE7: =IF(AND(CE$1>=$E7,CE$1<=$F7),"."," ") | CH7: =IF(AND(CH$1>=$E7,CH$1<=$F7),"."," ") | CI7: =IF(AND(CI$1>=$E7,CI$1<=$F7),"."," ") | CJ7: =IF(AND(CJ$1>=$E7,CJ$1<=$F7),"."," ") | CK7: =IF(AND(CK$1>=$E7,CK$1<=$F7),"."," ") | CL7: =IF(AND(CL$1>=$E7,CL$1<=$F7),"."," ") | CO7: =IF(AND(CO$1>=$E7,CO$1<=$F7),"."," ") | CP7: =IF(AND(CP$1>=$E7,CP$1<=$F7),"."," ") | CQ7: =IF(AND(CQ$1>=$E7,CQ$1<=$F7),"."," ") | CR7: =IF(AND(CR$1>=$E7,CR$1<=$F7),"."," ") | CS7: =IF(AND(CS$1>=$E7,CS$1<=$F7),"."," ") | CV7: =IF(AND(CV$1>=$E7,CV$1<=$F7),"."," ") | CW7: =IF(AND(CW$1>=$E7,CW$1<=$F7),"."," ") | CX7: =IF(AND(CX$1>=$E7,CX$1<=$F7),"."," ") | CY7: =IF(AND(CY$1>=$E7,CY$1<=$F7),"."," ") | CZ7: =IF(AND(CZ$1>=$E7,CZ$1<=$F7),"."," ") | DC7: =IF(AND(DC$1>=$E7,DC$1<=$F7),"."," ") | DD7: =IF(AND(DD$1>=$E7,DD$1<=$F7),"."," ") | DE7: =IF(AND(DE$1>=$E7,DE$1<=$F7),"."," ") | DF7: =IF(AND(DF$1>=$E7,DF$1<=$F7),"."," ") | DG7: =IF(AND(DG$1>=$E7,DG$1<=$F7),"."," ") | DJ7: =IF(AND(DJ$1>=$E7,DJ$1<=$F7),"."," ") | DK7: =IF(AND(DK$1>=$E7,DK$1<=$F7),"."," ") | DL7: =IF(AND(DL$1>=$E7,DL$1<=$F7),"."," ") | DM7: =IF(AND(DM$1>=$E7,DM$1<=$F7),"."," ") | DN7: =IF(AND(DN$1>=$E7,DN$1<=$F7),"."," ") | DQ7: =IF(AND(DQ$1>=$E7,DQ$1<=$F7),"."," ") | DR7: =IF(AND(DR$1>=$E7,DR$1<=$F7),"."," ") | DS7: =IF(AND(DS$1>=$E7,DS$1<=$F7),"."," ") | DT7: =IF(AND(DT$1>=$E7,DT$1<=$F7),"."," ") | DU7: =IF(AND(DU$1>=$E7,DU$1<=$F7),"."," ") | DX7: =IF(AND(DX$1>=$E7,DX$1<=$F7),"."," ") | DY7: =IF(AND(DY$1>=$E7,DY$1<=$F7),"."," ") | DZ7: =IF(AND(DZ$1>=$E7,DZ$1<=$F7),"."," ") | EA7: =IF(AND(EA$1>=$E7,EA$1<=$F7),"."," ") | EB7: =IF(AND(EB$1>=$E7,EB$1<=$F7),"."," ") | EE7: =IF(AND(EE$1>=$E7,EE$1<=$F7),"."," ") | EF7: =IF(AND(EF$1>=$E7,EF$1<=$F7),"."," ") | EG7: =IF(AND(EG$1>=$E7,EG$1<=$F7),"."," ") | EH7: =IF(AND(EH$1>=$E7,EH$1<=$F7),"."," ") | EI7: =IF(AND(EI$1>=$E7,EI$1<=$F7),"."," ") | EL7: =IF(AND(EL$1>=$E7,EL$1<=$F7),"."," ") | EM7: =IF(AND(EM$1>=$E7,EM$1<=$F7),"."," ") | EN7: =IF(AND(EN$1>=$E7,EN$1<=$F7),"."," ") | EO7: =IF(AND(EO$1>=$E7,EO$1<=$F7),"."," ") | EP7: =IF(AND(EP$1>=$E7,EP$1<=$F7),"."," ") | ES7: =IF(AND(ES$1>=$E7,ES$1<=$F7),"."," ") | ET7: =IF(AND(ET$1>=$E7,ET$1<=$F7),"."," ") | EU7: =IF(AND(EU$1>=$E7,EU$1<=$F7),"."," ") | EV7: =IF(AND(EV$1>=$E7,EV$1<=$F7),"."," ") | EW7: =IF(AND(EW$1>=$E7,EW$1<=$F7),"."," ") | EZ7: =IF(AND(EZ$1>=$E7,EZ$1<=$F7),"."," ") | FA7: =IF(AND(FA$1>=$E7,FA$1<=$F7),"."," ") | FB7: =IF(AND(FB$1>=$E7,FB$1<=$F7),"."," ") | FC7: =IF(AND(FC$1>=$E7,FC$1<=$F7),"."," ") | FD7: =IF(AND(FD$1>=$E7,FD$1<=$F7),"."," ") | FG7: =IF(AND(FG$1>=$E7,FG$1<=$F7),"."," ") | FH7: =IF(AND(FH$1>=$E7,FH$1<=$F7),"."," ") | FI7: =IF(AND(FI$1>=$E7,FI$1<=$F7),"."," ") | FJ7: =IF(AND(FJ$1>=$E7,FJ$1<=$F7),"."," ") | FK7: =IF(AND(FK$1>=$E7,FK$1<=$F7),"."," ") | FN7: =IF(AND(FN$1>=$E7,FN$1<=$F7),"."," ") | FO7: =IF(AND(FO$1>=$E7,FO$1<=$F7),"."," ") | FP7: =IF(AND(FP$1>=$E7,FP$1<=$F7),"."," ") | FQ7: =IF(AND(FQ$1>=$E7,FQ$1<=$F7),"."," ") | FR7: =IF(AND(FR$1>=$E7,FR$1<=$F7),"."," ") | FU7: =IF(AND(FU$1>=$E7,FU$1<=$F7),"."," ") | FV7: =IF(AND(FV$1>=$E7,FV$1<=$F7),"."," ") | FW7: =IF(AND(FW$1>=$E7,FW$1<=$F7),"."," ") | FX7: =IF(AND(FX$1>=$E7,FX$1<=$F7),"."," ") | FY7: =IF(AND(FY$1>=$E7,FY$1<=$F7),"."," ") | GB7: =IF(AND(GB$1>=$E7,GB$1<=$F7),"."," ") | GC7: =IF(AND(GC$1>=$E7,GC$1<=$F7),"."," ") | GD7: =IF(AND(GD$1>=$E7,GD$1<=$F7),"."," ") | GE7: =IF(AND(GE$1>=$E7,GE$1<=$F7),"."," ") | GF7: =IF(AND(GF$1>=$E7,GF$1<=$F7),"."," ") | GI7: =IF(AND(GI$1>=$E7,GI$1<=$F7),"."," ") | GJ7: =IF(AND(GJ$1>=$E7,GJ$1<=$F7),"."," ") | GK7: =IF(AND(GK$1>=$E7,GK$1<=$F7),"."," ") | GL7: =IF(AND(GL$1>=$E7,GL$1<=$F7),"."," ") | GM7: =IF(AND(GM$1>=$E7,GM$1<=$F7),"."," ") | GP7: =IF(AND(GP$1>=$E7,GP$1<=$F7),"."," ") | GQ7: =IF(AND(GQ$1>=$E7,GQ$1<=$F7),"."," ") | GR7: =IF(AND(GR$1>=$E7,GR$1<=$F7),"."," ") | GS7: =IF(AND(GS$1>=$E7,GS$1<=$F7),"."," ") | GT7: =IF(AND(GT$1>=$E7,GT$1<=$F7),"."," ") | GW7: =IF(AND(GW$1>=$E7,GW$1<=$F7),"."," ") | GX7: =IF(AND(GX$1>=$E7,GX$1<=$F7),"."," ") | GY7: =IF(AND(GY$1>=$E7,GY$1<=$F7),"."," ") | GZ7: =IF(AND(GZ$1>=$E7,GZ$1<=$F7),"."," ") | HA7: =IF(AND(HA$1>=$E7,HA$1<=$F7),"."," ") | HD7: =IF(AND(HD$1>=$E7,HD$1<=$F7),"."," ") | HE7: =IF(AND(HE$1>=$E7,HE$1<=$F7),"."," ") | HF7: =IF(AND(HF$1>=$E7,HF$1<=$F7),"."," ") | HG7: =IF(AND(HG$1>=$E7,HG$1<=$F7),"."," ") | HH7: =IF(AND(HH$1>=$E7,HH$1<=$F7),"."," ") | HK7: =IF(AND(HK$1>=$E7,HK$1<=$F7),"."," ") | HL7: =IF(AND(HL$1>=$E7,HL$1<=$F7),"."," ") | HM7: =IF(AND(HM$1>=$E7,HM$1<=$F7),"."," ") | HN7: =IF(AND(HN$1>=$E7,HN$1<=$F7),"."," ") | HO7: =IF(AND(HO$1>=$E7,HO$1<=$F7),"."," ") | HR7: =IF(AND(HR$1>=$E7,HR$1<=$F7),"."," ") | HS7: =IF(AND(HS$1>=$E7,HS$1<=$F7),"."," ") | HT7: =IF(AND(HT$1>=$E7,HT$1<=$F7),"."," ") | HU7: =IF(AND(HU$1>=$E7,HU$1<=$F7),"."," ") | HV7: =IF(AND(HV$1>=$E7,HV$1<=$F7),"."," ") | HY7: =IF(AND(HY$1>=$E7,HY$1<=$F7),"."," ") | HZ7: =IF(AND(HZ$1>=$E7,HZ$1<=$F7),"."," ") | IA7: =IF(AND(IA$1>=$E7,IA$1<=$F7),"."," ") | IB7: =IF(AND(IB$1>=$E7,IB$1<=$F7),"."," ") | IC7: =IF(AND(IC$1>=$E7,IC$1<=$F7),"."," ") | IF7: =IF(AND(IF$1>=$E7,IF$1<=$F7),"."," ") | IG7: =IF(AND(IG$1>=$E7,IG$1<=$F7),"."," ") | IH7: =IF(AND(IH$1>=$E7,IH$1<=$F7),"."," ") | II7: =IF(AND(II$1>=$E7,II$1<=$F7),"."," ") | IJ7: =IF(AND(IJ$1>=$E7,IJ$1<=$F7),"."," ") | IM7: =IF(AND(IM$1>=$E7,IM$1<=$F7),"."," ") | IN7: =IF(AND(IN$1>=$E7,IN$1<=$F7),"."," ") | IO7: =IF(AND(IO$1>=$E7,IO$1<=$F7),"."," ") | IP7: =IF(AND(IP$1>=$E7,IP$1<=$F7),"."," ") | IQ7: =IF(AND(IQ$1>=$E7,IQ$1<=$F7),"."," ") | IT7: =IF(AND(IT$1>=$E7,IT$1<=$F7),"."," ") | IU7: =IF(AND(IU$1>=$E7,IU$1<=$F7),"."," ") | IV7: =IF(AND(IV$1>=$E7,IV$1<=$F7),"."," ") | IW7: =IF(AND(IW$1>=$E7,IW$1<=$F7),"."," ") | IX7: =IF(AND(IX$1>=$E7,IX$1<=$F7),"."," ") | JA7: =IF(AND(JA$1>=$E7,JA$1<=$F7),"."," ") | JB7: =IF(AND(JB$1>=$E7,JB$1<=$F7),"."," ") | JC7: =IF(AND(JC$1>=$E7,JC$1<=$F7),"."," ") | JD7: =IF(AND(JD$1>=$E7,JD$1<=$F7),"."," ") | JE7: =IF(AND(JE$1>=$E7,JE$1<=$F7),"."," ")
A8: =A7+1 -> 5 | B8: Sign Off Functional Requirements | C8: Rice | D8: 4 | E8: =VLOOKUP(D8,$A$1:$F$146,6,FALSE) + 1 -> 45825 | F8: =WORKDAY(E8,G8-1,Config!$C$2:$C$21) -> 45828 | G8: 4 | H8: 0.4 | I8: =IF(AND(I$1>=$E8,I$1<=$F8),"."," ") | J8: =IF(AND(J$1>=$E8,J$1<=$F8),"."," ") | K8: =IF(AND(K$1>=$E8,K$1<=$F8),"."," ") | L8: =IF(AND(L$1>=$E8,L$1<=$F8),"."," ") | M8: =IF(AND(M$1>=$E8,M$1<=$F8),"."," ") | P8: =IF(AND(P$1>=$E8,P$1<=$F8),"."," ") | Q8: =IF(AND(Q$1>=$E8,Q$1<=$F8),"."," ") | R8: =IF(AND(R$1>=$E8,R$1<=$F8),"."," ") | S8: =IF(AND(S$1>=$E8,S$1<=$F8),"."," ") | T8: =IF(AND(T$1>=$E8,T$1<=$F8),"."," ") -> . | W8: =IF(AND(W$1>=$E8,W$1<=$F8),"."," ") -> . | X8: =IF(AND(X$1>=$E8,X$1<=$F8),"."," ") | Y8: =IF(AND(Y$1>=$E8,Y$1<=$F8),"."," ") | Z8: =IF(AND(Z$1>=$E8,Z$1<=$F8),"."," ") | AA8: =IF(AND(AA$1>=$E8,AA$1<=$F8),"."," ") | AD8: =IF(AND(AD$1>=$E8,AD$1<=$F8),"."," ") | AE8: =IF(AND(AE$1>=$E8,AE$1<=$F8),"."," ") | AF8: =IF(AND(AF$1>=$E8,AF$1<=$F8),"."," ") | AG8: =IF(AND(AG$1>=$E8,AG$1<=$F8),"."," ") | AH8: =IF(AND(AH$1>=$E8,AH$1<=$F8),"."," ") | AK8: =IF(AND(AK$1>=$E8,AK$1<=$F8),"."," ") | AL8: =IF(AND(AL$1>=$E8,AL$1<=$F8),"."," ") | AM8: =IF(AND(AM$1>=$E8,AM$1<=$F8),"."," ") | AN8: =IF(AND(AN$1>=$E8,AN$1<=$F8),"."," ") | AO8: =IF(AND(AO$1>=$E8,AO$1<=$F8),"."," ") | AR8: =IF(AND(AR$1>=$E8,AR$1<=$F8),"."," ") | AS8: =IF(AND(AS$1>=$E8,AS$1<=$F8),"."," ") | AT8: =IF(AND(AT$1>=$E8,AT$1<=$F8),"."," ") | AU8: =IF(AND(AU$1>=$E8,AU$1<=$F8),"."," ") | AV8: =IF(AND(AV$1>=$E8,AV$1<=$F8),"."," ") | AY8: =IF(AND(AY$1>=$E8,AY$1<=$F8),"."," ") | AZ8: =IF(AND(AZ$1>=$E8,AZ$1<=$F8),"."," ") | BA8: =IF(AND(BA$1>=$E8,BA$1<=$F8),"."," ") | BB8: =IF(AND(BB$1>=$E8,BB$1<=$F8),"."," ") | BC8: =IF(AND(BC$1>=$E8,BC$1<=$F8),"."," ") | BF8: =IF(AND(BF$1>=$E8,BF$1<=$F8),"."," ") | BG8: =IF(AND(BG$1>=$E8,BG$1<=$F8),"."," ") | BH8: =IF(AND(BH$1>=$E8,BH$1<=$F8),"."," ") | BI8: =IF(AND(BI$1>=$E8,BI$1<=$F8),"."," ") | BJ8: =IF(AND(BJ$1>=$E8,BJ$1<=$F8),"."," ") | BM8: =IF(AND(BM$1>=$E8,BM$1<=$F8),"."," ") | BN8: =IF(AND(BN$1>=$E8,BN$1<=$F8),"."," ") | BO8: =IF(AND(BO$1>=$E8,BO$1<=$F8),"."," ") | BP8: =IF(AND(BP$1>=$E8,BP$1<=$F8),"."," ") | BQ8: =IF(AND(BQ$1>=$E8,BQ$1<=$F8),"."," ") | BT8: =IF(AND(BT$1>=$E8,BT$1<=$F8),"."," ") | BU8: =IF(AND(BU$1>=$E8,BU$1<=$F8),"."," ") | BV8: =IF(AND(BV$1>=$E8,BV$1<=$F8),"."," ") | BW8: =IF(AND(BW$1>=$E8,BW$1<=$F8),"."," ") | BX8: =IF(AND(BX$1>=$E8,BX$1<=$F8),"."," ") | CA8: =IF(AND(CA$1>=$E8,CA$1<=$F8),"."," ") | CB8: =IF(AND(CB$1>=$E8,CB$1<=$F8),"."," ") | CC8: =IF(AND(CC$1>=$E8,CC$1<=$F8),"."," ") | CD8: =IF(AND(CD$1>=$E8,CD$1<=$F8),"."," ") | CE8: =IF(AND(CE$1>=$E8,CE$1<=$F8),"."," ") | CH8: =IF(AND(CH$1>=$E8,CH$1<=$F8),"."," ") | CI8: =IF(AND(CI$1>=$E8,CI$1<=$F8),"."," ") | CJ8: =IF(AND(CJ$1>=$E8,CJ$1<=$F8),"."," ") | CK8: =IF(AND(CK$1>=$E8,CK$1<=$F8),"."," ") | CL8: =IF(AND(CL$1>=$E8,CL$1<=$F8),"."," ") | CO8: =IF(AND(CO$1>=$E8,CO$1<=$F8),"."," ") | CP8: =IF(AND(CP$1>=$E8,CP$1<=$F8),"."," ") | CQ8: =IF(AND(CQ$1>=$E8,CQ$1<=$F8),"."," ") | CR8: =IF(AND(CR$1>=$E8,CR$1<=$F8),"."," ") | CS8: =IF(AND(CS$1>=$E8,CS$1<=$F8),"."," ") | CV8: =IF(AND(CV$1>=$E8,CV$1<=$F8),"."," ") | CW8: =IF(AND(CW$1>=$E8,CW$1<=$F8),"."," ") | CX8: =IF(AND(CX$1>=$E8,CX$1<=$F8),"."," ") | CY8: =IF(AND(CY$1>=$E8,CY$1<=$F8),"."," ") | CZ8: =IF(AND(CZ$1>=$E8,CZ$1<=$F8),"."," ") | DC8: =IF(AND(DC$1>=$E8,DC$1<=$F8),"."," ") | DD8: =IF(AND(DD$1>=$E8,DD$1<=$F8),"."," ") | DE8: =IF(AND(DE$1>=$E8,DE$1<=$F8),"."," ") | DF8: =IF(AND(DF$1>=$E8,DF$1<=$F8),"."," ") | DG8: =IF(AND(DG$1>=$E8,DG$1<=$F8),"."," ") | DJ8: =IF(AND(DJ$1>=$E8,DJ$1<=$F8),"."," ") | DK8: =IF(AND(DK$1>=$E8,DK$1<=$F8),"."," ") | DL8: =IF(AND(DL$1>=$E8,DL$1<=$F8),"."," ") | DM8: =IF(AND(DM$1>=$E8,DM$1<=$F8),"."," ") | DN8: =IF(AND(DN$1>=$E8,DN$1<=$F8),"."," ") | DQ8: =IF(AND(DQ$1>=$E8,DQ$1<=$F8),"."," ") | DR8: =IF(AND(DR$1>=$E8,DR$1<=$F8),"."," ") | DS8: =IF(AND(DS$1>=$E8,DS$1<=$F8),"."," ") | DT8: =IF(AND(DT$1>=$E8,DT$1<=$F8),"."," ") | DU8: =IF(AND(DU$1>=$E8,DU$1<=$F8),"."," ") | DX8: =IF(AND(DX$1>=$E8,DX$1<=$F8),"."," ") | DY8: =IF(AND(DY$1>=$E8,DY$1<=$F8),"."," ") | DZ8: =IF(AND(DZ$1>=$E8,DZ$1<=$F8),"."," ") | EA8: =IF(AND(EA$1>=$E8,EA$1<=$F8),"."," ") | EB8: =IF(AND(EB$1>=$E8,EB$1<=$F8),"."," ") | EE8: =IF(AND(EE$1>=$E8,EE$1<=$F8),"."," ") | EF8: =IF(AND(EF$1>=$E8,EF$1<=$F8),"."," ") | EG8: =IF(AND(EG$1>=$E8,EG$1<=$F8),"."," ") | EH8: =IF(AND(EH$1>=$E8,EH$1<=$F8),"."," ") | EI8: =IF(AND(EI$1>=$E8,EI$1<=$F8),"."," ") | EL8: =IF(AND(EL$1>=$E8,EL$1<=$F8),"."," ") | EM8: =IF(AND(EM$1>=$E8,EM$1<=$F8),"."," ") | EN8: =IF(AND(EN$1>=$E8,EN$1<=$F8),"."," ") | EO8: =IF(AND(EO$1>=$E8,EO$1<=$F8),"."," ") | EP8: =IF(AND(EP$1>=$E8,EP$1<=$F8),"."," ") | ES8: =IF(AND(ES$1>=$E8,ES$1<=$F8),"."," ") | ET8: =IF(AND(ET$1>=$E8,ET$1<=$F8),"."," ") | EU8: =IF(AND(EU$1>=$E8,EU$1<=$F8),"."," ") | EV8: =IF(AND(EV$1>=$E8,EV$1<=$F8),"."," ") | EW8: =IF(AND(EW$1>=$E8,EW$1<=$F8),"."," ") | EZ8: =IF(AND(EZ$1>=$E8,EZ$1<=$F8),"."," ") | FA8: =IF(AND(FA$1>=$E8,FA$1<=$F8),"."," ") | FB8: =IF(AND(FB$1>=$E8,FB$1<=$F8),"."," ") | FC8: =IF(AND(FC$1>=$E8,FC$1<=$F8),"."," ") | FD8: =IF(AND(FD$1>=$E8,FD$1<=$F8),"."," ") | FG8: =IF(AND(FG$1>=$E8,FG$1<=$F8),"."," ") | FH8: =IF(AND(FH$1>=$E8,FH$1<=$F8),"."," ") | FI8: =IF(AND(FI$1>=$E8,FI$1<=$F8),"."," ") | FJ8: =IF(AND(FJ$1>=$E8,FJ$1<=$F8),"."," ") | FK8: =IF(AND(FK$1>=$E8,FK$1<=$F8),"."," ") | FN8: =IF(AND(FN$1>=$E8,FN$1<=$F8),"."," ") | FO8: =IF(AND(FO$1>=$E8,FO$1<=$F8),"."," ") | FP8: =IF(AND(FP$1>=$E8,FP$1<=$F8),"."," ") | FQ8: =IF(AND(FQ$1>=$E8,FQ$1<=$F8),"."," ") | FR8: =IF(AND(FR$1>=$E8,FR$1<=$F8),"."," ") | FU8: =IF(AND(FU$1>=$E8,FU$1<=$F8),"."," ") | FV8: =IF(AND(FV$1>=$E8,FV$1<=$F8),"."," ") | FW8: =IF(AND(FW$1>=$E8,FW$1<=$F8),"."," ") | FX8: =IF(AND(FX$1>=$E8,FX$1<=$F8),"."," ") | FY8: =IF(AND(FY$1>=$E8,FY$1<=$F8),"."," ") | GB8: =IF(AND(GB$1>=$E8,GB$1<=$F8),"."," ") | GC8: =IF(AND(GC$1>=$E8,GC$1<=$F8),"."," ") | GD8: =IF(AND(GD$1>=$E8,GD$1<=$F8),"."," ") | GE8: =IF(AND(GE$1>=$E8,GE$1<=$F8),"."," ") | GF8: =IF(AND(GF$1>=$E8,GF$1<=$F8),"."," ") | GI8: =IF(AND(GI$1>=$E8,GI$1<=$F8),"."," ") | GJ8: =IF(AND(GJ$1>=$E8,GJ$1<=$F8),"."," ") | GK8: =IF(AND(GK$1>=$E8,GK$1<=$F8),"."," ") | GL8: =IF(AND(GL$1>=$E8,GL$1<=$F8),"."," ") | GM8: =IF(AND(GM$1>=$E8,GM$1<=$F8),"."," ") | GP8: =IF(AND(GP$1>=$E8,GP$1<=$F8),"."," ") | GQ8: =IF(AND(GQ$1>=$E8,GQ$1<=$F8),"."," ") | GR8: =IF(AND(GR$1>=$E8,GR$1<=$F8),"."," ") | GS8: =IF(AND(GS$1>=$E8,GS$1<=$F8),"."," ") | GT8: =IF(AND(GT$1>=$E8,GT$1<=$F8),"."," ") | GW8: =IF(AND(GW$1>=$E8,GW$1<=$F8),"."," ") | GX8: =IF(AND(GX$1>=$E8,GX$1<=$F8),"."," ") | GY8: =IF(AND(GY$1>=$E8,GY$1<=$F8),"."," ") | GZ8: =IF(AND(GZ$1>=$E8,GZ$1<=$F8),"."," ") | HA8: =IF(AND(HA$1>=$E8,HA$1<=$F8),"."," ") | HD8: =IF(AND(HD$1>=$E8,HD$1<=$F8),"."," ") | HE8: =IF(AND(HE$1>=$E8,HE$1<=$F8),"."," ") | HF8: =IF(AND(HF$1>=$E8,HF$1<=$F8),"."," ") | HG8: =IF(AND(HG$1>=$E8,HG$1<=$F8),"."," ") | HH8: =IF(AND(HH$1>=$E8,HH$1<=$F8),"."," ") | HK8: =IF(AND(HK$1>=$E8,HK$1<=$F8),"."," ") | HL8: =IF(AND(HL$1>=$E8,HL$1<=$F8),"."," ") | HM8: =IF(AND(HM$1>=$E8,HM$1<=$F8),"."," ") | HN8: =IF(AND(HN$1>=$E8,HN$1<=$F8),"."," ") | HO8: =IF(AND(HO$1>=$E8,HO$1<=$F8),"."," ") | HR8: =IF(AND(HR$1>=$E8,HR$1<=$F8),"."," ") | HS8: =IF(AND(HS$1>=$E8,HS$1<=$F8),"."," ") | HT8: =IF(AND(HT$1>=$E8,HT$1<=$F8),"."," ") | HU8: =IF(AND(HU$1>=$E8,HU$1<=$F8),"."," ") | HV8: =IF(AND(HV$1>=$E8,HV$1<=$F8),"."," ") | HY8: =IF(AND(HY$1>=$E8,HY$1<=$F8),"."," ") | HZ8: =IF(AND(HZ$1>=$E8,HZ$1<=$F8),"."," ") | IA8: =IF(AND(IA$1>=$E8,IA$1<=$F8),"."," ") | IB8: =IF(AND(IB$1>=$E8,IB$1<=$F8),"."," ") | IC8: =IF(AND(IC$1>=$E8,IC$1<=$F8),"."," ") | IF8: =IF(AND(IF$1>=$E8,IF$1<=$F8),"."," ") | IG8: =IF(AND(IG$1>=$E8,IG$1<=$F8),"."," ") | IH8: =IF(AND(IH$1>=$E8,IH$1<=$F8),"."," ") | II8: =IF(AND(II$1>=$E8,II$1<=$F8),"."," ") | IJ8: =IF(AND(IJ$1>=$E8,IJ$1<=$F8),"."," ") | IM8: =IF(AND(IM$1>=$E8,IM$1<=$F8),"."," ") | IN8: =IF(AND(IN$1>=$E8,IN$1<=$F8),"."," ") | IO8: =IF(AND(IO$1>=$E8,IO$1<=$F8),"."," ") | IP8: =IF(AND(IP$1>=$E8,IP$1<=$F8),"."," ") | IQ8: =IF(AND(IQ$1>=$E8,IQ$1<=$F8),"."," ") | IT8: =IF(AND(IT$1>=$E8,IT$1<=$F8),"."," ") | IU8: =IF(AND(IU$1>=$E8,IU$1<=$F8),"."," ") | IV8: =IF(AND(IV$1>=$E8,IV$1<=$F8),"."," ") | IW8: =IF(AND(IW$1>=$E8,IW$1<=$F8),"."," ") | IX8: =IF(AND(IX$1>=$E8,IX$1<=$F8),"."," ") | JA8: =IF(AND(JA$1>=$E8,JA$1<=$F8),"."," ") | JB8: =IF(AND(JB$1>=$E8,JB$1<=$F8),"."," ") | JC8: =IF(AND(JC$1>=$E8,JC$1<=$F8),"."," ") | JD8: =IF(AND(JD$1>=$E8,JD$1<=$F8),"."," ") | JE8: =IF(AND(JE$1>=$E8,JE$1<=$F8),"."," ")
A9: 6 | B9: System Design | C9: John | D9: 5 | E9: =VLOOKUP(D9,$A$1:$F$146,6,FALSE) + 1 -> 45829 | F9: =WORKDAY(E9,G9-1,Config!$C$2:$C$21) -> 45831 | G9: 2 | H9: 0.9 | I9: =IF(AND(I$1>=$E9,I$1<=$F9),"."," ") | J9: =IF(AND(J$1>=$E9,J$1<=$F9),"."," ") | K9: =IF(AND(K$1>=$E9,K$1<=$F9),"."," ") | L9: =IF(AND(L$1>=$E9,L$1<=$F9),"."," ") | M9: =IF(AND(M$1>=$E9,M$1<=$F9),"."," ") | P9: =IF(AND(P$1>=$E9,P$1<=$F9),"."," ") | Q9: =IF(AND(Q$1>=$E9,Q$1<=$F9),"."," ") | R9: =IF(AND(R$1>=$E9,R$1<=$F9),"."," ") | S9: =IF(AND(S$1>=$E9,S$1<=$F9),"."," ") | T9: =IF(AND(T$1>=$E9,T$1<=$F9),"."," ") | W9: =IF(AND(W$1>=$E9,W$1<=$F9),"."," ") | X9: =IF(AND(X$1>=$E9,X$1<=$F9),"."," ") -> . | Y9: =IF(AND(Y$1>=$E9,Y$1<=$F9),"."," ") -> . | Z9: =IF(AND(Z$1>=$E9,Z$1<=$F9),"."," ") -> . | AA9: =IF(AND(AA$1>=$E9,AA$1<=$F9),"."," ") | AD9: =IF(AND(AD$1>=$E9,AD$1<=$F9),"."," ") | AE9: =IF(AND(AE$1>=$E9,AE$1<=$F9),"."," ") | AF9: =IF(AND(AF$1>=$E9,AF$1<=$F9),"."," ") | AG9: =IF(AND(AG$1>=$E9,AG$1<=$F9),"."," ") | AH9: =IF(AND(AH$1>=$E9,AH$1<=$F9),"."," ") | AK9: =IF(AND(AK$1>=$E9,AK$1<=$F9),"."," ") | AL9: =IF(AND(AL$1>=$E9,AL$1<=$F9),"."," ") | AM9: =IF(AND(AM$1>=$E9,AM$1<=$F9),"."," ") | AN9: =IF(AND(AN$1>=$E9,AN$1<=$F9),"."," ") | AO9: =IF(AND(AO$1>=$E9,AO$1<=$F9),"."," ") | AR9: =IF(AND(AR$1>=$E9,AR$1<=$F9),"."," ") | AS9: =IF(AND(AS$1>=$E9,AS$1<=$F9),"."," ") | AT9: =IF(AND(AT$1>=$E9,AT$1<=$F9),"."," ") | AU9: =IF(AND(AU$1>=$E9,AU$1<=$F9),"."," ") | AV9: =IF(AND(AV$1>=$E9,AV$1<=$F9),"."," ") | AY9: =IF(AND(AY$1>=$E9,AY$1<=$F9),"."," ") | AZ9: =IF(AND(AZ$1>=$E9,AZ$1<=$F9),"."," ") | BA9: =IF(AND(BA$1>=$E9,BA$1<=$F9),"."," ") | BB9: =IF(AND(BB$1>=$E9,BB$1<=$F9),"."," ") | BC9: =IF(AND(BC$1>=$E9,BC$1<=$F9),"."," ") | BF9: =IF(AND(BF$1>=$E9,BF$1<=$F9),"."," ") | BG9: =IF(AND(BG$1>=$E9,BG$1<=$F9),"."," ") | BH9: =IF(AND(BH$1>=$E9,BH$1<=$F9),"."," ") | BI9: =IF(AND(BI$1>=$E9,BI$1<=$F9),"."," ") | BJ9: =IF(AND(BJ$1>=$E9,BJ$1<=$F9),"."," ") | BM9: =IF(AND(BM$1>=$E9,BM$1<=$F9),"."," ") | BN9: =IF(AND(BN$1>=$E9,BN$1<=$F9),"."," ") | BO9: =IF(AND(BO$1>=$E9,BO$1<=$F9),"."," ") | BP9: =IF(AND(BP$1>=$E9,BP$1<=$F9),"."," ") | BQ9: =IF(AND(BQ$1>=$E9,BQ$1<=$F9),"."," ") | BT9: =IF(AND(BT$1>=$E9,BT$1<=$F9),"."," ") | BU9: =IF(AND(BU$1>=$E9,BU$1<=$F9),"."," ") | BV9: =IF(AND(BV$1>=$E9,BV$1<=$F9),"."," ") | BW9: =IF(AND(BW$1>=$E9,BW$1<=$F9),"."," ") | BX9: =IF(AND(BX$1>=$E9,BX$1<=$F9),"."," ") | CA9: =IF(AND(CA$1>=$E9,CA$1<=$F9),"."," ") | CB9: =IF(AND(CB$1>=$E9,CB$1<=$F9),"."," ") | CC9: =IF(AND(CC$1>=$E9,CC$1<=$F9),"."," ") | CD9: =IF(AND(CD$1>=$E9,CD$1<=$F9),"."," ") | CE9: =IF(AND(CE$1>=$E9,CE$1<=$F9),"."," ") | CH9: =IF(AND(CH$1>=$E9,CH$1<=$F9),"."," ") | CI9: =IF(AND(CI$1>=$E9,CI$1<=$F9),"."," ") | CJ9: =IF(AND(CJ$1>=$E9,CJ$1<=$F9),"."," ") | CK9: =IF(AND(CK$1>=$E9,CK$1<=$F9),"."," ") | CL9: =IF(AND(CL$1>=$E9,CL$1<=$F9),"."," ") | CO9: =IF(AND(CO$1>=$E9,CO$1<=$F9),"."," ") | CP9: =IF(AND(CP$1>=$E9,CP$1<=$F9),"."," ") | CQ9: =IF(AND(CQ$1>=$E9,CQ$1<=$F9),"."," ") | CR9: =IF(AND(CR$1>=$E9,CR$1<=$F9),"."," ") | CS9: =IF(AND(CS$1>=$E9,CS$1<=$F9),"."," ") | CV9: =IF(AND(CV$1>=$E9,CV$1<=$F9),"."," ") | CW9: =IF(AND(CW$1>=$E9,CW$1<=$F9),"."," ") | CX9: =IF(AND(CX$1>=$E9,CX$1<=$F9),"."," ") | CY9: =IF(AND(CY$1>=$E9,CY$1<=$F9),"."," ") | CZ9: =IF(AND(CZ$1>=$E9,CZ$1<=$F9),"."," ") | DC9: =IF(AND(DC$1>=$E9,DC$1<=$F9),"."," ") | DD9: =IF(AND(DD$1>=$E9,DD$1<=$F9),"."," ") | DE9: =IF(AND(DE$1>=$E9,DE$1<=$F9),"."," ") | DF9: =IF(AND(DF$1>=$E9,DF$1<=$F9),"."," ") | DG9: =IF(AND(DG$1>=$E9,DG$1<=$F9),"."," ") | DJ9: =IF(AND(DJ$1>=$E9,DJ$1<=$F9),"."," ") | DK9: =IF(AND(DK$1>=$E9,DK$1<=$F9),"."," ") | DL9: =IF(AND(DL$1>=$E9,DL$1<=$F9),"."," ") | DM9: =IF(AND(DM$1>=$E9,DM$1<=$F9),"."," ") | DN9: =IF(AND(DN$1>=$E9,DN$1<=$F9),"."," ") | DQ9: =IF(AND(DQ$1>=$E9,DQ$1<=$F9),"."," ") | DR9: =IF(AND(DR$1>=$E9,DR$1<=$F9),"."," ") | DS9: =IF(AND(DS$1>=$E9,DS$1<=$F9),"."," ") | DT9: =IF(AND(DT$1>=$E9,DT$1<=$F9),"."," ") | DU9: =IF(AND(DU$1>=$E9,DU$1<=$F9),"."," ") | DX9: =IF(AND(DX$1>=$E9,DX$1<=$F9),"."," ") | DY9: =IF(AND(DY$1>=$E9,DY$1<=$F9),"."," ") | DZ9: =IF(AND(DZ$1>=$E9,DZ$1<=$F9),"."," ") | EA9: =IF(AND(EA$1>=$E9,EA$1<=$F9),"."," ") | EB9: =IF(AND(EB$1>=$E9,EB$1<=$F9),"."," ") | EE9: =IF(AND(EE$1>=$E9,EE$1<=$F9),"."," ") | EF9: =IF(AND(EF$1>=$E9,EF$1<=$F9),"."," ") | EG9: =IF(AND(EG$1>=$E9,EG$1<=$F9),"."," ") | EH9: =IF(AND(EH$1>=$E9,EH$1<=$F9),"."," ") | EI9: =IF(AND(EI$1>=$E9,EI$1<=$F9),"."," ") | EL9: =IF(AND(EL$1>=$E9,EL$1<=$F9),"."," ") | EM9: =IF(AND(EM$1>=$E9,EM$1<=$F9),"."," ") | EN9: =IF(AND(EN$1>=$E9,EN$1<=$F9),"."," ") | EO9: =IF(AND(EO$1>=$E9,EO$1<=$F9),"."," ") | EP9: =IF(AND(EP$1>=$E9,EP$1<=$F9),"."," ") | ES9: =IF(AND(ES$1>=$E9,ES$1<=$F9),"."," ") | ET9: =IF(AND(ET$1>=$E9,ET$1<=$F9),"."," ") | EU9: =IF(AND(EU$1>=$E9,EU$1<=$F9),"."," ") | EV9: =IF(AND(EV$1>=$E9,EV$1<=$F9),"."," ") | EW9: =IF(AND(EW$1>=$E9,EW$1<=$F9),"."," ") | EZ9: =IF(AND(EZ$1>=$E9,EZ$1<=$F9),"."," ") | FA9: =IF(AND(FA$1>=$E9,FA$1<=$F9),"."," ") | FB9: =IF(AND(FB$1>=$E9,FB$1<=$F9),"."," ") | FC9: =IF(AND(FC$1>=$E9,FC$1<=$F9),"."," ") | FD9: =IF(AND(FD$1>=$E9,FD$1<=$F9),"."," ") | FG9: =IF(AND(FG$1>=$E9,FG$1<=$F9),"."," ") | FH9: =IF(AND(FH$1>=$E9,FH$1<=$F9),"."," ") | FI9: =IF(AND(FI$1>=$E9,FI$1<=$F9),"."," ") | FJ9: =IF(AND(FJ$1>=$E9,FJ$1<=$F9),"."," ") | FK9: =IF(AND(FK$1>=$E9,FK$1<=$F9),"."," ") | FN9: =IF(AND(FN$1>=$E9,FN$1<=$F9),"."," ") | FO9: =IF(AND(FO$1>=$E9,FO$1<=$F9),"."," ") | FP9: =IF(AND(FP$1>=$E9,FP$1<=$F9),"."," ") | FQ9: =IF(AND(FQ$1>=$E9,FQ$1<=$F9),"."," ") | FR9: =IF(AND(FR$1>=$E9,FR$1<=$F9),"."," ") | FU9: =IF(AND(FU$1>=$E9,FU$1<=$F9),"."," ") | FV9: =IF(AND(FV$1>=$E9,FV$1<=$F9),"."," ") | FW9: =IF(AND(FW$1>=$E9,FW$1<=$F9),"."," ") | FX9: =IF(AND(FX$1>=$E9,FX$1<=$F9),"."," ") | FY9: =IF(AND(FY$1>=$E9,FY$1<=$F9),"."," ") | GB9: =IF(AND(GB$1>=$E9,GB$1<=$F9),"."," ") | GC9: =IF(AND(GC$1>=$E9,GC$1<=$F9),"."," ") | GD9: =IF(AND(GD$1>=$E9,GD$1<=$F9),"."," ") | GE9: =IF(AND(GE$1>=$E9,GE$1<=$F9),"."," ") | GF9: =IF(AND(GF$1>=$E9,GF$1<=$F9),"."," ") | GI9: =IF(AND(GI$1>=$E9,GI$1<=$F9),"."," ") | GJ9: =IF(AND(GJ$1>=$E9,GJ$1<=$F9),"."," ") | GK9: =IF(AND(GK$1>=$E9,GK$1<=$F9),"."," ") | GL9: =IF(AND(GL$1>=$E9,GL$1<=$F9),"."," ") | GM9: =IF(AND(GM$1>=$E9,GM$1<=$F9),"."," ") | GP9: =IF(AND(GP$1>=$E9,GP$1<=$F9),"."," ") | GQ9: =IF(AND(GQ$1>=$E9,GQ$1<=$F9),"."," ") | GR9: =IF(AND(GR$1>=$E9,GR$1<=$F9),"."," ") | GS9: =IF(AND(GS$1>=$E9,GS$1<=$F9),"."," ") | GT9: =IF(AND(GT$1>=$E9,GT$1<=$F9),"."," ") | GW9: =IF(AND(GW$1>=$E9,GW$1<=$F9),"."," ") | GX9: =IF(AND(GX$1>=$E9,GX$1<=$F9),"."," ") | GY9: =IF(AND(GY$1>=$E9,GY$1<=$F9),"."," ") | GZ9: =IF(AND(GZ$1>=$E9,GZ$1<=$F9),"."," ") | HA9: =IF(AND(HA$1>=$E9,HA$1<=$F9),"."," ") | HD9: =IF(AND(HD$1>=$E9,HD$1<=$F9),"."," ") | HE9: =IF(AND(HE$1>=$E9,HE$1<=$F9),"."," ") | HF9: =IF(AND(HF$1>=$E9,HF$1<=$F9),"."," ") | HG9: =IF(AND(HG$1>=$E9,HG$1<=$F9),"."," ") | HH9: =IF(AND(HH$1>=$E9,HH$1<=$F9),"."," ") | HK9: =IF(AND(HK$1>=$E9,HK$1<=$F9),"."," ") | HL9: =IF(AND(HL$1>=$E9,HL$1<=$F9),"."," ") | HM9: =IF(AND(HM$1>=$E9,HM$1<=$F9),"."," ") | HN9: =IF(AND(HN$1>=$E9,HN$1<=$F9),"."," ") | HO9: =IF(AND(HO$1>=$E9,HO$1<=$F9),"."," ") | HR9: =IF(AND(HR$1>=$E9,HR$1<=$F9),"."," ") | HS9: =IF(AND(HS$1>=$E9,HS$1<=$F9),"."," ") | HT9: =IF(AND(HT$1>=$E9,HT$1<=$F9),"."," ") | HU9: =IF(AND(HU$1>=$E9,HU$1<=$F9),"."," ") | HV9: =IF(AND(HV$1>=$E9,HV$1<=$F9),"."," ") | HY9: =IF(AND(HY$1>=$E9,HY$1<=$F9),"."," ") | HZ9: =IF(AND(HZ$1>=$E9,HZ$1<=$F9),"."," ") | IA9: =IF(AND(IA$1>=$E9,IA$1<=$F9),"."," ") | IB9: =IF(AND(IB$1>=$E9,IB$1<=$F9),"."," ") | IC9: =IF(AND(IC$1>=$E9,IC$1<=$F9),"."," ") | IF9: =IF(AND(IF$1>=$E9,IF$1<=$F9),"."," ") | IG9: =IF(AND(IG$1>=$E9,IG$1<=$F9),"."," ") | IH9: =IF(AND(IH$1>=$E9,IH$1<=$F9),"."," ") | II9: =IF(AND(II$1>=$E9,II$1<=$F9),"."," ") | IJ9: =IF(AND(IJ$1>=$E9,IJ$1<=$F9),"."," ") | IM9: =IF(AND(IM$1>=$E9,IM$1<=$F9),"."," ") | IN9: =IF(AND(IN$1>=$E9,IN$1<=$F9),"."," ") | IO9: =IF(AND(IO$1>=$E9,IO$1<=$F9),"."," ") | IP9: =IF(AND(IP$1>=$E9,IP$1<=$F9),"."," ") | IQ9: =IF(AND(IQ$1>=$E9,IQ$1<=$F9),"."," ") | IT9: =IF(AND(IT$1>=$E9,IT$1<=$F9),"."," ") | IU9: =IF(AND(IU$1>=$E9,IU$1<=$F9),"."," ") | IV9: =IF(AND(IV$1>=$E9,IV$1<=$F9),"."," ") | IW9: =IF(AND(IW$1>=$E9,IW$1<=$F9),"."," ") | IX9: =IF(AND(IX$1>=$E9,IX$1<=$F9),"."," ") | JA9: =IF(AND(JA$1>=$E9,JA$1<=$F9),"."," ") | JB9: =IF(AND(JB$1>=$E9,JB$1<=$F9),"."," ") | JC9: =IF(AND(JC$1>=$E9,JC$1<=$F9),"."," ") | JD9: =IF(AND(JD$1>=$E9,JD$1<=$F9),"."," ") | JE9: =IF(AND(JE$1>=$E9,JE$1<=$F9),"."," ")
A10: 7 | B10: Build | C10: Gerad | D10: 6 | E10: =VLOOKUP(D10,$A$1:$F$146,6,FALSE) + 1 -> 45832 | F10: =WORKDAY(E10,G10-1,Config!$C$2:$C$21) -> 45835 | G10: 4 | H10: 1 | I10: =IF(AND(I$1>=$E10,I$1<=$F10),"."," ") | J10: =IF(AND(J$1>=$E10,J$1<=$F10),"."," ") | K10: =IF(AND(K$1>=$E10,K$1<=$F10),"."," ") | L10: =IF(AND(L$1>=$E10,L$1<=$F10),"."," ") | M10: =IF(AND(M$1>=$E10,M$1<=$F10),"."," ") | P10: =IF(AND(P$1>=$E10,P$1<=$F10),"."," ") | Q10: =IF(AND(Q$1>=$E10,Q$1<=$F10),"."," ") | R10: =IF(AND(R$1>=$E10,R$1<=$F10),"."," ") | S10: =IF(AND(S$1>=$E10,S$1<=$F10),"."," ") | T10: =IF(AND(T$1>=$E10,T$1<=$F10),"."," ") | W10: =IF(AND(W$1>=$E10,W$1<=$F10),"."," ") | X10: =IF(AND(X$1>=$E10,X$1<=$F10),"."," ") | Y10: =IF(AND(Y$1>=$E10,Y$1<=$F10),"."," ") | Z10: =IF(AND(Z$1>=$E10,Z$1<=$F10),"."," ") | AA10: =IF(AND(AA$1>=$E10,AA$1<=$F10),"."," ") -> . | AD10: =IF(AND(AD$1>=$E10,AD$1<=$F10),"."," ") -> . | AE10: =IF(AND(AE$1>=$E10,AE$1<=$F10),"."," ") | AF10: =IF(AND(AF$1>=$E10,AF$1<=$F10),"."," ") | AG10: =IF(AND(AG$1>=$E10,AG$1<=$F10),"."," ") | AH10: =IF(AND(AH$1>=$E10,AH$1<=$F10),"."," ") | AK10: =IF(AND(AK$1>=$E10,AK$1<=$F10),"."," ") | AL10: =IF(AND(AL$1>=$E10,AL$1<=$F10),"."," ") | AM10: =IF(AND(AM$1>=$E10,AM$1<=$F10),"."," ") | AN10: =IF(AND(AN$1>=$E10,AN$1<=$F10),"."," ") | AO10: =IF(AND(AO$1>=$E10,AO$1<=$F10),"."," ") | AR10: =IF(AND(AR$1>=$E10,AR$1<=$F10),"."," ") | AS10: =IF(AND(AS$1>=$E10,AS$1<=$F10),"."," ") | AT10: =IF(AND(AT$1>=$E10,AT$1<=$F10),"."," ") | AU10: =IF(AND(AU$1>=$E10,AU$1<=$F10),"."," ") | AV10: =IF(AND(AV$1>=$E10,AV$1<=$F10),"."," ") | AY10: =IF(AND(AY$1>=$E10,AY$1<=$F10),"."," ") | AZ10: =IF(AND(AZ$1>=$E10,AZ$1<=$F10),"."," ") | BA10: =IF(AND(BA$1>=$E10,BA$1<=$F10),"."," ") | BB10: =IF(AND(BB$1>=$E10,BB$1<=$F10),"."," ") | BC10: =IF(AND(BC$1>=$E10,BC$1<=$F10),"."," ") | BF10: =IF(AND(BF$1>=$E10,BF$1<=$F10),"."," ") | BG10: =IF(AND(BG$1>=$E10,BG$1<=$F10),"."," ") | BH10: =IF(AND(BH$1>=$E10,BH$1<=$F10),"."," ") | BI10: =IF(AND(BI$1>=$E10,BI$1<=$F10),"."," ") | BJ10: =IF(AND(BJ$1>=$E10,BJ$1<=$F10),"."," ") | BM10: =IF(AND(BM$1>=$E10,BM$1<=$F10),"."," ") | BN10: =IF(AND(BN$1>=$E10,BN$1<=$F10),"."," ") | BO10: =IF(AND(BO$1>=$E10,BO$1<=$F10),"."," ") | BP10: =IF(AND(BP$1>=$E10,BP$1<=$F10),"."," ") | BQ10: =IF(AND(BQ$1>=$E10,BQ$1<=$F10),"."," ") | BT10: =IF(AND(BT$1>=$E10,BT$1<=$F10),"."," ") | BU10: =IF(AND(BU$1>=$E10,BU$1<=$F10),"."," ") | BV10: =IF(AND(BV$1>=$E10,BV$1<=$F10),"."," ") | BW10: =IF(AND(BW$1>=$E10,BW$1<=$F10),"."," ") | BX10: =IF(AND(BX$1>=$E10,BX$1<=$F10),"."," ") | CA10: =IF(AND(CA$1>=$E10,CA$1<=$F10),"."," ") | CB10: =IF(AND(CB$1>=$E10,CB$1<=$F10),"."," ") | CC10: =IF(AND(CC$1>=$E10,CC$1<=$F10),"."," ") | CD10: =IF(AND(CD$1>=$E10,CD$1<=$F10),"."," ") | CE10: =IF(AND(CE$1>=$E10,CE$1<=$F10),"."," ") | CH10: =IF(AND(CH$1>=$E10,CH$1<=$F10),"."," ") | CI10: =IF(AND(CI$1>=$E10,CI$1<=$F10),"."," ") | CJ10: =IF(AND(CJ$1>=$E10,CJ$1<=$F10),"."," ") | CK10: =IF(AND(CK$1>=$E10,CK$1<=$F10),"."," ") | CL10: =IF(AND(CL$1>=$E10,CL$1<=$F10),"."," ") | CO10: =IF(AND(CO$1>=$E10,CO$1<=$F10),"."," ") | CP10: =IF(AND(CP$1>=$E10,CP$1<=$F10),"."," ") | CQ10: =IF(AND(CQ$1>=$E10,CQ$1<=$F10),"."," ") | CR10: =IF(AND(CR$1>=$E10,CR$1<=$F10),"."," ") | CS10: =IF(AND(CS$1>=$E10,CS$1<=$F10),"."," ") | CV10: =IF(AND(CV$1>=$E10,CV$1<=$F10),"."," ") | CW10: =IF(AND(CW$1>=$E10,CW$1<=$F10),"."," ") | CX10: =IF(AND(CX$1>=$E10,CX$1<=$F10),"."," ") | CY10: =IF(AND(CY$1>=$E10,CY$1<=$F10),"."," ") | CZ10: =IF(AND(CZ$1>=$E10,CZ$1<=$F10),"."," ") | DC10: =IF(AND(DC$1>=$E10,DC$1<=$F10),"."," ") | DD10: =IF(AND(DD$1>=$E10,DD$1<=$F10),"."," ") | DE10: =IF(AND(DE$1>=$E10,DE$1<=$F10),"."," ") | DF10: =IF(AND(DF$1>=$E10,DF$1<=$F10),"."," ") | DG10: =IF(AND(DG$1>=$E10,DG$1<=$F10),"."," ") | DJ10: =IF(AND(DJ$1>=$E10,DJ$1<=$F10),"."," ") | DK10: =IF(AND(DK$1>=$E10,DK$1<=$F10),"."," ") | DL10: =IF(AND(DL$1>=$E10,DL$1<=$F10),"."," ") | DM10: =IF(AND(DM$1>=$E10,DM$1<=$F10),"."," ") | DN10: =IF(AND(DN$1>=$E10,DN$1<=$F10),"."," ") | DQ10: =IF(AND(DQ$1>=$E10,DQ$1<=$F10),"."," ") | DR10: =IF(AND(DR$1>=$E10,DR$1<=$F10),"."," ") | DS10: =IF(AND(DS$1>=$E10,DS$1<=$F10),"."," ") | DT10: =IF(AND(DT$1>=$E10,DT$1<=$F10),"."," ") | DU10: =IF(AND(DU$1>=$E10,DU$1<=$F10),"."," ") | DX10: =IF(AND(DX$1>=$E10,DX$1<=$F10),"."," ") | DY10: =IF(AND(DY$1>=$E10,DY$1<=$F10),"."," ") | DZ10: =IF(AND(DZ$1>=$E10,DZ$1<=$F10),"."," ") | EA10: =IF(AND(EA$1>=$E10,EA$1<=$F10),"."," ") | EB10: =IF(AND(EB$1>=$E10,EB$1<=$F10),"."," ") | EE10: =IF(AND(EE$1>=$E10,EE$1<=$F10),"."," ") | EF10: =IF(AND(EF$1>=$E10,EF$1<=$F10),"."," ") | EG10: =IF(AND(EG$1>=$E10,EG$1<=$F10),"."," ") | EH10: =IF(AND(EH$1>=$E10,EH$1<=$F10),"."," ") | EI10: =IF(AND(EI$1>=$E10,EI$1<=$F10),"."," ") | EL10: =IF(AND(EL$1>=$E10,EL$1<=$F10),"."," ") | EM10: =IF(AND(EM$1>=$E10,EM$1<=$F10),"."," ") | EN10: =IF(AND(EN$1>=$E10,EN$1<=$F10),"."," ") | EO10: =IF(AND(EO$1>=$E10,EO$1<=$F10),"."," ") | EP10: =IF(AND(EP$1>=$E10,EP$1<=$F10),"."," ") | ES10: =IF(AND(ES$1>=$E10,ES$1<=$F10),"."," ") | ET10: =IF(AND(ET$1>=$E10,ET$1<=$F10),"."," ") | EU10: =IF(AND(EU$1>=$E10,EU$1<=$F10),"."," ") | EV10: =IF(AND(EV$1>=$E10,EV$1<=$F10),"."," ") | EW10: =IF(AND(EW$1>=$E10,EW$1<=$F10),"."," ") | EZ10: =IF(AND(EZ$1>=$E10,EZ$1<=$F10),"."," ") | FA10: =IF(AND(FA$1>=$E10,FA$1<=$F10),"."," ") | FB10: =IF(AND(FB$1>=$E10,FB$1<=$F10),"."," ") | FC10: =IF(AND(FC$1>=$E10,FC$1<=$F10),"."," ") | FD10: =IF(AND(FD$1>=$E10,FD$1<=$F10),"."," ") | FG10: =IF(AND(FG$1>=$E10,FG$1<=$F10),"."," ") | FH10: =IF(AND(FH$1>=$E10,FH$1<=$F10),"."," ") | FI10: =IF(AND(FI$1>=$E10,FI$1<=$F10),"."," ") | FJ10: =IF(AND(FJ$1>=$E10,FJ$1<=$F10),"."," ") | FK10: =IF(AND(FK$1>=$E10,FK$1<=$F10),"."," ") | FN10: =IF(AND(FN$1>=$E10,FN$1<=$F10),"."," ") | FO10: =IF(AND(FO$1>=$E10,FO$1<=$F10),"."," ") | FP10: =IF(AND(FP$1>=$E10,FP$1<=$F10),"."," ") | FQ10: =IF(AND(FQ$1>=$E10,FQ$1<=$F10),"."," ") | FR10: =IF(AND(FR$1>=$E10,FR$1<=$F10),"."," ") | FU10: =IF(AND(FU$1>=$E10,FU$1<=$F10),"."," ") | FV10: =IF(AND(FV$1>=$E10,FV$1<=$F10),"."," ") | FW10: =IF(AND(FW$1>=$E10,FW$1<=$F10),"."," ") | FX10: =IF(AND(FX$1>=$E10,FX$1<=$F10),"."," ") | FY10: =IF(AND(FY$1>=$E10,FY$1<=$F10),"."," ") | GB10: =IF(AND(GB$1>=$E10,GB$1<=$F10),"."," ") | GC10: =IF(AND(GC$1>=$E10,GC$1<=$F10),"."," ") | GD10: =IF(AND(GD$1>=$E10,GD$1<=$F10),"."," ") | GE10: =IF(AND(GE$1>=$E10,GE$1<=$F10),"."," ") | GF10: =IF(AND(GF$1>=$E10,GF$1<=$F10),"."," ") | GI10: =IF(AND(GI$1>=$E10,GI$1<=$F10),"."," ") | GJ10: =IF(AND(GJ$1>=$E10,GJ$1<=$F10),"."," ") | GK10: =IF(AND(GK$1>=$E10,GK$1<=$F10),"."," ") | GL10: =IF(AND(GL$1>=$E10,GL$1<=$F10),"."," ") | GM10: =IF(AND(GM$1>=$E10,GM$1<=$F10),"."," ") | GP10: =IF(AND(GP$1>=$E10,GP$1<=$F10),"."," ") | GQ10: =IF(AND(GQ$1>=$E10,GQ$1<=$F10),"."," ") | GR10: =IF(AND(GR$1>=$E10,GR$1<=$F10),"."," ") | GS10: =IF(AND(GS$1>=$E10,GS$1<=$F10),"."," ") | GT10: =IF(AND(GT$1>=$E10,GT$1<=$F10),"."," ") | GW10: =IF(AND(GW$1>=$E10,GW$1<=$F10),"."," ") | GX10: =IF(AND(GX$1>=$E10,GX$1<=$F10),"."," ") | GY10: =IF(AND(GY$1>=$E10,GY$1<=$F10),"."," ") | GZ10: =IF(AND(GZ$1>=$E10,GZ$1<=$F10),"."," ") | HA10: =IF(AND(HA$1>=$E10,HA$1<=$F10),"."," ") | HD10: =IF(AND(HD$1>=$E10,HD$1<=$F10),"."," ") | HE10: =IF(AND(HE$1>=$E10,HE$1<=$F10),"."," ") | HF10: =IF(AND(HF$1>=$E10,HF$1<=$F10),"."," ") | HG10: =IF(AND(HG$1>=$E10,HG$1<=$F10),"."," ") | HH10: =IF(AND(HH$1>=$E10,HH$1<=$F10),"."," ") | HK10: =IF(AND(HK$1>=$E10,HK$1<=$F10),"."," ") | HL10: =IF(AND(HL$1>=$E10,HL$1<=$F10),"."," ") | HM10: =IF(AND(HM$1>=$E10,HM$1<=$F10),"."," ") | HN10: =IF(AND(HN$1>=$E10,HN$1<=$F10),"."," ") | HO10: =IF(AND(HO$1>=$E10,HO$1<=$F10),"."," ") | HR10: =IF(AND(HR$1>=$E10,HR$1<=$F10),"."," ") | HS10: =IF(AND(HS$1>=$E10,HS$1<=$F10),"."," ") | HT10: =IF(AND(HT$1>=$E10,HT$1<=$F10),"."," ") | HU10: =IF(AND(HU$1>=$E10,HU$1<=$F10),"."," ") | HV10: =IF(AND(HV$1>=$E10,HV$1<=$F10),"."," ") | HY10: =IF(AND(HY$1>=$E10,HY$1<=$F10),"."," ") | HZ10: =IF(AND(HZ$1>=$E10,HZ$1<=$F10),"."," ") | IA10: =IF(AND(IA$1>=$E10,IA$1<=$F10),"."," ") | IB10: =IF(AND(IB$1>=$E10,IB$1<=$F10),"."," ") | IC10: =IF(AND(IC$1>=$E10,IC$1<=$F10),"."," ") | IF10: =IF(AND(IF$1>=$E10,IF$1<=$F10),"."," ") | IG10: =IF(AND(IG$1>=$E10,IG$1<=$F10),"."," ") | IH10: =IF(AND(IH$1>=$E10,IH$1<=$F10),"."," ") | II10: =IF(AND(II$1>=$E10,II$1<=$F10),"."," ") | IJ10: =IF(AND(IJ$1>=$E10,IJ$1<=$F10),"."," ") | IM10: =IF(AND(IM$1>=$E10,IM$1<=$F10),"."," ") | IN10: =IF(AND(IN$1>=$E10,IN$1<=$F10),"."," ") | IO10: =IF(AND(IO$1>=$E10,IO$1<=$F10),"."," ") | IP10: =IF(AND(IP$1>=$E10,IP$1<=$F10),"."," ") | IQ10: =IF(AND(IQ$1>=$E10,IQ$1<=$F10),"."," ") | IT10: =IF(AND(IT$1>=$E10,IT$1<=$F10),"."," ") | IU10: =IF(AND(IU$1>=$E10,IU$1<=$F10),"."," ") | IV10: =IF(AND(IV$1>=$E10,IV$1<=$F10),"."," ") | IW10: =IF(AND(IW$1>=$E10,IW$1<=$F10),"."," ") | IX10: =IF(AND(IX$1>=$E10,IX$1<=$F10),"."," ") | JA10: =IF(AND(JA$1>=$E10,JA$1<=$F10),"."," ") | JB10: =IF(AND(JB$1>=$E10,JB$1<=$F10),"."," ") | JC10: =IF(AND(JC$1>=$E10,JC$1<=$F10),"."," ") | JD10: =IF(AND(JD$1>=$E10,JD$1<=$F10),"."," ") | JE10: =IF(AND(JE$1>=$E10,JE$1<=$F10),"."," ")
A11: 8 | B11: Test | C11: Maine | D11: 7 | E11: =VLOOKUP(D11,$A$1:$F$146,6,FALSE) + 1 -> 45836 | F11: =WORKDAY(E11,G11-1,Config!$C$2:$C$21) -> 45841 | G11: 5 | H11: 0.25 | I11: =IF(AND(I$1>=$E11,I$1<=$F11),"."," ") | J11: =IF(AND(J$1>=$E11,J$1<=$F11),"."," ") | K11: =IF(AND(K$1>=$E11,K$1<=$F11),"."," ") | L11: =IF(AND(L$1>=$E11,L$1<=$F11),"."," ") | M11: =IF(AND(M$1>=$E11,M$1<=$F11),"."," ") | P11: =IF(AND(P$1>=$E11,P$1<=$F11),"."," ") | Q11: =IF(AND(Q$1>=$E11,Q$1<=$F11),"."," ") | R11: =IF(AND(R$1>=$E11,R$1<=$F11),"."," ") | S11: =IF(AND(S$1>=$E11,S$1<=$F11),"."," ") | T11: =IF(AND(T$1>=$E11,T$1<=$F11),"."," ") | W11: =IF(AND(W$1>=$E11,W$1<=$F11),"."," ") | X11: =IF(AND(X$1>=$E11,X$1<=$F11),"."," ") | Y11: =IF(AND(Y$1>=$E11,Y$1<=$F11),"."," ") | Z11: =IF(AND(Z$1>=$E11,Z$1<=$F11),"."," ") | AA11: =IF(AND(AA$1>=$E11,AA$1<=$F11),"."," ") | AD11: =IF(AND(AD$1>=$E11,AD$1<=$F11),"."," ") | AE11: =IF(AND(AE$1>=$E11,AE$1<=$F11),"."," ") -> . | AF11: =IF(AND(AF$1>=$E11,AF$1<=$F11),"."," ") -> . | AG11: =IF(AND(AG$1>=$E11,AG$1<=$F11),"."," ") -> . | AH11: =IF(AND(AH$1>=$E11,AH$1<=$F11),"."," ") -> . | AK11: =IF(AND(AK$1>=$E11,AK$1<=$F11),"."," ") | AL11: =IF(AND(AL$1>=$E11,AL$1<=$F11),"."," ") | AM11: =IF(AND(AM$1>=$E11,AM$1<=$F11),"."," ") | AN11: =IF(AND(AN$1>=$E11,AN$1<=$F11),"."," ") | AO11: =IF(AND(AO$1>=$E11,AO$1<=$F11),"."," ") | AR11: =IF(AND(AR$1>=$E11,AR$1<=$F11),"."," ") | AS11: =IF(AND(AS$1>=$E11,AS$1<=$F11),"."," ") | AT11: =IF(AND(AT$1>=$E11,AT$1<=$F11),"."," ") | AU11: =IF(AND(AU$1>=$E11,AU$1<=$F11),"."," ") | AV11: =IF(AND(AV$1>=$E11,AV$1<=$F11),"."," ") | AY11: =IF(AND(AY$1>=$E11,AY$1<=$F11),"."," ") | AZ11: =IF(AND(AZ$1>=$E11,AZ$1<=$F11),"."," ") | BA11: =IF(AND(BA$1>=$E11,BA$1<=$F11),"."," ") | BB11: =IF(AND(BB$1>=$E11,BB$1<=$F11),"."," ") | BC11: =IF(AND(BC$1>=$E11,BC$1<=$F11),"."," ") | BF11: =IF(AND(BF$1>=$E11,BF$1<=$F11),"."," ") | BG11: =IF(AND(BG$1>=$E11,BG$1<=$F11),"."," ") | BH11: =IF(AND(BH$1>=$E11,BH$1<=$F11),"."," ") | BI11: =IF(AND(BI$1>=$E11,BI$1<=$F11),"."," ") | BJ11: =IF(AND(BJ$1>=$E11,BJ$1<=$F11),"."," ") | BM11: =IF(AND(BM$1>=$E11,BM$1<=$F11),"."," ") | BN11: =IF(AND(BN$1>=$E11,BN$1<=$F11),"."," ") | BO11: =IF(AND(BO$1>=$E11,BO$1<=$F11),"."," ") | BP11: =IF(AND(BP$1>=$E11,BP$1<=$F11),"."," ") | BQ11: =IF(AND(BQ$1>=$E11,BQ$1<=$F11),"."," ") | BT11: =IF(AND(BT$1>=$E11,BT$1<=$F11),"."," ") | BU11: =IF(AND(BU$1>=$E11,BU$1<=$F11),"."," ") | BV11: =IF(AND(BV$1>=$E11,BV$1<=$F11),"."," ") | BW11: =IF(AND(BW$1>=$E11,BW$1<=$F11),"."," ") | BX11: =IF(AND(BX$1>=$E11,BX$1<=$F11),"."," ") | CA11: =IF(AND(CA$1>=$E11,CA$1<=$F11),"."," ") | CB11: =IF(AND(CB$1>=$E11,CB$1<=$F11),"."," ") | CC11: =IF(AND(CC$1>=$E11,CC$1<=$F11),"."," ") | CD11: =IF(AND(CD$1>=$E11,CD$1<=$F11),"."," ") | CE11: =IF(AND(CE$1>=$E11,CE$1<=$F11),"."," ") | CH11: =IF(AND(CH$1>=$E11,CH$1<=$F11),"."," ") | CI11: =IF(AND(CI$1>=$E11,CI$1<=$F11),"."," ") | CJ11: =IF(AND(CJ$1>=$E11,CJ$1<=$F11),"."," ") | CK11: =IF(AND(CK$1>=$E11,CK$1<=$F11),"."," ") | CL11: =IF(AND(CL$1>=$E11,CL$1<=$F11),"."," ") | CO11: =IF(AND(CO$1>=$E11,CO$1<=$F11),"."," ") | CP11: =IF(AND(CP$1>=$E11,CP$1<=$F11),"."," ") | CQ11: =IF(AND(CQ$1>=$E11,CQ$1<=$F11),"."," ") | CR11: =IF(AND(CR$1>=$E11,CR$1<=$F11),"."," ") | CS11: =IF(AND(CS$1>=$E11,CS$1<=$F11),"."," ") | CV11: =IF(AND(CV$1>=$E11,CV$1<=$F11),"."," ") | CW11: =IF(AND(CW$1>=$E11,CW$1<=$F11),"."," ") | CX11: =IF(AND(CX$1>=$E11,CX$1<=$F11),"."," ") | CY11: =IF(AND(CY$1>=$E11,CY$1<=$F11),"."," ") | CZ11: =IF(AND(CZ$1>=$E11,CZ$1<=$F11),"."," ") | DC11: =IF(AND(DC$1>=$E11,DC$1<=$F11),"."," ") | DD11: =IF(AND(DD$1>=$E11,DD$1<=$F11),"."," ") | DE11: =IF(AND(DE$1>=$E11,DE$1<=$F11),"."," ") | DF11: =IF(AND(DF$1>=$E11,DF$1<=$F11),"."," ") | DG11: =IF(AND(DG$1>=$E11,DG$1<=$F11),"."," ") | DJ11: =IF(AND(DJ$1>=$E11,DJ$1<=$F11),"."," ") | DK11: =IF(AND(DK$1>=$E11,DK$1<=$F11),"."," ") | DL11: =IF(AND(DL$1>=$E11,DL$1<=$F11),"."," ") | DM11: =IF(AND(DM$1>=$E11,DM$1<=$F11),"."," ") | DN11: =IF(AND(DN$1>=$E11,DN$1<=$F11),"."," ") | DQ11: =IF(AND(DQ$1>=$E11,DQ$1<=$F11),"."," ") | DR11: =IF(AND(DR$1>=$E11,DR$1<=$F11),"."," ") | DS11: =IF(AND(DS$1>=$E11,DS$1<=$F11),"."," ") | DT11: =IF(AND(DT$1>=$E11,DT$1<=$F11),"."," ") | DU11: =IF(AND(DU$1>=$E11,DU$1<=$F11),"."," ") | DX11: =IF(AND(DX$1>=$E11,DX$1<=$F11),"."," ") | DY11: =IF(AND(DY$1>=$E11,DY$1<=$F11),"."," ") | DZ11: =IF(AND(DZ$1>=$E11,DZ$1<=$F11),"."," ") | EA11: =IF(AND(EA$1>=$E11,EA$1<=$F11),"."," ") | EB11: =IF(AND(EB$1>=$E11,EB$1<=$F11),"."," ") | EE11: =IF(AND(EE$1>=$E11,EE$1<=$F11),"."," ") | EF11: =IF(AND(EF$1>=$E11,EF$1<=$F11),"."," ") | EG11: =IF(AND(EG$1>=$E11,EG$1<=$F11),"."," ") | EH11: =IF(AND(EH$1>=$E11,EH$1<=$F11),"."," ") | EI11: =IF(AND(EI$1>=$E11,EI$1<=$F11),"."," ") | EL11: =IF(AND(EL$1>=$E11,EL$1<=$F11),"."," ") | EM11: =IF(AND(EM$1>=$E11,EM$1<=$F11),"."," ") | EN11: =IF(AND(EN$1>=$E11,EN$1<=$F11),"."," ") | EO11: =IF(AND(EO$1>=$E11,EO$1<=$F11),"."," ") | EP11: =IF(AND(EP$1>=$E11,EP$1<=$F11),"."," ") | ES11: =IF(AND(ES$1>=$E11,ES$1<=$F11),"."," ") | ET11: =IF(AND(ET$1>=$E11,ET$1<=$F11),"."," ") | EU11: =IF(AND(EU$1>=$E11,EU$1<=$F11),"."," ") | EV11: =IF(AND(EV$1>=$E11,EV$1<=$F11),"."," ") | EW11: =IF(AND(EW$1>=$E11,EW$1<=$F11),"."," ") | EZ11: =IF(AND(EZ$1>=$E11,EZ$1<=$F11),"."," ") | FA11: =IF(AND(FA$1>=$E11,FA$1<=$F11),"."," ") | FB11: =IF(AND(FB$1>=$E11,FB$1<=$F11),"."," ") | FC11: =IF(AND(FC$1>=$E11,FC$1<=$F11),"."," ") | FD11: =IF(AND(FD$1>=$E11,FD$1<=$F11),"."," ") | FG11: =IF(AND(FG$1>=$E11,FG$1<=$F11),"."," ") | FH11: =IF(AND(FH$1>=$E11,FH$1<=$F11),"."," ") | FI11: =IF(AND(FI$1>=$E11,FI$1<=$F11),"."," ") | FJ11: =IF(AND(FJ$1>=$E11,FJ$1<=$F11),"."," ") | FK11: =IF(AND(FK$1>=$E11,FK$1<=$F11),"."," ") | FN11: =IF(AND(FN$1>=$E11,FN$1<=$F11),"."," ") | FO11: =IF(AND(FO$1>=$E11,FO$1<=$F11),"."," ") | FP11: =IF(AND(FP$1>=$E11,FP$1<=$F11),"."," ") | FQ11: =IF(AND(FQ$1>=$E11,FQ$1<=$F11),"."," ") | FR11: =IF(AND(FR$1>=$E11,FR$1<=$F11),"."," ") | FU11: =IF(AND(FU$1>=$E11,FU$1<=$F11),"."," ") | FV11: =IF(AND(FV$1>=$E11,FV$1<=$F11),"."," ") | FW11: =IF(AND(FW$1>=$E11,FW$1<=$F11),"."," ") | FX11: =IF(AND(FX$1>=$E11,FX$1<=$F11),"."," ") | FY11: =IF(AND(FY$1>=$E11,FY$1<=$F11),"."," ") | GB11: =IF(AND(GB$1>=$E11,GB$1<=$F11),"."," ") | GC11: =IF(AND(GC$1>=$E11,GC$1<=$F11),"."," ") | GD11: =IF(AND(GD$1>=$E11,GD$1<=$F11),"."," ") | GE11: =IF(AND(GE$1>=$E11,GE$1<=$F11),"."," ") | GF11: =IF(AND(GF$1>=$E11,GF$1<=$F11),"."," ") | GI11: =IF(AND(GI$1>=$E11,GI$1<=$F11),"."," ") | GJ11: =IF(AND(GJ$1>=$E11,GJ$1<=$F11),"."," ") | GK11: =IF(AND(GK$1>=$E11,GK$1<=$F11),"."," ") | GL11: =IF(AND(GL$1>=$E11,GL$1<=$F11),"."," ") | GM11: =IF(AND(GM$1>=$E11,GM$1<=$F11),"."," ") | GP11: =IF(AND(GP$1>=$E11,GP$1<=$F11),"."," ") | GQ11: =IF(AND(GQ$1>=$E11,GQ$1<=$F11),"."," ") | GR11: =IF(AND(GR$1>=$E11,GR$1<=$F11),"."," ") | GS11: =IF(AND(GS$1>=$E11,GS$1<=$F11),"."," ") | GT11: =IF(AND(GT$1>=$E11,GT$1<=$F11),"."," ") | GW11: =IF(AND(GW$1>=$E11,GW$1<=$F11),"."," ") | GX11: =IF(AND(GX$1>=$E11,GX$1<=$F11),"."," ") | GY11: =IF(AND(GY$1>=$E11,GY$1<=$F11),"."," ") | GZ11: =IF(AND(GZ$1>=$E11,GZ$1<=$F11),"."," ") | HA11: =IF(AND(HA$1>=$E11,HA$1<=$F11),"."," ") | HD11: =IF(AND(HD$1>=$E11,HD$1<=$F11),"."," ") | HE11: =IF(AND(HE$1>=$E11,HE$1<=$F11),"."," ") | HF11: =IF(AND(HF$1>=$E11,HF$1<=$F11),"."," ") | HG11: =IF(AND(HG$1>=$E11,HG$1<=$F11),"."," ") | HH11: =IF(AND(HH$1>=$E11,HH$1<=$F11),"."," ") | HK11: =IF(AND(HK$1>=$E11,HK$1<=$F11),"."," ") | HL11: =IF(AND(HL$1>=$E11,HL$1<=$F11),"."," ") | HM11: =IF(AND(HM$1>=$E11,HM$1<=$F11),"."," ") | HN11: =IF(AND(HN$1>=$E11,HN$1<=$F11),"."," ") | HO11: =IF(AND(HO$1>=$E11,HO$1<=$F11),"."," ") | HR11: =IF(AND(HR$1>=$E11,HR$1<=$F11),"."," ") | HS11: =IF(AND(HS$1>=$E11,HS$1<=$F11),"."," ") | HT11: =IF(AND(HT$1>=$E11,HT$1<=$F11),"."," ") | HU11: =IF(AND(HU$1>=$E11,HU$1<=$F11),"."," ") | HV11: =IF(AND(HV$1>=$E11,HV$1<=$F11),"."," ") | HY11: =IF(AND(HY$1>=$E11,HY$1<=$F11),"."," ") | HZ11: =IF(AND(HZ$1>=$E11,HZ$1<=$F11),"."," ") | IA11: =IF(AND(IA$1>=$E11,IA$1<=$F11),"."," ") | IB11: =IF(AND(IB$1>=$E11,IB$1<=$F11),"."," ") | IC11: =IF(AND(IC$1>=$E11,IC$1<=$F11),"."," ") | IF11: =IF(AND(IF$1>=$E11,IF$1<=$F11),"."," ") | IG11: =IF(AND(IG$1>=$E11,IG$1<=$F11),"."," ") | IH11: =IF(AND(IH$1>=$E11,IH$1<=$F11),"."," ") | II11: =IF(AND(II$1>=$E11,II$1<=$F11),"."," ") | IJ11: =IF(AND(IJ$1>=$E11,IJ$1<=$F11),"."," ") | IM11: =IF(AND(IM$1>=$E11,IM$1<=$F11),"."," ") | IN11: =IF(AND(IN$1>=$E11,IN$1<=$F11),"."," ") | IO11: =IF(AND(IO$1>=$E11,IO$1<=$F11),"."," ") | IP11: =IF(AND(IP$1>=$E11,IP$1<=$F11),"."," ") | IQ11: =IF(AND(IQ$1>=$E11,IQ$1<=$F11),"."," ") | IT11: =IF(AND(IT$1>=$E11,IT$1<=$F11),"."," ") | IU11: =IF(AND(IU$1>=$E11,IU$1<=$F11),"."," ") | IV11: =IF(AND(IV$1>=$E11,IV$1<=$F11),"."," ") | IW11: =IF(AND(IW$1>=$E11,IW$1<=$F11),"."," ") | IX11: =IF(AND(IX$1>=$E11,IX$1<=$F11),"."," ") | JA11: =IF(AND(JA$1>=$E11,JA$1<=$F11),"."," ") | JB11: =IF(AND(JB$1>=$E11,JB$1<=$F11),"."," ") | JC11: =IF(AND(JC$1>=$E11,JC$1<=$F11),"."," ") | JD11: =IF(AND(JD$1>=$E11,JD$1<=$F11),"."," ") | JE11: =IF(AND(JE$1>=$E11,JE$1<=$F11),"."," ")
A12: =A11+1 -> 9 | B12: Implement | C12: Zuber | D12: 8 | E12: =VLOOKUP(D12,$A$1:$F$146,6,FALSE) + 1 -> 45842 | F12: =WORKDAY(E12,G12-1,Config!$C$2:$C$21) -> 45846 | G12: 3 | H12: 0.3 | I12: =IF(AND(I$1>=$E12,I$1<=$F12),"."," ") | J12: =IF(AND(J$1>=$E12,J$1<=$F12),"."," ") | K12: =IF(AND(K$1>=$E12,K$1<=$F12),"."," ") | L12: =IF(AND(L$1>=$E12,L$1<=$F12),"."," ") | M12: =IF(AND(M$1>=$E12,M$1<=$F12),"."," ") | P12: =IF(AND(P$1>=$E12,P$1<=$F12),"."," ") | Q12: =IF(AND(Q$1>=$E12,Q$1<=$F12),"."," ") | R12: =IF(AND(R$1>=$E12,R$1<=$F12),"."," ") | S12: =IF(AND(S$1>=$E12,S$1<=$F12),"."," ") | T12: =IF(AND(T$1>=$E12,T$1<=$F12),"."," ") | W12: =IF(AND(W$1>=$E12,W$1<=$F12),"."," ") | X12: =IF(AND(X$1>=$E12,X$1<=$F12),"."," ") | Y12: =IF(AND(Y$1>=$E12,Y$1<=$F12),"."," ") | Z12: =IF(AND(Z$1>=$E12,Z$1<=$F12),"."," ") | AA12: =IF(AND(AA$1>=$E12,AA$1<=$F12),"."," ") | AD12: =IF(AND(AD$1>=$E12,AD$1<=$F12),"."," ") | AE12: =IF(AND(AE$1>=$E12,AE$1<=$F12),"."," ") | AF12: =IF(AND(AF$1>=$E12,AF$1<=$F12),"."," ") | AG12: =IF(AND(AG$1>=$E12,AG$1<=$F12),"."," ") | AH12: =IF(AND(AH$1>=$E12,AH$1<=$F12),"."," ") | AK12: =IF(AND(AK$1>=$E12,AK$1<=$F12),"."," ") -> . | AL12: =IF(AND(AL$1>=$E12,AL$1<=$F12),"."," ") -> . | AM12: =IF(AND(AM$1>=$E12,AM$1<=$F12),"."," ") -> . | AN12: =IF(AND(AN$1>=$E12,AN$1<=$F12),"."," ") -> . | AO12: =IF(AND(AO$1>=$E12,AO$1<=$F12),"."," ") -> . | AR12: =IF(AND(AR$1>=$E12,AR$1<=$F12),"."," ") | AS12: =IF(AND(AS$1>=$E12,AS$1<=$F12),"."," ") | AT12: =IF(AND(AT$1>=$E12,AT$1<=$F12),"."," ") | AU12: =IF(AND(AU$1>=$E12,AU$1<=$F12),"."," ") | AV12: =IF(AND(AV$1>=$E12,AV$1<=$F12),"."," ") | AY12: =IF(AND(AY$1>=$E12,AY$1<=$F12),"."," ") | AZ12: =IF(AND(AZ$1>=$E12,AZ$1<=$F12),"."," ") | BA12: =IF(AND(BA$1>=$E12,BA$1<=$F12),"."," ") | BB12: =IF(AND(BB$1>=$E12,BB$1<=$F12),"."," ") | BC12: =IF(AND(BC$1>=$E12,BC$1<=$F12),"."," ") | BF12: =IF(AND(BF$1>=$E12,BF$1<=$F12),"."," ") | BG12: =IF(AND(BG$1>=$E12,BG$1<=$F12),"."," ") | BH12: =IF(AND(BH$1>=$E12,BH$1<=$F12),"."," ") | BI12: =IF(AND(BI$1>=$E12,BI$1<=$F12),"."," ") | BJ12: =IF(AND(BJ$1>=$E12,BJ$1<=$F12),"."," ") | BM12: =IF(AND(BM$1>=$E12,BM$1<=$F12),"."," ") | BN12: =IF(AND(BN$1>=$E12,BN$1<=$F12),"."," ") | BO12: =IF(AND(BO$1>=$E12,BO$1<=$F12),"."," ") | BP12: =IF(AND(BP$1>=$E12,BP$1<=$F12),"."," ") | BQ12: =IF(AND(BQ$1>=$E12,BQ$1<=$F12),"."," ") | BT12: =IF(AND(BT$1>=$E12,BT$1<=$F12),"."," ") | BU12: =IF(AND(BU$1>=$E12,BU$1<=$F12),"."," ") | BV12: =IF(AND(BV$1>=$E12,BV$1<=$F12),"."," ") | BW12: =IF(AND(BW$1>=$E12,BW$1<=$F12),"."," ") | BX12: =IF(AND(BX$1>=$E12,BX$1<=$F12),"."," ") | CA12: =IF(AND(CA$1>=$E12,CA$1<=$F12),"."," ") | CB12: =IF(AND(CB$1>=$E12,CB$1<=$F12),"."," ") | CC12: =IF(AND(CC$1>=$E12,CC$1<=$F12),"."," ") | CD12: =IF(AND(CD$1>=$E12,CD$1<=$F12),"."," ") | CE12: =IF(AND(CE$1>=$E12,CE$1<=$F12),"."," ") | CH12: =IF(AND(CH$1>=$E12,CH$1<=$F12),"."," ") | CI12: =IF(AND(CI$1>=$E12,CI$1<=$F12),"."," ") | CJ12: =IF(AND(CJ$1>=$E12,CJ$1<=$F12),"."," ") | CK12: =IF(AND(CK$1>=$E12,CK$1<=$F12),"."," ") | CL12: =IF(AND(CL$1>=$E12,CL$1<=$F12),"."," ") | CO12: =IF(AND(CO$1>=$E12,CO$1<=$F12),"."," ") | CP12: =IF(AND(CP$1>=$E12,CP$1<=$F12),"."," ") | CQ12: =IF(AND(CQ$1>=$E12,CQ$1<=$F12),"."," ") | CR12: =IF(AND(CR$1>=$E12,CR$1<=$F12),"."," ") | CS12: =IF(AND(CS$1>=$E12,CS$1<=$F12),"."," ") | CV12: =IF(AND(CV$1>=$E12,CV$1<=$F12),"."," ") | CW12: =IF(AND(CW$1>=$E12,CW$1<=$F12),"."," ") | CX12: =IF(AND(CX$1>=$E12,CX$1<=$F12),"."," ") | CY12: =IF(AND(CY$1>=$E12,CY$1<=$F12),"."," ") | CZ12: =IF(AND(CZ$1>=$E12,CZ$1<=$F12),"."," ") | DC12: =IF(AND(DC$1>=$E12,DC$1<=$F12),"."," ") | DD12: =IF(AND(DD$1>=$E12,DD$1<=$F12),"."," ") | DE12: =IF(AND(DE$1>=$E12,DE$1<=$F12),"."," ") | DF12: =IF(AND(DF$1>=$E12,DF$1<=$F12),"."," ") | DG12: =IF(AND(DG$1>=$E12,DG$1<=$F12),"."," ") | DJ12: =IF(AND(DJ$1>=$E12,DJ$1<=$F12),"."," ") | DK12: =IF(AND(DK$1>=$E12,DK$1<=$F12),"."," ") | DL12: =IF(AND(DL$1>=$E12,DL$1<=$F12),"."," ") | DM12: =IF(AND(DM$1>=$E12,DM$1<=$F12),"."," ") | DN12: =IF(AND(DN$1>=$E12,DN$1<=$F12),"."," ") | DQ12: =IF(AND(DQ$1>=$E12,DQ$1<=$F12),"."," ") | DR12: =IF(AND(DR$1>=$E12,DR$1<=$F12),"."," ") | DS12: =IF(AND(DS$1>=$E12,DS$1<=$F12),"."," ") | DT12: =IF(AND(DT$1>=$E12,DT$1<=$F12),"."," ") | DU12: =IF(AND(DU$1>=$E12,DU$1<=$F12),"."," ") | DX12: =IF(AND(DX$1>=$E12,DX$1<=$F12),"."," ") | DY12: =IF(AND(DY$1>=$E12,DY$1<=$F12),"."," ") | DZ12: =IF(AND(DZ$1>=$E12,DZ$1<=$F12),"."," ") | EA12: =IF(AND(EA$1>=$E12,EA$1<=$F12),"."," ") | EB12: =IF(AND(EB$1>=$E12,EB$1<=$F12),"."," ") | EE12: =IF(AND(EE$1>=$E12,EE$1<=$F12),"."," ") | EF12: =IF(AND(EF$1>=$E12,EF$1<=$F12),"."," ") | EG12: =IF(AND(EG$1>=$E12,EG$1<=$F12),"."," ") | EH12: =IF(AND(EH$1>=$E12,EH$1<=$F12),"."," ") | EI12: =IF(AND(EI$1>=$E12,EI$1<=$F12),"."," ") | EL12: =IF(AND(EL$1>=$E12,EL$1<=$F12),"."," ") | EM12: =IF(AND(EM$1>=$E12,EM$1<=$F12),"."," ") | EN12: =IF(AND(EN$1>=$E12,EN$1<=$F12),"."," ") | EO12: =IF(AND(EO$1>=$E12,EO$1<=$F12),"."," ") | EP12: =IF(AND(EP$1>=$E12,EP$1<=$F12),"."," ") | ES12: =IF(AND(ES$1>=$E12,ES$1<=$F12),"."," ") | ET12: =IF(AND(ET$1>=$E12,ET$1<=$F12),"."," ") | EU12: =IF(AND(EU$1>=$E12,EU$1<=$F12),"."," ") | EV12: =IF(AND(EV$1>=$E12,EV$1<=$F12),"."," ") | EW12: =IF(AND(EW$1>=$E12,EW$1<=$F12),"."," ") | EZ12: =IF(AND(EZ$1>=$E12,EZ$1<=$F12),"."," ") | FA12: =IF(AND(FA$1>=$E12,FA$1<=$F12),"."," ") | FB12: =IF(AND(FB$1>=$E12,FB$1<=$F12),"."," ") | FC12: =IF(AND(FC$1>=$E12,FC$1<=$F12),"."," ") | FD12: =IF(AND(FD$1>=$E12,FD$1<=$F12),"."," ") | FG12: =IF(AND(FG$1>=$E12,FG$1<=$F12),"."," ") | FH12: =IF(AND(FH$1>=$E12,FH$1<=$F12),"."," ") | FI12: =IF(AND(FI$1>=$E12,FI$1<=$F12),"."," ") | FJ12: =IF(AND(FJ$1>=$E12,FJ$1<=$F12),"."," ") | FK12: =IF(AND(FK$1>=$E12,FK$1<=$F12),"."," ") | FN12: =IF(AND(FN$1>=$E12,FN$1<=$F12),"."," ") | FO12: =IF(AND(FO$1>=$E12,FO$1<=$F12),"."," ") | FP12: =IF(AND(FP$1>=$E12,FP$1<=$F12),"."," ") | FQ12: =IF(AND(FQ$1>=$E12,FQ$1<=$F12),"."," ") | FR12: =IF(AND(FR$1>=$E12,FR$1<=$F12),"."," ") | FU12: =IF(AND(FU$1>=$E12,FU$1<=$F12),"."," ") | FV12: =IF(AND(FV$1>=$E12,FV$1<=$F12),"."," ") | FW12: =IF(AND(FW$1>=$E12,FW$1<=$F12),"."," ") | FX12: =IF(AND(FX$1>=$E12,FX$1<=$F12),"."," ") | FY12: =IF(AND(FY$1>=$E12,FY$1<=$F12),"."," ") | GB12: =IF(AND(GB$1>=$E12,GB$1<=$F12),"."," ") | GC12: =IF(AND(GC$1>=$E12,GC$1<=$F12),"."," ") | GD12: =IF(AND(GD$1>=$E12,GD$1<=$F12),"."," ") | GE12: =IF(AND(GE$1>=$E12,GE$1<=$F12),"."," ") | GF12: =IF(AND(GF$1>=$E12,GF$1<=$F12),"."," ") | GI12: =IF(AND(GI$1>=$E12,GI$1<=$F12),"."," ") | GJ12: =IF(AND(GJ$1>=$E12,GJ$1<=$F12),"."," ") | GK12: =IF(AND(GK$1>=$E12,GK$1<=$F12),"."," ") | GL12: =IF(AND(GL$1>=$E12,GL$1<=$F12),"."," ") | GM12: =IF(AND(GM$1>=$E12,GM$1<=$F12),"."," ") | GP12: =IF(AND(GP$1>=$E12,GP$1<=$F12),"."," ") | GQ12: =IF(AND(GQ$1>=$E12,GQ$1<=$F12),"."," ") | GR12: =IF(AND(GR$1>=$E12,GR$1<=$F12),"."," ") | GS12: =IF(AND(GS$1>=$E12,GS$1<=$F12),"."," ") | GT12: =IF(AND(GT$1>=$E12,GT$1<=$F12),"."," ") | GW12: =IF(AND(GW$1>=$E12,GW$1<=$F12),"."," ") | GX12: =IF(AND(GX$1>=$E12,GX$1<=$F12),"."," ") | GY12: =IF(AND(GY$1>=$E12,GY$1<=$F12),"."," ") | GZ12: =IF(AND(GZ$1>=$E12,GZ$1<=$F12),"."," ") | HA12: =IF(AND(HA$1>=$E12,HA$1<=$F12),"."," ") | HD12: =IF(AND(HD$1>=$E12,HD$1<=$F12),"."," ") | HE12: =IF(AND(HE$1>=$E12,HE$1<=$F12),"."," ") | HF12: =IF(AND(HF$1>=$E12,HF$1<=$F12),"."," ") | HG12: =IF(AND(HG$1>=$E12,HG$1<=$F12),"."," ") | HH12: =IF(AND(HH$1>=$E12,HH$1<=$F12),"."," ") | HK12: =IF(AND(HK$1>=$E12,HK$1<=$F12),"."," ") | HL12: =IF(AND(HL$1>=$E12,HL$1<=$F12),"."," ") | HM12: =IF(AND(HM$1>=$E12,HM$1<=$F12),"."," ") | HN12: =IF(AND(HN$1>=$E12,HN$1<=$F12),"."," ") | HO12: =IF(AND(HO$1>=$E12,HO$1<=$F12),"."," ") | HR12: =IF(AND(HR$1>=$E12,HR$1<=$F12),"."," ") | HS12: =IF(AND(HS$1>=$E12,HS$1<=$F12),"."," ") | HT12: =IF(AND(HT$1>=$E12,HT$1<=$F12),"."," ") | HU12: =IF(AND(HU$1>=$E12,HU$1<=$F12),"."," ") | HV12: =IF(AND(HV$1>=$E12,HV$1<=$F12),"."," ") | HY12: =IF(AND(HY$1>=$E12,HY$1<=$F12),"."," ") | HZ12: =IF(AND(HZ$1>=$E12,HZ$1<=$F12),"."," ") | IA12: =IF(AND(IA$1>=$E12,IA$1<=$F12),"."," ") | IB12: =IF(AND(IB$1>=$E12,IB$1<=$F12),"."," ") | IC12: =IF(AND(IC$1>=$E12,IC$1<=$F12),"."," ") | IF12: =IF(AND(IF$1>=$E12,IF$1<=$F12),"."," ") | IG12: =IF(AND(IG$1>=$E12,IG$1<=$F12),"."," ") | IH12: =IF(AND(IH$1>=$E12,IH$1<=$F12),"."," ") | II12: =IF(AND(II$1>=$E12,II$1<=$F12),"."," ") | IJ12: =IF(AND(IJ$1>=$E12,IJ$1<=$F12),"."," ") | IM12: =IF(AND(IM$1>=$E12,IM$1<=$F12),"."," ") | IN12: =IF(AND(IN$1>=$E12,IN$1<=$F12),"."," ") | IO12: =IF(AND(IO$1>=$E12,IO$1<=$F12),"."," ") | IP12: =IF(AND(IP$1>=$E12,IP$1<=$F12),"."," ") | IQ12: =IF(AND(IQ$1>=$E12,IQ$1<=$F12),"."," ") | IT12: =IF(AND(IT$1>=$E12,IT$1<=$F12),"."," ") | IU12: =IF(AND(IU$1>=$E12,IU$1<=$F12),"."," ") | IV12: =IF(AND(IV$1>=$E12,IV$1<=$F12),"."," ") | IW12: =IF(AND(IW$1>=$E12,IW$1<=$F12),"."," ") | IX12: =IF(AND(IX$1>=$E12,IX$1<=$F12),"."," ") | JA12: =IF(AND(JA$1>=$E12,JA$1<=$F12),"."," ") | JB12: =IF(AND(JB$1>=$E12,JB$1<=$F12),"."," ") | JC12: =IF(AND(JC$1>=$E12,JC$1<=$F12),"."," ") | JD12: =IF(AND(JD$1>=$E12,JD$1<=$F12),"."," ") | JE12: =IF(AND(JE$1>=$E12,JE$1<=$F12),"."," ")
A13: =A12+1 -> 10 | B13: Close | C13: John | D13: 9 | E13: =VLOOKUP(D13,$A$1:$F$146,6,FALSE) + 1 -> 45847 | F13: =WORKDAY(E13,G13-1,Config!$C$2:$C$21) -> 45853 | G13: 5 | H13: 0.4 | I13: =IF(AND(I$1>=$E13,I$1<=$F13),"."," ") | J13: =IF(AND(J$1>=$E13,J$1<=$F13),"."," ") | K13: =IF(AND(K$1>=$E13,K$1<=$F13),"."," ") | L13: =IF(AND(L$1>=$E13,L$1<=$F13),"."," ") | M13: =IF(AND(M$1>=$E13,M$1<=$F13),"."," ") | P13: =IF(AND(P$1>=$E13,P$1<=$F13),"."," ") | Q13: =IF(AND(Q$1>=$E13,Q$1<=$F13),"."," ") | R13: =IF(AND(R$1>=$E13,R$1<=$F13),"."," ") | S13: =IF(AND(S$1>=$E13,S$1<=$F13),"."," ") | T13: =IF(AND(T$1>=$E13,T$1<=$F13),"."," ") | W13: =IF(AND(W$1>=$E13,W$1<=$F13),"."," ") | X13: =IF(AND(X$1>=$E13,X$1<=$F13),"."," ") | Y13: =IF(AND(Y$1>=$E13,Y$1<=$F13),"."," ") | Z13: =IF(AND(Z$1>=$E13,Z$1<=$F13),"."," ") | AA13: =IF(AND(AA$1>=$E13,AA$1<=$F13),"."," ") | AD13: =IF(AND(AD$1>=$E13,AD$1<=$F13),"."," ") | AE13: =IF(AND(AE$1>=$E13,AE$1<=$F13),"."," ") | AF13: =IF(AND(AF$1>=$E13,AF$1<=$F13),"."," ") | AG13: =IF(AND(AG$1>=$E13,AG$1<=$F13),"."," ") | AH13: =IF(AND(AH$1>=$E13,AH$1<=$F13),"."," ") | AK13: =IF(AND(AK$1>=$E13,AK$1<=$F13),"."," ") | AL13: =IF(AND(AL$1>=$E13,AL$1<=$F13),"."," ") | AM13: =IF(AND(AM$1>=$E13,AM$1<=$F13),"."," ") | AN13: =IF(AND(AN$1>=$E13,AN$1<=$F13),"."," ") | AO13: =IF(AND(AO$1>=$E13,AO$1<=$F13),"."," ") | AR13: =IF(AND(AR$1>=$E13,AR$1<=$F13),"."," ") -> . | AS13: =IF(AND(AS$1>=$E13,AS$1<=$F13),"."," ") -> . | AT13: =IF(AND(AT$1>=$E13,AT$1<=$F13),"."," ") -> . | AU13: =IF(AND(AU$1>=$E13,AU$1<=$F13),"."," ") -> . | AV13: =IF(AND(AV$1>=$E13,AV$1<=$F13),"."," ") -> . | AY13: =IF(AND(AY$1>=$E13,AY$1<=$F13),"."," ") | AZ13: =IF(AND(AZ$1>=$E13,AZ$1<=$F13),"."," ") | BA13: =IF(AND(BA$1>=$E13,BA$1<=$F13),"."," ") | BB13: =IF(AND(BB$1>=$E13,BB$1<=$F13),"."," ") | BC13: =IF(AND(BC$1>=$E13,BC$1<=$F13),"."," ") | BF13: =IF(AND(BF$1>=$E13,BF$1<=$F13),"."," ") | BG13: =IF(AND(BG$1>=$E13,BG$1<=$F13),"."," ") | BH13: =IF(AND(BH$1>=$E13,BH$1<=$F13),"."," ") | BI13: =IF(AND(BI$1>=$E13,BI$1<=$F13),"."," ") | BJ13: =IF(AND(BJ$1>=$E13,BJ$1<=$F13),"."," ") | BM13: =IF(AND(BM$1>=$E13,BM$1<=$F13),"."," ") | BN13: =IF(AND(BN$1>=$E13,BN$1<=$F13),"."," ") | BO13: =IF(AND(BO$1>=$E13,BO$1<=$F13),"."," ") | BP13: =IF(AND(BP$1>=$E13,BP$1<=$F13),"."," ") | BQ13: =IF(AND(BQ$1>=$E13,BQ$1<=$F13),"."," ") | BT13: =IF(AND(BT$1>=$E13,BT$1<=$F13),"."," ") | BU13: =IF(AND(BU$1>=$E13,BU$1<=$F13),"."," ") | BV13: =IF(AND(BV$1>=$E13,BV$1<=$F13),"."," ") | BW13: =IF(AND(BW$1>=$E13,BW$1<=$F13),"."," ") | BX13: =IF(AND(BX$1>=$E13,BX$1<=$F13),"."," ") | CA13: =IF(AND(CA$1>=$E13,CA$1<=$F13),"."," ") | CB13: =IF(AND(CB$1>=$E13,CB$1<=$F13),"."," ") | CC13: =IF(AND(CC$1>=$E13,CC$1<=$F13),"."," ") | CD13: =IF(AND(CD$1>=$E13,CD$1<=$F13),"."," ") | CE13: =IF(AND(CE$1>=$E13,CE$1<=$F13),"."," ") | CH13: =IF(AND(CH$1>=$E13,CH$1<=$F13),"."," ") | CI13: =IF(AND(CI$1>=$E13,CI$1<=$F13),"."," ") | CJ13: =IF(AND(CJ$1>=$E13,CJ$1<=$F13),"."," ") | CK13: =IF(AND(CK$1>=$E13,CK$1<=$F13),"."," ") | CL13: =IF(AND(CL$1>=$E13,CL$1<=$F13),"."," ") | CO13: =IF(AND(CO$1>=$E13,CO$1<=$F13),"."," ") | CP13: =IF(AND(CP$1>=$E13,CP$1<=$F13),"."," ") | CQ13: =IF(AND(CQ$1>=$E13,CQ$1<=$F13),"."," ") | CR13: =IF(AND(CR$1>=$E13,CR$1<=$F13),"."," ") | CS13: =IF(AND(CS$1>=$E13,CS$1<=$F13),"."," ") | CV13: =IF(AND(CV$1>=$E13,CV$1<=$F13),"."," ") | CW13: =IF(AND(CW$1>=$E13,CW$1<=$F13),"."," ") | CX13: =IF(AND(CX$1>=$E13,CX$1<=$F13),"."," ") | CY13: =IF(AND(CY$1>=$E13,CY$1<=$F13),"."," ") | CZ13: =IF(AND(CZ$1>=$E13,CZ$1<=$F13),"."," ") | DC13: =IF(AND(DC$1>=$E13,DC$1<=$F13),"."," ") | DD13: =IF(AND(DD$1>=$E13,DD$1<=$F13),"."," ") | DE13: =IF(AND(DE$1>=$E13,DE$1<=$F13),"."," ") | DF13: =IF(AND(DF$1>=$E13,DF$1<=$F13),"."," ") | DG13: =IF(AND(DG$1>=$E13,DG$1<=$F13),"."," ") | DJ13: =IF(AND(DJ$1>=$E13,DJ$1<=$F13),"."," ") | DK13: =IF(AND(DK$1>=$E13,DK$1<=$F13),"."," ") | DL13: =IF(AND(DL$1>=$E13,DL$1<=$F13),"."," ") | DM13: =IF(AND(DM$1>=$E13,DM$1<=$F13),"."," ") | DN13: =IF(AND(DN$1>=$E13,DN$1<=$F13),"."," ") | DQ13: =IF(AND(DQ$1>=$E13,DQ$1<=$F13),"."," ") | DR13: =IF(AND(DR$1>=$E13,DR$1<=$F13),"."," ") | DS13: =IF(AND(DS$1>=$E13,DS$1<=$F13),"."," ") | DT13: =IF(AND(DT$1>=$E13,DT$1<=$F13),"."," ") | DU13: =IF(AND(DU$1>=$E13,DU$1<=$F13),"."," ") | DX13: =IF(AND(DX$1>=$E13,DX$1<=$F13),"."," ") | DY13: =IF(AND(DY$1>=$E13,DY$1<=$F13),"."," ") | DZ13: =IF(AND(DZ$1>=$E13,DZ$1<=$F13),"."," ") | EA13: =IF(AND(EA$1>=$E13,EA$1<=$F13),"."," ") | EB13: =IF(AND(EB$1>=$E13,EB$1<=$F13),"."," ") | EE13: =IF(AND(EE$1>=$E13,EE$1<=$F13),"."," ") | EF13: =IF(AND(EF$1>=$E13,EF$1<=$F13),"."," ") | EG13: =IF(AND(EG$1>=$E13,EG$1<=$F13),"."," ") | EH13: =IF(AND(EH$1>=$E13,EH$1<=$F13),"."," ") | EI13: =IF(AND(EI$1>=$E13,EI$1<=$F13),"."," ") | EL13: =IF(AND(EL$1>=$E13,EL$1<=$F13),"."," ") | EM13: =IF(AND(EM$1>=$E13,EM$1<=$F13),"."," ") | EN13: =IF(AND(EN$1>=$E13,EN$1<=$F13),"."," ") | EO13: =IF(AND(EO$1>=$E13,EO$1<=$F13),"."," ") | EP13: =IF(AND(EP$1>=$E13,EP$1<=$F13),"."," ") | ES13: =IF(AND(ES$1>=$E13,ES$1<=$F13),"."," ") | ET13: =IF(AND(ET$1>=$E13,ET$1<=$F13),"."," ") | EU13: =IF(AND(EU$1>=$E13,EU$1<=$F13),"."," ") | EV13: =IF(AND(EV$1>=$E13,EV$1<=$F13),"."," ") | EW13: =IF(AND(EW$1>=$E13,EW$1<=$F13),"."," ") | EZ13: =IF(AND(EZ$1>=$E13,EZ$1<=$F13),"."," ") | FA13: =IF(AND(FA$1>=$E13,FA$1<=$F13),"."," ") | FB13: =IF(AND(FB$1>=$E13,FB$1<=$F13),"."," ") | FC13: =IF(AND(FC$1>=$E13,FC$1<=$F13),"."," ") | FD13: =IF(AND(FD$1>=$E13,FD$1<=$F13),"."," ") | FG13: =IF(AND(FG$1>=$E13,FG$1<=$F13),"."," ") | FH13: =IF(AND(FH$1>=$E13,FH$1<=$F13),"."," ") | FI13: =IF(AND(FI$1>=$E13,FI$1<=$F13),"."," ") | FJ13: =IF(AND(FJ$1>=$E13,FJ$1<=$F13),"."," ") | FK13: =IF(AND(FK$1>=$E13,FK$1<=$F13),"."," ") | FN13: =IF(AND(FN$1>=$E13,FN$1<=$F13),"."," ") | FO13: =IF(AND(FO$1>=$E13,FO$1<=$F13),"."," ") | FP13: =IF(AND(FP$1>=$E13,FP$1<=$F13),"."," ") | FQ13: =IF(AND(FQ$1>=$E13,FQ$1<=$F13),"."," ") | FR13: =IF(AND(FR$1>=$E13,FR$1<=$F13),"."," ") | FU13: =IF(AND(FU$1>=$E13,FU$1<=$F13),"."," ") | FV13: =IF(AND(FV$1>=$E13,FV$1<=$F13),"."," ") | FW13: =IF(AND(FW$1>=$E13,FW$1<=$F13),"."," ") | FX13: =IF(AND(FX$1>=$E13,FX$1<=$F13),"."," ") | FY13: =IF(AND(FY$1>=$E13,FY$1<=$F13),"."," ") | GB13: =IF(AND(GB$1>=$E13,GB$1<=$F13),"."," ") | GC13: =IF(AND(GC$1>=$E13,GC$1<=$F13),"."," ") | GD13: =IF(AND(GD$1>=$E13,GD$1<=$F13),"."," ") | GE13: =IF(AND(GE$1>=$E13,GE$1<=$F13),"."," ") | GF13: =IF(AND(GF$1>=$E13,GF$1<=$F13),"."," ") | GI13: =IF(AND(GI$1>=$E13,GI$1<=$F13),"."," ") | GJ13: =IF(AND(GJ$1>=$E13,GJ$1<=$F13),"."," ") | GK13: =IF(AND(GK$1>=$E13,GK$1<=$F13),"."," ") | GL13: =IF(AND(GL$1>=$E13,GL$1<=$F13),"."," ") | GM13: =IF(AND(GM$1>=$E13,GM$1<=$F13),"."," ") | GP13: =IF(AND(GP$1>=$E13,GP$1<=$F13),"."," ") | GQ13: =IF(AND(GQ$1>=$E13,GQ$1<=$F13),"."," ") | GR13: =IF(AND(GR$1>=$E13,GR$1<=$F13),"."," ") | GS13: =IF(AND(GS$1>=$E13,GS$1<=$F13),"."," ") | GT13: =IF(AND(GT$1>=$E13,GT$1<=$F13),"."," ") | GW13: =IF(AND(GW$1>=$E13,GW$1<=$F13),"."," ") | GX13: =IF(AND(GX$1>=$E13,GX$1<=$F13),"."," ") | GY13: =IF(AND(GY$1>=$E13,GY$1<=$F13),"."," ") | GZ13: =IF(AND(GZ$1>=$E13,GZ$1<=$F13),"."," ") | HA13: =IF(AND(HA$1>=$E13,HA$1<=$F13),"."," ") | HD13: =IF(AND(HD$1>=$E13,HD$1<=$F13),"."," ") | HE13: =IF(AND(HE$1>=$E13,HE$1<=$F13),"."," ") | HF13: =IF(AND(HF$1>=$E13,HF$1<=$F13),"."," ") | HG13: =IF(AND(HG$1>=$E13,HG$1<=$F13),"."," ") | HH13: =IF(AND(HH$1>=$E13,HH$1<=$F13),"."," ") | HK13: =IF(AND(HK$1>=$E13,HK$1<=$F13),"."," ") | HL13: =IF(AND(HL$1>=$E13,HL$1<=$F13),"."," ") | HM13: =IF(AND(HM$1>=$E13,HM$1<=$F13),"."," ") | HN13: =IF(AND(HN$1>=$E13,HN$1<=$F13),"."," ") | HO13: =IF(AND(HO$1>=$E13,HO$1<=$F13),"."," ") | HR13: =IF(AND(HR$1>=$E13,HR$1<=$F13),"."," ") | HS13: =IF(AND(HS$1>=$E13,HS$1<=$F13),"."," ") | HT13: =IF(AND(HT$1>=$E13,HT$1<=$F13),"."," ") | HU13: =IF(AND(HU$1>=$E13,HU$1<=$F13),"."," ") | HV13: =IF(AND(HV$1>=$E13,HV$1<=$F13),"."," ") | HY13: =IF(AND(HY$1>=$E13,HY$1<=$F13),"."," ") | HZ13: =IF(AND(HZ$1>=$E13,HZ$1<=$F13),"."," ") | IA13: =IF(AND(IA$1>=$E13,IA$1<=$F13),"."," ") | IB13: =IF(AND(IB$1>=$E13,IB$1<=$F13),"."," ") | IC13: =IF(AND(IC$1>=$E13,IC$1<=$F13),"."," ") | IF13: =IF(AND(IF$1>=$E13,IF$1<=$F13),"."," ") | IG13: =IF(AND(IG$1>=$E13,IG$1<=$F13),"."," ") | IH13: =IF(AND(IH$1>=$E13,IH$1<=$F13),"."," ") | II13: =IF(AND(II$1>=$E13,II$1<=$F13),"."," ") | IJ13: =IF(AND(IJ$1>=$E13,IJ$1<=$F13),"."," ") | IM13: =IF(AND(IM$1>=$E13,IM$1<=$F13),"."," ") | IN13: =IF(AND(IN$1>=$E13,IN$1<=$F13),"."," ") | IO13: =IF(AND(IO$1>=$E13,IO$1<=$F13),"."," ") | IP13: =IF(AND(IP$1>=$E13,IP$1<=$F13),"."," ") | IQ13: =IF(AND(IQ$1>=$E13,IQ$1<=$F13),"."," ") | IT13: =IF(AND(IT$1>=$E13,IT$1<=$F13),"."," ") | IU13: =IF(AND(IU$1>=$E13,IU$1<=$F13),"."," ") | IV13: =IF(AND(IV$1>=$E13,IV$1<=$F13),"."," ") | IW13: =IF(AND(IW$1>=$E13,IW$1<=$F13),"."," ") | IX13: =IF(AND(IX$1>=$E13,IX$1<=$F13),"."," ") | JA13: =IF(AND(JA$1>=$E13,JA$1<=$F13),"."," ") | JB13: =IF(AND(JB$1>=$E13,JB$1<=$F13),"."," ") | JC13: =IF(AND(JC$1>=$E13,JC$1<=$F13),"."," ") | JD13: =IF(AND(JD$1>=$E13,JD$1<=$F13),"."," ") | JE13: =IF(AND(JE$1>=$E13,JE$1<=$F13),"."," ")
A14: =A13+1 -> 11 | B14: Support | C14: John | D14: 10 | E14: =VLOOKUP(D14,$A$1:$F$146,6,FALSE) + 1 -> 45854 | F14: =WORKDAY(E14,G14-1,Config!$C$2:$C$21) -> 45860 | G14: 5 | H14: 0.4 | I14: =IF(AND(I$1>=$E14,I$1<=$F14),"."," ") | J14: =IF(AND(J$1>=$E14,J$1<=$F14),"."," ") | K14: =IF(AND(K$1>=$E14,K$1<=$F14),"."," ") | L14: =IF(AND(L$1>=$E14,L$1<=$F14),"."," ") | M14: =IF(AND(M$1>=$E14,M$1<=$F14),"."," ") | P14: =IF(AND(P$1>=$E14,P$1<=$F14),"."," ") | Q14: =IF(AND(Q$1>=$E14,Q$1<=$F14),"."," ") | R14: =IF(AND(R$1>=$E14,R$1<=$F14),"."," ") | S14: =IF(AND(S$1>=$E14,S$1<=$F14),"."," ") | T14: =IF(AND(T$1>=$E14,T$1<=$F14),"."," ") | W14: =IF(AND(W$1>=$E14,W$1<=$F14),"."," ") | X14: =IF(AND(X$1>=$E14,X$1<=$F14),"."," ") | Y14: =IF(AND(Y$1>=$E14,Y$1<=$F14),"."," ") | Z14: =IF(AND(Z$1>=$E14,Z$1<=$F14),"."," ") | AA14: =IF(AND(AA$1>=$E14,AA$1<=$F14),"."," ") | AD14: =IF(AND(AD$1>=$E14,AD$1<=$F14),"."," ") | AE14: =IF(AND(AE$1>=$E14,AE$1<=$F14),"."," ") | AF14: =IF(AND(AF$1>=$E14,AF$1<=$F14),"."," ") | AG14: =IF(AND(AG$1>=$E14,AG$1<=$F14),"."," ") | AH14: =IF(AND(AH$1>=$E14,AH$1<=$F14),"."," ") | AK14: =IF(AND(AK$1>=$E14,AK$1<=$F14),"."," ") | AL14: =IF(AND(AL$1>=$E14,AL$1<=$F14),"."," ") | AM14: =IF(AND(AM$1>=$E14,AM$1<=$F14),"."," ") | AN14: =IF(AND(AN$1>=$E14,AN$1<=$F14),"."," ") | AO14: =IF(AND(AO$1>=$E14,AO$1<=$F14),"."," ") | AR14: =IF(AND(AR$1>=$E14,AR$1<=$F14),"."," ") | AS14: =IF(AND(AS$1>=$E14,AS$1<=$F14),"."," ") | AT14: =IF(AND(AT$1>=$E14,AT$1<=$F14),"."," ") | AU14: =IF(AND(AU$1>=$E14,AU$1<=$F14),"."," ") | AV14: =IF(AND(AV$1>=$E14,AV$1<=$F14),"."," ") | AY14: =IF(AND(AY$1>=$E14,AY$1<=$F14),"."," ") -> . | AZ14: =IF(AND(AZ$1>=$E14,AZ$1<=$F14),"."," ") -> . | BA14: =IF(AND(BA$1>=$E14,BA$1<=$F14),"."," ") -> . | BB14: =IF(AND(BB$1>=$E14,BB$1<=$F14),"."," ") -> . | BC14: =IF(AND(BC$1>=$E14,BC$1<=$F14),"."," ") -> . | BF14: =IF(AND(BF$1>=$E14,BF$1<=$F14),"."," ") | BG14: =IF(AND(BG$1>=$E14,BG$1<=$F14),"."," ") | BH14: =IF(AND(BH$1>=$E14,BH$1<=$F14),"."," ") | BI14: =IF(AND(BI$1>=$E14,BI$1<=$F14),"."," ") | BJ14: =IF(AND(BJ$1>=$E14,BJ$1<=$F14),"."," ") | BM14: =IF(AND(BM$1>=$E14,BM$1<=$F14),"."," ") | BN14: =IF(AND(BN$1>=$E14,BN$1<=$F14),"."," ") | BO14: =IF(AND(BO$1>=$E14,BO$1<=$F14),"."," ") | BP14: =IF(AND(BP$1>=$E14,BP$1<=$F14),"."," ") | BQ14: =IF(AND(BQ$1>=$E14,BQ$1<=$F14),"."," ") | BT14: =IF(AND(BT$1>=$E14,BT$1<=$F14),"."," ") | BU14: =IF(AND(BU$1>=$E14,BU$1<=$F14),"."," ") | BV14: =IF(AND(BV$1>=$E14,BV$1<=$F14),"."," ") | BW14: =IF(AND(BW$1>=$E14,BW$1<=$F14),"."," ") | BX14: =IF(AND(BX$1>=$E14,BX$1<=$F14),"."," ") | CA14: =IF(AND(CA$1>=$E14,CA$1<=$F14),"."," ") | CB14: =IF(AND(CB$1>=$E14,CB$1<=$F14),"."," ") | CC14: =IF(AND(CC$1>=$E14,CC$1<=$F14),"."," ") | CD14: =IF(AND(CD$1>=$E14,CD$1<=$F14),"."," ") | CE14: =IF(AND(CE$1>=$E14,CE$1<=$F14),"."," ") | CH14: =IF(AND(CH$1>=$E14,CH$1<=$F14),"."," ") | CI14: =IF(AND(CI$1>=$E14,CI$1<=$F14),"."," ") | CJ14: =IF(AND(CJ$1>=$E14,CJ$1<=$F14),"."," ") | CK14: =IF(AND(CK$1>=$E14,CK$1<=$F14),"."," ") | CL14: =IF(AND(CL$1>=$E14,CL$1<=$F14),"."," ") | CO14: =IF(AND(CO$1>=$E14,CO$1<=$F14),"."," ") | CP14: =IF(AND(CP$1>=$E14,CP$1<=$F14),"."," ") | CQ14: =IF(AND(CQ$1>=$E14,CQ$1<=$F14),"."," ") | CR14: =IF(AND(CR$1>=$E14,CR$1<=$F14),"."," ") | CS14: =IF(AND(CS$1>=$E14,CS$1<=$F14),"."," ") | CV14: =IF(AND(CV$1>=$E14,CV$1<=$F14),"."," ") | CW14: =IF(AND(CW$1>=$E14,CW$1<=$F14),"."," ") | CX14: =IF(AND(CX$1>=$E14,CX$1<=$F14),"."," ") | CY14: =IF(AND(CY$1>=$E14,CY$1<=$F14),"."," ") | CZ14: =IF(AND(CZ$1>=$E14,CZ$1<=$F14),"."," ") | DC14: =IF(AND(DC$1>=$E14,DC$1<=$F14),"."," ") | DD14: =IF(AND(DD$1>=$E14,DD$1<=$F14),"."," ") | DE14: =IF(AND(DE$1>=$E14,DE$1<=$F14),"."," ") | DF14: =IF(AND(DF$1>=$E14,DF$1<=$F14),"."," ") | DG14: =IF(AND(DG$1>=$E14,DG$1<=$F14),"."," ") | DJ14: =IF(AND(DJ$1>=$E14,DJ$1<=$F14),"."," ") | DK14: =IF(AND(DK$1>=$E14,DK$1<=$F14),"."," ") | DL14: =IF(AND(DL$1>=$E14,DL$1<=$F14),"."," ") | DM14: =IF(AND(DM$1>=$E14,DM$1<=$F14),"."," ") | DN14: =IF(AND(DN$1>=$E14,DN$1<=$F14),"."," ") | DQ14: =IF(AND(DQ$1>=$E14,DQ$1<=$F14),"."," ") | DR14: =IF(AND(DR$1>=$E14,DR$1<=$F14),"."," ") | DS14: =IF(AND(DS$1>=$E14,DS$1<=$F14),"."," ") | DT14: =IF(AND(DT$1>=$E14,DT$1<=$F14),"."," ") | DU14: =IF(AND(DU$1>=$E14,DU$1<=$F14),"."," ") | DX14: =IF(AND(DX$1>=$E14,DX$1<=$F14),"."," ") | DY14: =IF(AND(DY$1>=$E14,DY$1<=$F14),"."," ") | DZ14: =IF(AND(DZ$1>=$E14,DZ$1<=$F14),"."," ") | EA14: =IF(AND(EA$1>=$E14,EA$1<=$F14),"."," ") | EB14: =IF(AND(EB$1>=$E14,EB$1<=$F14),"."," ") | EE14: =IF(AND(EE$1>=$E14,EE$1<=$F14),"."," ") | EF14: =IF(AND(EF$1>=$E14,EF$1<=$F14),"."," ") | EG14: =IF(AND(EG$1>=$E14,EG$1<=$F14),"."," ") | EH14: =IF(AND(EH$1>=$E14,EH$1<=$F14),"."," ") | EI14: =IF(AND(EI$1>=$E14,EI$1<=$F14),"."," ") | EL14: =IF(AND(EL$1>=$E14,EL$1<=$F14),"."," ") | EM14: =IF(AND(EM$1>=$E14,EM$1<=$F14),"."," ") | EN14: =IF(AND(EN$1>=$E14,EN$1<=$F14),"."," ") | EO14: =IF(AND(EO$1>=$E14,EO$1<=$F14),"."," ") | EP14: =IF(AND(EP$1>=$E14,EP$1<=$F14),"."," ") | ES14: =IF(AND(ES$1>=$E14,ES$1<=$F14),"."," ") | ET14: =IF(AND(ET$1>=$E14,ET$1<=$F14),"."," ") | EU14: =IF(AND(EU$1>=$E14,EU$1<=$F14),"."," ") | EV14: =IF(AND(EV$1>=$E14,EV$1<=$F14),"."," ") | EW14: =IF(AND(EW$1>=$E14,EW$1<=$F14),"."," ") | EZ14: =IF(AND(EZ$1>=$E14,EZ$1<=$F14),"."," ") | FA14: =IF(AND(FA$1>=$E14,FA$1<=$F14),"."," ") | FB14: =IF(AND(FB$1>=$E14,FB$1<=$F14),"."," ") | FC14: =IF(AND(FC$1>=$E14,FC$1<=$F14),"."," ") | FD14: =IF(AND(FD$1>=$E14,FD$1<=$F14),"."," ") | FG14: =IF(AND(FG$1>=$E14,FG$1<=$F14),"."," ") | FH14: =IF(AND(FH$1>=$E14,FH$1<=$F14),"."," ") | FI14: =IF(AND(FI$1>=$E14,FI$1<=$F14),"."," ") | FJ14: =IF(AND(FJ$1>=$E14,FJ$1<=$F14),"."," ") | FK14: =IF(AND(FK$1>=$E14,FK$1<=$F14),"."," ") | FN14: =IF(AND(FN$1>=$E14,FN$1<=$F14),"."," ") | FO14: =IF(AND(FO$1>=$E14,FO$1<=$F14),"."," ") | FP14: =IF(AND(FP$1>=$E14,FP$1<=$F14),"."," ") | FQ14: =IF(AND(FQ$1>=$E14,FQ$1<=$F14),"."," ") | FR14: =IF(AND(FR$1>=$E14,FR$1<=$F14),"."," ") | FU14: =IF(AND(FU$1>=$E14,FU$1<=$F14),"."," ") | FV14: =IF(AND(FV$1>=$E14,FV$1<=$F14),"."," ") | FW14: =IF(AND(FW$1>=$E14,FW$1<=$F14),"."," ") | FX14: =IF(AND(FX$1>=$E14,FX$1<=$F14),"."," ") | FY14: =IF(AND(FY$1>=$E14,FY$1<=$F14),"."," ") | GB14: =IF(AND(GB$1>=$E14,GB$1<=$F14),"."," ") | GC14: =IF(AND(GC$1>=$E14,GC$1<=$F14),"."," ") | GD14: =IF(AND(GD$1>=$E14,GD$1<=$F14),"."," ") | GE14: =IF(AND(GE$1>=$E14,GE$1<=$F14),"."," ") | GF14: =IF(AND(GF$1>=$E14,GF$1<=$F14),"."," ") | GI14: =IF(AND(GI$1>=$E14,GI$1<=$F14),"."," ") | GJ14: =IF(AND(GJ$1>=$E14,GJ$1<=$F14),"."," ") | GK14: =IF(AND(GK$1>=$E14,GK$1<=$F14),"."," ") | GL14: =IF(AND(GL$1>=$E14,GL$1<=$F14),"."," ") | GM14: =IF(AND(GM$1>=$E14,GM$1<=$F14),"."," ") | GP14: =IF(AND(GP$1>=$E14,GP$1<=$F14),"."," ") | GQ14: =IF(AND(GQ$1>=$E14,GQ$1<=$F14),"."," ") | GR14: =IF(AND(GR$1>=$E14,GR$1<=$F14),"."," ") | GS14: =IF(AND(GS$1>=$E14,GS$1<=$F14),"."," ") | GT14: =IF(AND(GT$1>=$E14,GT$1<=$F14),"."," ") | GW14: =IF(AND(GW$1>=$E14,GW$1<=$F14),"."," ") | GX14: =IF(AND(GX$1>=$E14,GX$1<=$F14),"."," ") | GY14: =IF(AND(GY$1>=$E14,GY$1<=$F14),"."," ") | GZ14: =IF(AND(GZ$1>=$E14,GZ$1<=$F14),"."," ") | HA14: =IF(AND(HA$1>=$E14,HA$1<=$F14),"."," ") | HD14: =IF(AND(HD$1>=$E14,HD$1<=$F14),"."," ") | HE14: =IF(AND(HE$1>=$E14,HE$1<=$F14),"."," ") | HF14: =IF(AND(HF$1>=$E14,HF$1<=$F14),"."," ") | HG14: =IF(AND(HG$1>=$E14,HG$1<=$F14),"."," ") | HH14: =IF(AND(HH$1>=$E14,HH$1<=$F14),"."," ") | HK14: =IF(AND(HK$1>=$E14,HK$1<=$F14),"."," ") | HL14: =IF(AND(HL$1>=$E14,HL$1<=$F14),"."," ") | HM14: =IF(AND(HM$1>=$E14,HM$1<=$F14),"."," ") | HN14: =IF(AND(HN$1>=$E14,HN$1<=$F14),"."," ") | HO14: =IF(AND(HO$1>=$E14,HO$1<=$F14),"."," ") | HR14: =IF(AND(HR$1>=$E14,HR$1<=$F14),"."," ") | HS14: =IF(AND(HS$1>=$E14,HS$1<=$F14),"."," ") | HT14: =IF(AND(HT$1>=$E14,HT$1<=$F14),"."," ") | HU14: =IF(AND(HU$1>=$E14,HU$1<=$F14),"."," ") | HV14: =IF(AND(HV$1>=$E14,HV$1<=$F14),"."," ") | HY14: =IF(AND(HY$1>=$E14,HY$1<=$F14),"."," ") | HZ14: =IF(AND(HZ$1>=$E14,HZ$1<=$F14),"."," ") | IA14: =IF(AND(IA$1>=$E14,IA$1<=$F14),"."," ") | IB14: =IF(AND(IB$1>=$E14,IB$1<=$F14),"."," ") | IC14: =IF(AND(IC$1>=$E14,IC$1<=$F14),"."," ") | IF14: =IF(AND(IF$1>=$E14,IF$1<=$F14),"."," ") | IG14: =IF(AND(IG$1>=$E14,IG$1<=$F14),"."," ") | IH14: =IF(AND(IH$1>=$E14,IH$1<=$F14),"."," ") | II14: =IF(AND(II$1>=$E14,II$1<=$F14),"."," ") | IJ14: =IF(AND(IJ$1>=$E14,IJ$1<=$F14),"."," ") | IM14: =IF(AND(IM$1>=$E14,IM$1<=$F14),"."," ") | IN14: =IF(AND(IN$1>=$E14,IN$1<=$F14),"."," ") | IO14: =IF(AND(IO$1>=$E14,IO$1<=$F14),"."," ") | IP14: =IF(AND(IP$1>=$E14,IP$1<=$F14),"."," ") | IQ14: =IF(AND(IQ$1>=$E14,IQ$1<=$F14),"."," ") | IT14: =IF(AND(IT$1>=$E14,IT$1<=$F14),"."," ") | IU14: =IF(AND(IU$1>=$E14,IU$1<=$F14),"."," ") | IV14: =IF(AND(IV$1>=$E14,IV$1<=$F14),"."," ") | IW14: =IF(AND(IW$1>=$E14,IW$1<=$F14),"."," ") | IX14: =IF(AND(IX$1>=$E14,IX$1<=$F14),"."," ") | JA14: =IF(AND(JA$1>=$E14,JA$1<=$F14),"."," ") | JB14: =IF(AND(JB$1>=$E14,JB$1<=$F14),"."," ") | JC14: =IF(AND(JC$1>=$E14,JC$1<=$F14),"."," ") | JD14: =IF(AND(JD$1>=$E14,JD$1<=$F14),"."," ") | JE14: =IF(AND(JE$1>=$E14,JE$1<=$F14),"."," ")
A15: =A14+1 -> 12 | B15: Support | C15: John | D15: 11 | E15: =VLOOKUP(D15,$A$1:$F$146,6,FALSE) + 1 -> 45861 | F15: =WORKDAY(E15,G15-1,Config!$C$2:$C$21) -> 45862 | G15: 2 | H15: 0.4 | I15: =IF(AND(I$1>=$E15,I$1<=$F15),"."," ") | J15: =IF(AND(J$1>=$E15,J$1<=$F15),"."," ") | K15: =IF(AND(K$1>=$E15,K$1<=$F15),"."," ") | L15: =IF(AND(L$1>=$E15,L$1<=$F15),"."," ") | M15: =IF(AND(M$1>=$E15,M$1<=$F15),"."," ") | P15: =IF(AND(P$1>=$E15,P$1<=$F15),"."," ") | Q15: =IF(AND(Q$1>=$E15,Q$1<=$F15),"."," ") | R15: =IF(AND(R$1>=$E15,R$1<=$F15),"."," ") | S15: =IF(AND(S$1>=$E15,S$1<=$F15),"."," ") | T15: =IF(AND(T$1>=$E15,T$1<=$F15),"."," ") | W15: =IF(AND(W$1>=$E15,W$1<=$F15),"."," ") | X15: =IF(AND(X$1>=$E15,X$1<=$F15),"."," ") | Y15: =IF(AND(Y$1>=$E15,Y$1<=$F15),"."," ") | Z15: =IF(AND(Z$1>=$E15,Z$1<=$F15),"."," ") | AA15: =IF(AND(AA$1>=$E15,AA$1<=$F15),"."," ") | AD15: =IF(AND(AD$1>=$E15,AD$1<=$F15),"."," ") | AE15: =IF(AND(AE$1>=$E15,AE$1<=$F15),"."," ") | AF15: =IF(AND(AF$1>=$E15,AF$1<=$F15),"."," ") | AG15: =IF(AND(AG$1>=$E15,AG$1<=$F15),"."," ") | AH15: =IF(AND(AH$1>=$E15,AH$1<=$F15),"."," ") | AK15: =IF(AND(AK$1>=$E15,AK$1<=$F15),"."," ") | AL15: =IF(AND(AL$1>=$E15,AL$1<=$F15),"."," ") | AM15: =IF(AND(AM$1>=$E15,AM$1<=$F15),"."," ") | AN15: =IF(AND(AN$1>=$E15,AN$1<=$F15),"."," ") | AO15: =IF(AND(AO$1>=$E15,AO$1<=$F15),"."," ") | AR15: =IF(AND(AR$1>=$E15,AR$1<=$F15),"."," ") | AS15: =IF(AND(AS$1>=$E15,AS$1<=$F15),"."," ") | AT15: =IF(AND(AT$1>=$E15,AT$1<=$F15),"."," ") | AU15: =IF(AND(AU$1>=$E15,AU$1<=$F15),"."," ") | AV15: =IF(AND(AV$1>=$E15,AV$1<=$F15),"."," ") | AY15: =IF(AND(AY$1>=$E15,AY$1<=$F15),"."," ") | AZ15: =IF(AND(AZ$1>=$E15,AZ$1<=$F15),"."," ") | BA15: =IF(AND(BA$1>=$E15,BA$1<=$F15),"."," ") | BB15: =IF(AND(BB$1>=$E15,BB$1<=$F15),"."," ") | BC15: =IF(AND(BC$1>=$E15,BC$1<=$F15),"."," ") | BF15: =IF(AND(BF$1>=$E15,BF$1<=$F15),"."," ") | BG15: =IF(AND(BG$1>=$E15,BG$1<=$F15),"."," ") | BH15: =IF(AND(BH$1>=$E15,BH$1<=$F15),"."," ") | BI15: =IF(AND(BI$1>=$E15,BI$1<=$F15),"."," ") | BJ15: =IF(AND(BJ$1>=$E15,BJ$1<=$F15),"."," ") | BM15: =IF(AND(BM$1>=$E15,BM$1<=$F15),"."," ") | BN15: =IF(AND(BN$1>=$E15,BN$1<=$F15),"."," ") | BO15: =IF(AND(BO$1>=$E15,BO$1<=$F15),"."," ") | BP15: =IF(AND(BP$1>=$E15,BP$1<=$F15),"."," ") | BQ15: =IF(AND(BQ$1>=$E15,BQ$1<=$F15),"."," ") | BT15: =IF(AND(BT$1>=$E15,BT$1<=$F15),"."," ") | BU15: =IF(AND(BU$1>=$E15,BU$1<=$F15),"."," ") | BV15: =IF(AND(BV$1>=$E15,BV$1<=$F15),"."," ") | BW15: =IF(AND(BW$1>=$E15,BW$1<=$F15),"."," ") | BX15: =IF(AND(BX$1>=$E15,BX$1<=$F15),"."," ") | CA15: =IF(AND(CA$1>=$E15,CA$1<=$F15),"."," ") | CB15: =IF(AND(CB$1>=$E15,CB$1<=$F15),"."," ") | CC15: =IF(AND(CC$1>=$E15,CC$1<=$F15),"."," ") | CD15: =IF(AND(CD$1>=$E15,CD$1<=$F15),"."," ") | CE15: =IF(AND(CE$1>=$E15,CE$1<=$F15),"."," ") | CH15: =IF(AND(CH$1>=$E15,CH$1<=$F15),"."," ") | CI15: =IF(AND(CI$1>=$E15,CI$1<=$F15),"."," ") | CJ15: =IF(AND(CJ$1>=$E15,CJ$1<=$F15),"."," ") | CK15: =IF(AND(CK$1>=$E15,CK$1<=$F15),"."," ") | CL15: =IF(AND(CL$1>=$E15,CL$1<=$F15),"."," ") | CO15: =IF(AND(CO$1>=$E15,CO$1<=$F15),"."," ") | CP15: =IF(AND(CP$1>=$E15,CP$1<=$F15),"."," ") | CQ15: =IF(AND(CQ$1>=$E15,CQ$1<=$F15),"."," ") | CR15: =IF(AND(CR$1>=$E15,CR$1<=$F15),"."," ") | CS15: =IF(AND(CS$1>=$E15,CS$1<=$F15),"."," ") | CV15: =IF(AND(CV$1>=$E15,CV$1<=$F15),"."," ") | CW15: =IF(AND(CW$1>=$E15,CW$1<=$F15),"."," ") | CX15: =IF(AND(CX$1>=$E15,CX$1<=$F15),"."," ") | CY15: =IF(AND(CY$1>=$E15,CY$1<=$F15),"."," ") | CZ15: =IF(AND(CZ$1>=$E15,CZ$1<=$F15),"."," ") | DC15: =IF(AND(DC$1>=$E15,DC$1<=$F15),"."," ") | DD15: =IF(AND(DD$1>=$E15,DD$1<=$F15),"."," ") | DE15: =IF(AND(DE$1>=$E15,DE$1<=$F15),"."," ") | DF15: =IF(AND(DF$1>=$E15,DF$1<=$F15),"."," ") | DG15: =IF(AND(DG$1>=$E15,DG$1<=$F15),"."," ") | DJ15: =IF(AND(DJ$1>=$E15,DJ$1<=$F15),"."," ") | DK15: =IF(AND(DK$1>=$E15,DK$1<=$F15),"."," ") | DL15: =IF(AND(DL$1>=$E15,DL$1<=$F15),"."," ") | DM15: =IF(AND(DM$1>=$E15,DM$1<=$F15),"."," ") | DN15: =IF(AND(DN$1>=$E15,DN$1<=$F15),"."," ") | DQ15: =IF(AND(DQ$1>=$E15,DQ$1<=$F15),"."," ") | DR15: =IF(AND(DR$1>=$E15,DR$1<=$F15),"."," ") | DS15: =IF(AND(DS$1>=$E15,DS$1<=$F15),"."," ") | DT15: =IF(AND(DT$1>=$E15,DT$1<=$F15),"."," ") | DU15: =IF(AND(DU$1>=$E15,DU$1<=$F15),"."," ") | DX15: =IF(AND(DX$1>=$E15,DX$1<=$F15),"."," ") | DY15: =IF(AND(DY$1>=$E15,DY$1<=$F15),"."," ") | DZ15: =IF(AND(DZ$1>=$E15,DZ$1<=$F15),"."," ") | EA15: =IF(AND(EA$1>=$E15,EA$1<=$F15),"."," ") | EB15: =IF(AND(EB$1>=$E15,EB$1<=$F15),"."," ") | EE15: =IF(AND(EE$1>=$E15,EE$1<=$F15),"."," ") | EF15: =IF(AND(EF$1>=$E15,EF$1<=$F15),"."," ") | EG15: =IF(AND(EG$1>=$E15,EG$1<=$F15),"."," ") | EH15: =IF(AND(EH$1>=$E15,EH$1<=$F15),"."," ") | EI15: =IF(AND(EI$1>=$E15,EI$1<=$F15),"."," ") | EL15: =IF(AND(EL$1>=$E15,EL$1<=$F15),"."," ") | EM15: =IF(AND(EM$1>=$E15,EM$1<=$F15),"."," ") | EN15: =IF(AND(EN$1>=$E15,EN$1<=$F15),"."," ") | EO15: =IF(AND(EO$1>=$E15,EO$1<=$F15),"."," ") | EP15: =IF(AND(EP$1>=$E15,EP$1<=$F15),"."," ") | ES15: =IF(AND(ES$1>=$E15,ES$1<=$F15),"."," ") | ET15: =IF(AND(ET$1>=$E15,ET$1<=$F15),"."," ") | EU15: =IF(AND(EU$1>=$E15,EU$1<=$F15),"."," ") | EV15: =IF(AND(EV$1>=$E15,EV$1<=$F15),"."," ") | EW15: =IF(AND(EW$1>=$E15,EW$1<=$F15),"."," ") | EZ15: =IF(AND(EZ$1>=$E15,EZ$1<=$F15),"."," ") | FA15: =IF(AND(FA$1>=$E15,FA$1<=$F15),"."," ") | FB15: =IF(AND(FB$1>=$E15,FB$1<=$F15),"."," ") | FC15: =IF(AND(FC$1>=$E15,FC$1<=$F15),"."," ") | FD15: =IF(AND(FD$1>=$E15,FD$1<=$F15),"."," ") | FG15: =IF(AND(FG$1>=$E15,FG$1<=$F15),"."," ") | FH15: =IF(AND(FH$1>=$E15,FH$1<=$F15),"."," ") | FI15: =IF(AND(FI$1>=$E15,FI$1<=$F15),"."," ") | FJ15: =IF(AND(FJ$1>=$E15,FJ$1<=$F15),"."," ") | FK15: =IF(AND(FK$1>=$E15,FK$1<=$F15),"."," ") | FN15: =IF(AND(FN$1>=$E15,FN$1<=$F15),"."," ") | FO15: =IF(AND(FO$1>=$E15,FO$1<=$F15),"."," ") | FP15: =IF(AND(FP$1>=$E15,FP$1<=$F15),"."," ") | FQ15: =IF(AND(FQ$1>=$E15,FQ$1<=$F15),"."," ") | FR15: =IF(AND(FR$1>=$E15,FR$1<=$F15),"."," ") | FU15: =IF(AND(FU$1>=$E15,FU$1<=$F15),"."," ") | FV15: =IF(AND(FV$1>=$E15,FV$1<=$F15),"."," ") | FW15: =IF(AND(FW$1>=$E15,FW$1<=$F15),"."," ") | FX15: =IF(AND(FX$1>=$E15,FX$1<=$F15),"."," ") | FY15: =IF(AND(FY$1>=$E15,FY$1<=$F15),"."," ") | GB15: =IF(AND(GB$1>=$E15,GB$1<=$F15),"."," ") | GC15: =IF(AND(GC$1>=$E15,GC$1<=$F15),"."," ") | GD15: =IF(AND(GD$1>=$E15,GD$1<=$F15),"."," ") | GE15: =IF(AND(GE$1>=$E15,GE$1<=$F15),"."," ") | GF15: =IF(AND(GF$1>=$E15,GF$1<=$F15),"."," ") | GI15: =IF(AND(GI$1>=$E15,GI$1<=$F15),"."," ") | GJ15: =IF(AND(GJ$1>=$E15,GJ$1<=$F15),"."," ") | GK15: =IF(AND(GK$1>=$E15,GK$1<=$F15),"."," ") | GL15: =IF(AND(GL$1>=$E15,GL$1<=$F15),"."," ") | GM15: =IF(AND(GM$1>=$E15,GM$1<=$F15),"."," ") | GP15: =IF(AND(GP$1>=$E15,GP$1<=$F15),"."," ") | GQ15: =IF(AND(GQ$1>=$E15,GQ$1<=$F15),"."," ") | GR15: =IF(AND(GR$1>=$E15,GR$1<=$F15),"."," ") | GS15: =IF(AND(GS$1>=$E15,GS$1<=$F15),"."," ") | GT15: =IF(AND(GT$1>=$E15,GT$1<=$F15),"."," ") | GW15: =IF(AND(GW$1>=$E15,GW$1<=$F15),"."," ") | GX15: =IF(AND(GX$1>=$E15,GX$1<=$F15),"."," ") | GY15: =IF(AND(GY$1>=$E15,GY$1<=$F15),"."," ") | GZ15: =IF(AND(GZ$1>=$E15,GZ$1<=$F15),"."," ") | HA15: =IF(AND(HA$1>=$E15,HA$1<=$F15),"."," ") | HD15: =IF(AND(HD$1>=$E15,HD$1<=$F15),"."," ") | HE15: =IF(AND(HE$1>=$E15,HE$1<=$F15),"."," ") | HF15: =IF(AND(HF$1>=$E15,HF$1<=$F15),"."," ") | HG15: =IF(AND(HG$1>=$E15,HG$1<=$F15),"."," ") | HH15: =IF(AND(HH$1>=$E15,HH$1<=$F15),"."," ") | HK15: =IF(AND(HK$1>=$E15,HK$1<=$F15),"."," ") | HL15: =IF(AND(HL$1>=$E15,HL$1<=$F15),"."," ") | HM15: =IF(AND(HM$1>=$E15,HM$1<=$F15),"."," ") | HN15: =IF(AND(HN$1>=$E15,HN$1<=$F15),"."," ") | HO15: =IF(AND(HO$1>=$E15,HO$1<=$F15),"."," ") | HR15: =IF(AND(HR$1>=$E15,HR$1<=$F15),"."," ") | HS15: =IF(AND(HS$1>=$E15,HS$1<=$F15),"."," ") | HT15: =IF(AND(HT$1>=$E15,HT$1<=$F15),"."," ") | HU15: =IF(AND(HU$1>=$E15,HU$1<=$F15),"."," ") | HV15: =IF(AND(HV$1>=$E15,HV$1<=$F15),"."," ") | HY15: =IF(AND(HY$1>=$E15,HY$1<=$F15),"."," ") | HZ15: =IF(AND(HZ$1>=$E15,HZ$1<=$F15),"."," ") | IA15: =IF(AND(IA$1>=$E15,IA$1<=$F15),"."," ") | IB15: =IF(AND(IB$1>=$E15,IB$1<=$F15),"."," ") | IC15: =IF(AND(IC$1>=$E15,IC$1<=$F15),"."," ") | IF15: =IF(AND(IF$1>=$E15,IF$1<=$F15),"."," ") | IG15: =IF(AND(IG$1>=$E15,IG$1<=$F15),"."," ") | IH15: =IF(AND(IH$1>=$E15,IH$1<=$F15),"."," ") | II15: =IF(AND(II$1>=$E15,II$1<=$F15),"."," ") | IJ15: =IF(AND(IJ$1>=$E15,IJ$1<=$F15),"."," ") | IM15: =IF(AND(IM$1>=$E15,IM$1<=$F15),"."," ") | IN15: =IF(AND(IN$1>=$E15,IN$1<=$F15),"."," ") | IO15: =IF(AND(IO$1>=$E15,IO$1<=$F15),"."," ") | IP15: =IF(AND(IP$1>=$E15,IP$1<=$F15),"."," ") | IQ15: =IF(AND(IQ$1>=$E15,IQ$1<=$F15),"."," ") | IT15: =IF(AND(IT$1>=$E15,IT$1<=$F15),"."," ") | IU15: =IF(AND(IU$1>=$E15,IU$1<=$F15),"."," ") | IV15: =IF(AND(IV$1>=$E15,IV$1<=$F15),"."," ") | IW15: =IF(AND(IW$1>=$E15,IW$1<=$F15),"."," ") | IX15: =IF(AND(IX$1>=$E15,IX$1<=$F15),"."," ") | JA15: =IF(AND(JA$1>=$E15,JA$1<=$F15),"."," ") | JB15: =IF(AND(JB$1>=$E15,JB$1<=$F15),"."," ") | JC15: =IF(AND(JC$1>=$E15,JC$1<=$F15),"."," ") | JD15: =IF(AND(JD$1>=$E15,JD$1<=$F15),"."," ") | JE15: =IF(AND(JE$1>=$E15,JE$1<=$F15),"."," ")
I16: =IF(AND(I$1>=$E16,I$1<=$F16),"."," ") | J16: =IF(AND(J$1>=$E16,J$1<=$F16),"."," ") | K16: =IF(AND(K$1>=$E16,K$1<=$F16),"."," ") | L16: =IF(AND(L$1>=$E16,L$1<=$F16),"."," ") | M16: =IF(AND(M$1>=$E16,M$1<=$F16),"."," ") | P16: =IF(AND(P$1>=$E16,P$1<=$F16),"."," ") | Q16: =IF(AND(Q$1>=$E16,Q$1<=$F16),"."," ") | R16: =IF(AND(R$1>=$E16,R$1<=$F16),"."," ") | S16: =IF(AND(S$1>=$E16,S$1<=$F16),"."," ") | T16: =IF(AND(T$1>=$E16,T$1<=$F16),"."," ") | W16: =IF(AND(W$1>=$E16,W$1<=$F16),"."," ") | X16: =IF(AND(X$1>=$E16,X$1<=$F16),"."," ") | Y16: =IF(AND(Y$1>=$E16,Y$1<=$F16),"."," ") | Z16: =IF(AND(Z$1>=$E16,Z$1<=$F16),"."," ") | AA16: =IF(AND(AA$1>=$E16,AA$1<=$F16),"."," ") | AD16: =IF(AND(AD$1>=$E16,AD$1<=$F16),"."," ") | AE16: =IF(AND(AE$1>=$E16,AE$1<=$F16),"."," ") | AF16: =IF(AND(AF$1>=$E16,AF$1<=$F16),"."," ") | AG16: =IF(AND(AG$1>=$E16,AG$1<=$F16),"."," ") | AH16: =IF(AND(AH$1>=$E16,AH$1<=$F16),"."," ") | AK16: =IF(AND(AK$1>=$E16,AK$1<=$F16),"."," ") | AL16: =IF(AND(AL$1>=$E16,AL$1<=$F16),"."," ") | AM16: =IF(AND(AM$1>=$E16,AM$1<=$F16),"."," ") | AN16: =IF(AND(AN$1>=$E16,AN$1<=$F16),"."," ") | AO16: =IF(AND(AO$1>=$E16,AO$1<=$F16),"."," ") | AR16: =IF(AND(AR$1>=$E16,AR$1<=$F16),"."," ") | AS16: =IF(AND(AS$1>=$E16,AS$1<=$F16),"."," ") | AT16: =IF(AND(AT$1>=$E16,AT$1<=$F16),"."," ") | AU16: =IF(AND(AU$1>=$E16,AU$1<=$F16),"."," ") | AV16: =IF(AND(AV$1>=$E16,AV$1<=$F16),"."," ") | AY16: =IF(AND(AY$1>=$E16,AY$1<=$F16),"."," ") | AZ16: =IF(AND(AZ$1>=$E16,AZ$1<=$F16),"."," ") | BA16: =IF(AND(BA$1>=$E16,BA$1<=$F16),"."," ") | BB16: =IF(AND(BB$1>=$E16,BB$1<=$F16),"."," ") | BC16: =IF(AND(BC$1>=$E16,BC$1<=$F16),"."," ") | BF16: =IF(AND(BF$1>=$E16,BF$1<=$F16),"."," ") | BG16: =IF(AND(BG$1>=$E16,BG$1<=$F16),"."," ") | BH16: =IF(AND(BH$1>=$E16,BH$1<=$F16),"."," ") | BI16: =IF(AND(BI$1>=$E16,BI$1<=$F16),"."," ") | BJ16: =IF(AND(BJ$1>=$E16,BJ$1<=$F16),"."," ") | BM16: =IF(AND(BM$1>=$E16,BM$1<=$F16),"."," ") | BN16: =IF(AND(BN$1>=$E16,BN$1<=$F16),"."," ") | BO16: =IF(AND(BO$1>=$E16,BO$1<=$F16),"."," ") | BP16: =IF(AND(BP$1>=$E16,BP$1<=$F16),"."," ") | BQ16: =IF(AND(BQ$1>=$E16,BQ$1<=$F16),"."," ") | BT16: =IF(AND(BT$1>=$E16,BT$1<=$F16),"."," ") | BU16: =IF(AND(BU$1>=$E16,BU$1<=$F16),"."," ") | BV16: =IF(AND(BV$1>=$E16,BV$1<=$F16),"."," ") | BW16: =IF(AND(BW$1>=$E16,BW$1<=$F16),"."," ") | BX16: =IF(AND(BX$1>=$E16,BX$1<=$F16),"."," ") | CA16: =IF(AND(CA$1>=$E16,CA$1<=$F16),"."," ") | CB16: =IF(AND(CB$1>=$E16,CB$1<=$F16),"."," ") | CC16: =IF(AND(CC$1>=$E16,CC$1<=$F16),"."," ") | CD16: =IF(AND(CD$1>=$E16,CD$1<=$F16),"."," ") | CE16: =IF(AND(CE$1>=$E16,CE$1<=$F16),"."," ") | CH16: =IF(AND(CH$1>=$E16,CH$1<=$F16),"."," ") | CI16: =IF(AND(CI$1>=$E16,CI$1<=$F16),"."," ") | CJ16: =IF(AND(CJ$1>=$E16,CJ$1<=$F16),"."," ") | CK16: =IF(AND(CK$1>=$E16,CK$1<=$F16),"."," ") | CL16: =IF(AND(CL$1>=$E16,CL$1<=$F16),"."," ") | CO16: =IF(AND(CO$1>=$E16,CO$1<=$F16),"."," ") | CP16: =IF(AND(CP$1>=$E16,CP$1<=$F16),"."," ") | CQ16: =IF(AND(CQ$1>=$E16,CQ$1<=$F16),"."," ") | CR16: =IF(AND(CR$1>=$E16,CR$1<=$F16),"."," ") | CS16: =IF(AND(CS$1>=$E16,CS$1<=$F16),"."," ") | CV16: =IF(AND(CV$1>=$E16,CV$1<=$F16),"."," ") | CW16: =IF(AND(CW$1>=$E16,CW$1<=$F16),"."," ") | CX16: =IF(AND(CX$1>=$E16,CX$1<=$F16),"."," ") | CY16: =IF(AND(CY$1>=$E16,CY$1<=$F16),"."," ") | CZ16: =IF(AND(CZ$1>=$E16,CZ$1<=$F16),"."," ") | DC16: =IF(AND(DC$1>=$E16,DC$1<=$F16),"."," ") | DD16: =IF(AND(DD$1>=$E16,DD$1<=$F16),"."," ") | DE16: =IF(AND(DE$1>=$E16,DE$1<=$F16),"."," ") | DF16: =IF(AND(DF$1>=$E16,DF$1<=$F16),"."," ") | DG16: =IF(AND(DG$1>=$E16,DG$1<=$F16),"."," ") | DJ16: =IF(AND(DJ$1>=$E16,DJ$1<=$F16),"."," ") | DK16: =IF(AND(DK$1>=$E16,DK$1<=$F16),"."," ") | DL16: =IF(AND(DL$1>=$E16,DL$1<=$F16),"."," ") | DM16: =IF(AND(DM$1>=$E16,DM$1<=$F16),"."," ") | DN16: =IF(AND(DN$1>=$E16,DN$1<=$F16),"."," ") | DQ16: =IF(AND(DQ$1>=$E16,DQ$1<=$F16),"."," ") | DR16: =IF(AND(DR$1>=$E16,DR$1<=$F16),"."," ") | DS16: =IF(AND(DS$1>=$E16,DS$1<=$F16),"."," ") | DT16: =IF(AND(DT$1>=$E16,DT$1<=$F16),"."," ") | DU16: =IF(AND(DU$1>=$E16,DU$1<=$F16),"."," ") | DX16: =IF(AND(DX$1>=$E16,DX$1<=$F16),"."," ") | DY16: =IF(AND(DY$1>=$E16,DY$1<=$F16),"."," ") | DZ16: =IF(AND(DZ$1>=$E16,DZ$1<=$F16),"."," ") | EA16: =IF(AND(EA$1>=$E16,EA$1<=$F16),"."," ") | EB16: =IF(AND(EB$1>=$E16,EB$1<=$F16),"."," ") | EE16: =IF(AND(EE$1>=$E16,EE$1<=$F16),"."," ") | EF16: =IF(AND(EF$1>=$E16,EF$1<=$F16),"."," ") | EG16: =IF(AND(EG$1>=$E16,EG$1<=$F16),"."," ") | EH16: =IF(AND(EH$1>=$E16,EH$1<=$F16),"."," ") | EI16: =IF(AND(EI$1>=$E16,EI$1<=$F16),"."," ") | EL16: =IF(AND(EL$1>=$E16,EL$1<=$F16),"."," ") | EM16: =IF(AND(EM$1>=$E16,EM$1<=$F16),"."," ") | EN16: =IF(AND(EN$1>=$E16,EN$1<=$F16),"."," ") | EO16: =IF(AND(EO$1>=$E16,EO$1<=$F16),"."," ") | EP16: =IF(AND(EP$1>=$E16,EP$1<=$F16),"."," ") | ES16: =IF(AND(ES$1>=$E16,ES$1<=$F16),"."," ") | ET16: =IF(AND(ET$1>=$E16,ET$1<=$F16),"."," ") | EU16: =IF(AND(EU$1>=$E16,EU$1<=$F16),"."," ") | EV16: =IF(AND(EV$1>=$E16,EV$1<=$F16),"."," ") | EW16: =IF(AND(EW$1>=$E16,EW$1<=$F16),"."," ") | EZ16: =IF(AND(EZ$1>=$E16,EZ$1<=$F16),"."," ") | FA16: =IF(AND(FA$1>=$E16,FA$1<=$F16),"."," ") | FB16: =IF(AND(FB$1>=$E16,FB$1<=$F16),"."," ") | FC16: =IF(AND(FC$1>=$E16,FC$1<=$F16),"."," ") | FD16: =IF(AND(FD$1>=$E16,FD$1<=$F16),"."," ") | FG16: =IF(AND(FG$1>=$E16,FG$1<=$F16),"."," ") | FH16: =IF(AND(FH$1>=$E16,FH$1<=$F16),"."," ") | FI16: =IF(AND(FI$1>=$E16,FI$1<=$F16),"."," ") | FJ16: =IF(AND(FJ$1>=$E16,FJ$1<=$F16),"."," ") | FK16: =IF(AND(FK$1>=$E16,FK$1<=$F16),"."," ") | FN16: =IF(AND(FN$1>=$E16,FN$1<=$F16),"."," ") | FO16: =IF(AND(FO$1>=$E16,FO$1<=$F16),"."," ") | FP16: =IF(AND(FP$1>=$E16,FP$1<=$F16),"."," ") | FQ16: =IF(AND(FQ$1>=$E16,FQ$1<=$F16),"."," ") | FR16: =IF(AND(FR$1>=$E16,FR$1<=$F16),"."," ") | FU16: =IF(AND(FU$1>=$E16,FU$1<=$F16),"."," ") | FV16: =IF(AND(FV$1>=$E16,FV$1<=$F16),"."," ") | FW16: =IF(AND(FW$1>=$E16,FW$1<=$F16),"."," ") | FX16: =IF(AND(FX$1>=$E16,FX$1<=$F16),"."," ") | FY16: =IF(AND(FY$1>=$E16,FY$1<=$F16),"."," ") | GB16: =IF(AND(GB$1>=$E16,GB$1<=$F16),"."," ") | GC16: =IF(AND(GC$1>=$E16,GC$1<=$F16),"."," ") | GD16: =IF(AND(GD$1>=$E16,GD$1<=$F16),"."," ") | GE16: =IF(AND(GE$1>=$E16,GE$1<=$F16),"."," ") | GF16: =IF(AND(GF$1>=$E16,GF$1<=$F16),"."," ") | GI16: =IF(AND(GI$1>=$E16,GI$1<=$F16),"."," ") | GJ16: =IF(AND(GJ$1>=$E16,GJ$1<=$F16),"."," ") | GK16: =IF(AND(GK$1>=$E16,GK$1<=$F16),"."," ") | GL16: =IF(AND(GL$1>=$E16,GL$1<=$F16),"."," ") | GM16: =IF(AND(GM$1>=$E16,GM$1<=$F16),"."," ") | GP16: =IF(AND(GP$1>=$E16,GP$1<=$F16),"."," ") | GQ16: =IF(AND(GQ$1>=$E16,GQ$1<=$F16),"."," ") | GR16: =IF(AND(GR$1>=$E16,GR$1<=$F16),"."," ") | GS16: =IF(AND(GS$1>=$E16,GS$1<=$F16),"."," ") | GT16: =IF(AND(GT$1>=$E16,GT$1<=$F16),"."," ") | GW16: =IF(AND(GW$1>=$E16,GW$1<=$F16),"."," ") | GX16: =IF(AND(GX$1>=$E16,GX$1<=$F16),"."," ") | GY16: =IF(AND(GY$1>=$E16,GY$1<=$F16),"."," ") | GZ16: =IF(AND(GZ$1>=$E16,GZ$1<=$F16),"."," ") | HA16: =IF(AND(HA$1>=$E16,HA$1<=$F16),"."," ") | HD16: =IF(AND(HD$1>=$E16,HD$1<=$F16),"."," ") | HE16: =IF(AND(HE$1>=$E16,HE$1<=$F16),"."," ") | HF16: =IF(AND(HF$1>=$E16,HF$1<=$F16),"."," ") | HG16: =IF(AND(HG$1>=$E16,HG$1<=$F16),"."," ") | HH16: =IF(AND(HH$1>=$E16,HH$1<=$F16),"."," ") | HK16: =IF(AND(HK$1>=$E16,HK$1<=$F16),"."," ") | HL16: =IF(AND(HL$1>=$E16,HL$1<=$F16),"."," ") | HM16: =IF(AND(HM$1>=$E16,HM$1<=$F16),"."," ") | HN16: =IF(AND(HN$1>=$E16,HN$1<=$F16),"."," ") | HO16: =IF(AND(HO$1>=$E16,HO$1<=$F16),"."," ") | HR16: =IF(AND(HR$1>=$E16,HR$1<=$F16),"."," ") | HS16: =IF(AND(HS$1>=$E16,HS$1<=$F16),"."," ") | HT16: =IF(AND(HT$1>=$E16,HT$1<=$F16),"."," ") | HU16: =IF(AND(HU$1>=$E16,HU$1<=$F16),"."," ") | HV16: =IF(AND(HV$1>=$E16,HV$1<=$F16),"."," ") | HY16: =IF(AND(HY$1>=$E16,HY$1<=$F16),"."," ") | HZ16: =IF(AND(HZ$1>=$E16,HZ$1<=$F16),"."," ") | IA16: =IF(AND(IA$1>=$E16,IA$1<=$F16),"."," ") | IB16: =IF(AND(IB$1>=$E16,IB$1<=$F16),"."," ") | IC16: =IF(AND(IC$1>=$E16,IC$1<=$F16),"."," ") | IF16: =IF(AND(IF$1>=$E16,IF$1<=$F16),"."," ") | IG16: =IF(AND(IG$1>=$E16,IG$1<=$F16),"."," ") | IH16: =IF(AND(IH$1>=$E16,IH$1<=$F16),"."," ") | II16: =IF(AND(II$1>=$E16,II$1<=$F16),"."," ") | IJ16: =IF(AND(IJ$1>=$E16,IJ$1<=$F16),"."," ") | IM16: =IF(AND(IM$1>=$E16,IM$1<=$F16),"."," ") | IN16: =IF(AND(IN$1>=$E16,IN$1<=$F16),"."," ") | IO16: =IF(AND(IO$1>=$E16,IO$1<=$F16),"."," ") | IP16: =IF(AND(IP$1>=$E16,IP$1<=$F16),"."," ") | IQ16: =IF(AND(IQ$1>=$E16,IQ$1<=$F16),"."," ") | IT16: =IF(AND(IT$1>=$E16,IT$1<=$F16),"."," ") | IU16: =IF(AND(IU$1>=$E16,IU$1<=$F16),"."," ") | IV16: =IF(AND(IV$1>=$E16,IV$1<=$F16),"."," ") | IW16: =IF(AND(IW$1>=$E16,IW$1<=$F16),"."," ") | IX16: =IF(AND(IX$1>=$E16,IX$1<=$F16),"."," ") | JA16: =IF(AND(JA$1>=$E16,JA$1<=$F16),"."," ") | JB16: =IF(AND(JB$1>=$E16,JB$1<=$F16),"."," ") | JC16: =IF(AND(JC$1>=$E16,JC$1<=$F16),"."," ") | JD16: =IF(AND(JD$1>=$E16,JD$1<=$F16),"."," ") | JE16: =IF(AND(JE$1>=$E16,JE$1<=$F16),"."," ")
I17: =IF(AND(I$1>=$E17,I$1<=$F17),"."," ") | J17: =IF(AND(J$1>=$E17,J$1<=$F17),"."," ") | K17: =IF(AND(K$1>=$E17,K$1<=$F17),"."," ") | L17: =IF(AND(L$1>=$E17,L$1<=$F17),"."," ") | M17: =IF(AND(M$1>=$E17,M$1<=$F17),"."," ") | P17: =IF(AND(P$1>=$E17,P$1<=$F17),"."," ") | Q17: =IF(AND(Q$1>=$E17,Q$1<=$F17),"."," ") | R17: =IF(AND(R$1>=$E17,R$1<=$F17),"."," ") | S17: =IF(AND(S$1>=$E17,S$1<=$F17),"."," ") | T17: =IF(AND(T$1>=$E17,T$1<=$F17),"."," ") | W17: =IF(AND(W$1>=$E17,W$1<=$F17),"."," ") | X17: =IF(AND(X$1>=$E17,X$1<=$F17),"."," ") | Y17: =IF(AND(Y$1>=$E17,Y$1<=$F17),"."," ") | Z17: =IF(AND(Z$1>=$E17,Z$1<=$F17),"."," ") | AA17: =IF(AND(AA$1>=$E17,AA$1<=$F17),"."," ") | AD17: =IF(AND(AD$1>=$E17,AD$1<=$F17),"."," ") | AE17: =IF(AND(AE$1>=$E17,AE$1<=$F17),"."," ") | AF17: =IF(AND(AF$1>=$E17,AF$1<=$F17),"."," ") | AG17: =IF(AND(AG$1>=$E17,AG$1<=$F17),"."," ") | AH17: =IF(AND(AH$1>=$E17,AH$1<=$F17),"."," ") | AK17: =IF(AND(AK$1>=$E17,AK$1<=$F17),"."," ") | AL17: =IF(AND(AL$1>=$E17,AL$1<=$F17),"."," ") | AM17: =IF(AND(AM$1>=$E17,AM$1<=$F17),"."," ") | AN17: =IF(AND(AN$1>=$E17,AN$1<=$F17),"."," ") | AO17: =IF(AND(AO$1>=$E17,AO$1<=$F17),"."," ") | AR17: =IF(AND(AR$1>=$E17,AR$1<=$F17),"."," ") | AS17: =IF(AND(AS$1>=$E17,AS$1<=$F17),"."," ") | AT17: =IF(AND(AT$1>=$E17,AT$1<=$F17),"."," ") | AU17: =IF(AND(AU$1>=$E17,AU$1<=$F17),"."," ") | AV17: =IF(AND(AV$1>=$E17,AV$1<=$F17),"."," ") | AY17: =IF(AND(AY$1>=$E17,AY$1<=$F17),"."," ") | AZ17: =IF(AND(AZ$1>=$E17,AZ$1<=$F17),"."," ") | BA17: =IF(AND(BA$1>=$E17,BA$1<=$F17),"."," ") | BB17: =IF(AND(BB$1>=$E17,BB$1<=$F17),"."," ") | BC17: =IF(AND(BC$1>=$E17,BC$1<=$F17),"."," ") | BF17: =IF(AND(BF$1>=$E17,BF$1<=$F17),"."," ") | BG17: =IF(AND(BG$1>=$E17,BG$1<=$F17),"."," ") | BH17: =IF(AND(BH$1>=$E17,BH$1<=$F17),"."," ") | BI17: =IF(AND(BI$1>=$E17,BI$1<=$F17),"."," ") | BJ17: =IF(AND(BJ$1>=$E17,BJ$1<=$F17),"."," ") | BM17: =IF(AND(BM$1>=$E17,BM$1<=$F17),"."," ") | BN17: =IF(AND(BN$1>=$E17,BN$1<=$F17),"."," ") | BO17: =IF(AND(BO$1>=$E17,BO$1<=$F17),"."," ") | BP17: =IF(AND(BP$1>=$E17,BP$1<=$F17),"."," ") | BQ17: =IF(AND(BQ$1>=$E17,BQ$1<=$F17),"."," ") | BT17: =IF(AND(BT$1>=$E17,BT$1<=$F17),"."," ") | BU17: =IF(AND(BU$1>=$E17,BU$1<=$F17),"."," ") | BV17: =IF(AND(BV$1>=$E17,BV$1<=$F17),"."," ") | BW17: =IF(AND(BW$1>=$E17,BW$1<=$F17),"."," ") | BX17: =IF(AND(BX$1>=$E17,BX$1<=$F17),"."," ") | CA17: =IF(AND(CA$1>=$E17,CA$1<=$F17),"."," ") | CB17: =IF(AND(CB$1>=$E17,CB$1<=$F17),"."," ") | CC17: =IF(AND(CC$1>=$E17,CC$1<=$F17),"."," ") | CD17: =IF(AND(CD$1>=$E17,CD$1<=$F17),"."," ") | CE17: =IF(AND(CE$1>=$E17,CE$1<=$F17),"."," ") | CH17: =IF(AND(CH$1>=$E17,CH$1<=$F17),"."," ") | CI17: =IF(AND(CI$1>=$E17,CI$1<=$F17),"."," ") | CJ17: =IF(AND(CJ$1>=$E17,CJ$1<=$F17),"."," ") | CK17: =IF(AND(CK$1>=$E17,CK$1<=$F17),"."," ") | CL17: =IF(AND(CL$1>=$E17,CL$1<=$F17),"."," ") | CO17: =IF(AND(CO$1>=$E17,CO$1<=$F17),"."," ") | CP17: =IF(AND(CP$1>=$E17,CP$1<=$F17),"."," ") | CQ17: =IF(AND(CQ$1>=$E17,CQ$1<=$F17),"."," ") | CR17: =IF(AND(CR$1>=$E17,CR$1<=$F17),"."," ") | CS17: =IF(AND(CS$1>=$E17,CS$1<=$F17),"."," ") | CV17: =IF(AND(CV$1>=$E17,CV$1<=$F17),"."," ") | CW17: =IF(AND(CW$1>=$E17,CW$1<=$F17),"."," ") | CX17: =IF(AND(CX$1>=$E17,CX$1<=$F17),"."," ") | CY17: =IF(AND(CY$1>=$E17,CY$1<=$F17),"."," ") | CZ17: =IF(AND(CZ$1>=$E17,CZ$1<=$F17),"."," ") | DC17: =IF(AND(DC$1>=$E17,DC$1<=$F17),"."," ") | DD17: =IF(AND(DD$1>=$E17,DD$1<=$F17),"."," ") | DE17: =IF(AND(DE$1>=$E17,DE$1<=$F17),"."," ") | DF17: =IF(AND(DF$1>=$E17,DF$1<=$F17),"."," ") | DG17: =IF(AND(DG$1>=$E17,DG$1<=$F17),"."," ") | DJ17: =IF(AND(DJ$1>=$E17,DJ$1<=$F17),"."," ") | DK17: =IF(AND(DK$1>=$E17,DK$1<=$F17),"."," ") | DL17: =IF(AND(DL$1>=$E17,DL$1<=$F17),"."," ") | DM17: =IF(AND(DM$1>=$E17,DM$1<=$F17),"."," ") | DN17: =IF(AND(DN$1>=$E17,DN$1<=$F17),"."," ") | DQ17: =IF(AND(DQ$1>=$E17,DQ$1<=$F17),"."," ") | DR17: =IF(AND(DR$1>=$E17,DR$1<=$F17),"."," ") | DS17: =IF(AND(DS$1>=$E17,DS$1<=$F17),"."," ") | DT17: =IF(AND(DT$1>=$E17,DT$1<=$F17),"."," ") | DU17: =IF(AND(DU$1>=$E17,DU$1<=$F17),"."," ") | DX17: =IF(AND(DX$1>=$E17,DX$1<=$F17),"."," ") | DY17: =IF(AND(DY$1>=$E17,DY$1<=$F17),"."," ") | DZ17: =IF(AND(DZ$1>=$E17,DZ$1<=$F17),"."," ") | EA17: =IF(AND(EA$1>=$E17,EA$1<=$F17),"."," ") | EB17: =IF(AND(EB$1>=$E17,EB$1<=$F17),"."," ") | EE17: =IF(AND(EE$1>=$E17,EE$1<=$F17),"."," ") | EF17: =IF(AND(EF$1>=$E17,EF$1<=$F17),"."," ") | EG17: =IF(AND(EG$1>=$E17,EG$1<=$F17),"."," ") | EH17: =IF(AND(EH$1>=$E17,EH$1<=$F17),"."," ") | EI17: =IF(AND(EI$1>=$E17,EI$1<=$F17),"."," ") | EL17: =IF(AND(EL$1>=$E17,EL$1<=$F17),"."," ") | EM17: =IF(AND(EM$1>=$E17,EM$1<=$F17),"."," ") | EN17: =IF(AND(EN$1>=$E17,EN$1<=$F17),"."," ") | EO17: =IF(AND(EO$1>=$E17,EO$1<=$F17),"."," ") | EP17: =IF(AND(EP$1>=$E17,EP$1<=$F17),"."," ") | ES17: =IF(AND(ES$1>=$E17,ES$1<=$F17),"."," ") | ET17: =IF(AND(ET$1>=$E17,ET$1<=$F17),"."," ") | EU17: =IF(AND(EU$1>=$E17,EU$1<=$F17),"."," ") | EV17: =IF(AND(EV$1>=$E17,EV$1<=$F17),"."," ") | EW17: =IF(AND(EW$1>=$E17,EW$1<=$F17),"."," ") | EZ17: =IF(AND(EZ$1>=$E17,EZ$1<=$F17),"."," ") | FA17: =IF(AND(FA$1>=$E17,FA$1<=$F17),"."," ") | FB17: =IF(AND(FB$1>=$E17,FB$1<=$F17),"."," ") | FC17: =IF(AND(FC$1>=$E17,FC$1<=$F17),"."," ") | FD17: =IF(AND(FD$1>=$E17,FD$1<=$F17),"."," ") | FG17: =IF(AND(FG$1>=$E17,FG$1<=$F17),"."," ") | FH17: =IF(AND(FH$1>=$E17,FH$1<=$F17),"."," ") | FI17: =IF(AND(FI$1>=$E17,FI$1<=$F17),"."," ") | FJ17: =IF(AND(FJ$1>=$E17,FJ$1<=$F17),"."," ") | FK17: =IF(AND(FK$1>=$E17,FK$1<=$F17),"."," ") | FN17: =IF(AND(FN$1>=$E17,FN$1<=$F17),"."," ") | FO17: =IF(AND(FO$1>=$E17,FO$1<=$F17),"."," ") | FP17: =IF(AND(FP$1>=$E17,FP$1<=$F17),"."," ") | FQ17: =IF(AND(FQ$1>=$E17,FQ$1<=$F17),"."," ") | FR17: =IF(AND(FR$1>=$E17,FR$1<=$F17),"."," ") | FU17: =IF(AND(FU$1>=$E17,FU$1<=$F17),"."," ") | FV17: =IF(AND(FV$1>=$E17,FV$1<=$F17),"."," ") | FW17: =IF(AND(FW$1>=$E17,FW$1<=$F17),"."," ") | FX17: =IF(AND(FX$1>=$E17,FX$1<=$F17),"."," ") | FY17: =IF(AND(FY$1>=$E17,FY$1<=$F17),"."," ") | GB17: =IF(AND(GB$1>=$E17,GB$1<=$F17),"."," ") | GC17: =IF(AND(GC$1>=$E17,GC$1<=$F17),"."," ") | GD17: =IF(AND(GD$1>=$E17,GD$1<=$F17),"."," ") | GE17: =IF(AND(GE$1>=$E17,GE$1<=$F17),"."," ") | GF17: =IF(AND(GF$1>=$E17,GF$1<=$F17),"."," ") | GI17: =IF(AND(GI$1>=$E17,GI$1<=$F17),"."," ") | GJ17: =IF(AND(GJ$1>=$E17,GJ$1<=$F17),"."," ") | GK17: =IF(AND(GK$1>=$E17,GK$1<=$F17),"."," ") | GL17: =IF(AND(GL$1>=$E17,GL$1<=$F17),"."," ") | GM17: =IF(AND(GM$1>=$E17,GM$1<=$F17),"."," ") | GP17: =IF(AND(GP$1>=$E17,GP$1<=$F17),"."," ") | GQ17: =IF(AND(GQ$1>=$E17,GQ$1<=$F17),"."," ") | GR17: =IF(AND(GR$1>=$E17,GR$1<=$F17),"."," ") | GS17: =IF(AND(GS$1>=$E17,GS$1<=$F17),"."," ") | GT17: =IF(AND(GT$1>=$E17,GT$1<=$F17),"."," ") | GW17: =IF(AND(GW$1>=$E17,GW$1<=$F17),"."," ") | GX17: =IF(AND(GX$1>=$E17,GX$1<=$F17),"."," ") | GY17: =IF(AND(GY$1>=$E17,GY$1<=$F17),"."," ") | GZ17: =IF(AND(GZ$1>=$E17,GZ$1<=$F17),"."," ") | HA17: =IF(AND(HA$1>=$E17,HA$1<=$F17),"."," ") | HD17: =IF(AND(HD$1>=$E17,HD$1<=$F17),"."," ") | HE17: =IF(AND(HE$1>=$E17,HE$1<=$F17),"."," ") | HF17: =IF(AND(HF$1>=$E17,HF$1<=$F17),"."," ") | HG17: =IF(AND(HG$1>=$E17,HG$1<=$F17),"."," ") | HH17: =IF(AND(HH$1>=$E17,HH$1<=$F17),"."," ") | HK17: =IF(AND(HK$1>=$E17,HK$1<=$F17),"."," ") | HL17: =IF(AND(HL$1>=$E17,HL$1<=$F17),"."," ") | HM17: =IF(AND(HM$1>=$E17,HM$1<=$F17),"."," ") | HN17: =IF(AND(HN$1>=$E17,HN$1<=$F17),"."," ") | HO17: =IF(AND(HO$1>=$E17,HO$1<=$F17),"."," ") | HR17: =IF(AND(HR$1>=$E17,HR$1<=$F17),"."," ") | HS17: =IF(AND(HS$1>=$E17,HS$1<=$F17),"."," ") | HT17: =IF(AND(HT$1>=$E17,HT$1<=$F17),"."," ") | HU17: =IF(AND(HU$1>=$E17,HU$1<=$F17),"."," ") | HV17: =IF(AND(HV$1>=$E17,HV$1<=$F17),"."," ") | HY17: =IF(AND(HY$1>=$E17,HY$1<=$F17),"."," ") | HZ17: =IF(AND(HZ$1>=$E17,HZ$1<=$F17),"."," ") | IA17: =IF(AND(IA$1>=$E17,IA$1<=$F17),"."," ") | IB17: =IF(AND(IB$1>=$E17,IB$1<=$F17),"."," ") | IC17: =IF(AND(IC$1>=$E17,IC$1<=$F17),"."," ") | IF17: =IF(AND(IF$1>=$E17,IF$1<=$F17),"."," ") | IG17: =IF(AND(IG$1>=$E17,IG$1<=$F17),"."," ") | IH17: =IF(AND(IH$1>=$E17,IH$1<=$F17),"."," ") | II17: =IF(AND(II$1>=$E17,II$1<=$F17),"."," ") | IJ17: =IF(AND(IJ$1>=$E17,IJ$1<=$F17),"."," ") | IM17: =IF(AND(IM$1>=$E17,IM$1<=$F17),"."," ") | IN17: =IF(AND(IN$1>=$E17,IN$1<=$F17),"."," ") | IO17: =IF(AND(IO$1>=$E17,IO$1<=$F17),"."," ") | IP17: =IF(AND(IP$1>=$E17,IP$1<=$F17),"."," ") | IQ17: =IF(AND(IQ$1>=$E17,IQ$1<=$F17),"."," ") | IT17: =IF(AND(IT$1>=$E17,IT$1<=$F17),"."," ") | IU17: =IF(AND(IU$1>=$E17,IU$1<=$F17),"."," ") | IV17: =IF(AND(IV$1>=$E17,IV$1<=$F17),"."," ") | IW17: =IF(AND(IW$1>=$E17,IW$1<=$F17),"."," ") | IX17: =IF(AND(IX$1>=$E17,IX$1<=$F17),"."," ") | JA17: =IF(AND(JA$1>=$E17,JA$1<=$F17),"."," ") | JB17: =IF(AND(JB$1>=$E17,JB$1<=$F17),"."," ") | JC17: =IF(AND(JC$1>=$E17,JC$1<=$F17),"."," ") | JD17: =IF(AND(JD$1>=$E17,JD$1<=$F17),"."," ") | JE17: =IF(AND(JE$1>=$E17,JE$1<=$F17),"."," ")
I18: =IF(AND(I$1>=$E18,I$1<=$F18),"."," ") | J18: =IF(AND(J$1>=$E18,J$1<=$F18),"."," ") | K18: =IF(AND(K$1>=$E18,K$1<=$F18),"."," ") | L18: =IF(AND(L$1>=$E18,L$1<=$F18),"."," ") | M18: =IF(AND(M$1>=$E18,M$1<=$F18),"."," ") | P18: =IF(AND(P$1>=$E18,P$1<=$F18),"."," ") | Q18: =IF(AND(Q$1>=$E18,Q$1<=$F18),"."," ") | R18: =IF(AND(R$1>=$E18,R$1<=$F18),"."," ") | S18: =IF(AND(S$1>=$E18,S$1<=$F18),"."," ") | T18: =IF(AND(T$1>=$E18,T$1<=$F18),"."," ") | W18: =IF(AND(W$1>=$E18,W$1<=$F18),"."," ") | X18: =IF(AND(X$1>=$E18,X$1<=$F18),"."," ") | Y18: =IF(AND(Y$1>=$E18,Y$1<=$F18),"."," ") | Z18: =IF(AND(Z$1>=$E18,Z$1<=$F18),"."," ") | AA18: =IF(AND(AA$1>=$E18,AA$1<=$F18),"."," ") | AD18: =IF(AND(AD$1>=$E18,AD$1<=$F18),"."," ") | AE18: =IF(AND(AE$1>=$E18,AE$1<=$F18),"."," ") | AF18: =IF(AND(AF$1>=$E18,AF$1<=$F18),"."," ") | AG18: =IF(AND(AG$1>=$E18,AG$1<=$F18),"."," ") | AH18: =IF(AND(AH$1>=$E18,AH$1<=$F18),"."," ") | AK18: =IF(AND(AK$1>=$E18,AK$1<=$F18),"."," ") | AL18: =IF(AND(AL$1>=$E18,AL$1<=$F18),"."," ") | AM18: =IF(AND(AM$1>=$E18,AM$1<=$F18),"."," ") | AN18: =IF(AND(AN$1>=$E18,AN$1<=$F18),"."," ") | AO18: =IF(AND(AO$1>=$E18,AO$1<=$F18),"."," ") | AR18: =IF(AND(AR$1>=$E18,AR$1<=$F18),"."," ") | AS18: =IF(AND(AS$1>=$E18,AS$1<=$F18),"."," ") | AT18: =IF(AND(AT$1>=$E18,AT$1<=$F18),"."," ") | AU18: =IF(AND(AU$1>=$E18,AU$1<=$F18),"."," ") | AV18: =IF(AND(AV$1>=$E18,AV$1<=$F18),"."," ") | AY18: =IF(AND(AY$1>=$E18,AY$1<=$F18),"."," ") | AZ18: =IF(AND(AZ$1>=$E18,AZ$1<=$F18),"."," ") | BA18: =IF(AND(BA$1>=$E18,BA$1<=$F18),"."," ") | BB18: =IF(AND(BB$1>=$E18,BB$1<=$F18),"."," ") | BC18: =IF(AND(BC$1>=$E18,BC$1<=$F18),"."," ") | BF18: =IF(AND(BF$1>=$E18,BF$1<=$F18),"."," ") | BG18: =IF(AND(BG$1>=$E18,BG$1<=$F18),"."," ") | BH18: =IF(AND(BH$1>=$E18,BH$1<=$F18),"."," ") | BI18: =IF(AND(BI$1>=$E18,BI$1<=$F18),"."," ") | BJ18: =IF(AND(BJ$1>=$E18,BJ$1<=$F18),"."," ") | BM18: =IF(AND(BM$1>=$E18,BM$1<=$F18),"."," ") | BN18: =IF(AND(BN$1>=$E18,BN$1<=$F18),"."," ") | BO18: =IF(AND(BO$1>=$E18,BO$1<=$F18),"."," ") | BP18: =IF(AND(BP$1>=$E18,BP$1<=$F18),"."," ") | BQ18: =IF(AND(BQ$1>=$E18,BQ$1<=$F18),"."," ") | BT18: =IF(AND(BT$1>=$E18,BT$1<=$F18),"."," ") | BU18: =IF(AND(BU$1>=$E18,BU$1<=$F18),"."," ") | BV18: =IF(AND(BV$1>=$E18,BV$1<=$F18),"."," ") | BW18: =IF(AND(BW$1>=$E18,BW$1<=$F18),"."," ") | BX18: =IF(AND(BX$1>=$E18,BX$1<=$F18),"."," ") | CA18: =IF(AND(CA$1>=$E18,CA$1<=$F18),"."," ") | CB18: =IF(AND(CB$1>=$E18,CB$1<=$F18),"."," ") | CC18: =IF(AND(CC$1>=$E18,CC$1<=$F18),"."," ") | CD18: =IF(AND(CD$1>=$E18,CD$1<=$F18),"."," ") | CE18: =IF(AND(CE$1>=$E18,CE$1<=$F18),"."," ") | CH18: =IF(AND(CH$1>=$E18,CH$1<=$F18),"."," ") | CI18: =IF(AND(CI$1>=$E18,CI$1<=$F18),"."," ") | CJ18: =IF(AND(CJ$1>=$E18,CJ$1<=$F18),"."," ") | CK18: =IF(AND(CK$1>=$E18,CK$1<=$F18),"."," ") | CL18: =IF(AND(CL$1>=$E18,CL$1<=$F18),"."," ") | CO18: =IF(AND(CO$1>=$E18,CO$1<=$F18),"."," ") | CP18: =IF(AND(CP$1>=$E18,CP$1<=$F18),"."," ") | CQ18: =IF(AND(CQ$1>=$E18,CQ$1<=$F18),"."," ") | CR18: =IF(AND(CR$1>=$E18,CR$1<=$F18),"."," ") | CS18: =IF(AND(CS$1>=$E18,CS$1<=$F18),"."," ") | CV18: =IF(AND(CV$1>=$E18,CV$1<=$F18),"."," ") | CW18: =IF(AND(CW$1>=$E18,CW$1<=$F18),"."," ") | CX18: =IF(AND(CX$1>=$E18,CX$1<=$F18),"."," ") | CY18: =IF(AND(CY$1>=$E18,CY$1<=$F18),"."," ") | CZ18: =IF(AND(CZ$1>=$E18,CZ$1<=$F18),"."," ") | DC18: =IF(AND(DC$1>=$E18,DC$1<=$F18),"."," ") | DD18: =IF(AND(DD$1>=$E18,DD$1<=$F18),"."," ") | DE18: =IF(AND(DE$1>=$E18,DE$1<=$F18),"."," ") | DF18: =IF(AND(DF$1>=$E18,DF$1<=$F18),"."," ") | DG18: =IF(AND(DG$1>=$E18,DG$1<=$F18),"."," ") | DJ18: =IF(AND(DJ$1>=$E18,DJ$1<=$F18),"."," ") | DK18: =IF(AND(DK$1>=$E18,DK$1<=$F18),"."," ") | DL18: =IF(AND(DL$1>=$E18,DL$1<=$F18),"."," ") | DM18: =IF(AND(DM$1>=$E18,DM$1<=$F18),"."," ") | DN18: =IF(AND(DN$1>=$E18,DN$1<=$F18),"."," ") | DQ18: =IF(AND(DQ$1>=$E18,DQ$1<=$F18),"."," ") | DR18: =IF(AND(DR$1>=$E18,DR$1<=$F18),"."," ") | DS18: =IF(AND(DS$1>=$E18,DS$1<=$F18),"."," ") | DT18: =IF(AND(DT$1>=$E18,DT$1<=$F18),"."," ") | DU18: =IF(AND(DU$1>=$E18,DU$1<=$F18),"."," ") | DX18: =IF(AND(DX$1>=$E18,DX$1<=$F18),"."," ") | DY18: =IF(AND(DY$1>=$E18,DY$1<=$F18),"."," ") | DZ18: =IF(AND(DZ$1>=$E18,DZ$1<=$F18),"."," ") | EA18: =IF(AND(EA$1>=$E18,EA$1<=$F18),"."," ") | EB18: =IF(AND(EB$1>=$E18,EB$1<=$F18),"."," ") | EE18: =IF(AND(EE$1>=$E18,EE$1<=$F18),"."," ") | EF18: =IF(AND(EF$1>=$E18,EF$1<=$F18),"."," ") | EG18: =IF(AND(EG$1>=$E18,EG$1<=$F18),"."," ") | EH18: =IF(AND(EH$1>=$E18,EH$1<=$F18),"."," ") | EI18: =IF(AND(EI$1>=$E18,EI$1<=$F18),"."," ") | EL18: =IF(AND(EL$1>=$E18,EL$1<=$F18),"."," ") | EM18: =IF(AND(EM$1>=$E18,EM$1<=$F18),"."," ") | EN18: =IF(AND(EN$1>=$E18,EN$1<=$F18),"."," ") | EO18: =IF(AND(EO$1>=$E18,EO$1<=$F18),"."," ") | EP18: =IF(AND(EP$1>=$E18,EP$1<=$F18),"."," ") | ES18: =IF(AND(ES$1>=$E18,ES$1<=$F18),"."," ") | ET18: =IF(AND(ET$1>=$E18,ET$1<=$F18),"."," ") | EU18: =IF(AND(EU$1>=$E18,EU$1<=$F18),"."," ") | EV18: =IF(AND(EV$1>=$E18,EV$1<=$F18),"."," ") | EW18: =IF(AND(EW$1>=$E18,EW$1<=$F18),"."," ") | EZ18: =IF(AND(EZ$1>=$E18,EZ$1<=$F18),"."," ") | FA18: =IF(AND(FA$1>=$E18,FA$1<=$F18),"."," ") | FB18: =IF(AND(FB$1>=$E18,FB$1<=$F18),"."," ") | FC18: =IF(AND(FC$1>=$E18,FC$1<=$F18),"."," ") | FD18: =IF(AND(FD$1>=$E18,FD$1<=$F18),"."," ") | FG18: =IF(AND(FG$1>=$E18,FG$1<=$F18),"."," ") | FH18: =IF(AND(FH$1>=$E18,FH$1<=$F18),"."," ") | FI18: =IF(AND(FI$1>=$E18,FI$1<=$F18),"."," ") | FJ18: =IF(AND(FJ$1>=$E18,FJ$1<=$F18),"."," ") | FK18: =IF(AND(FK$1>=$E18,FK$1<=$F18),"."," ") | FN18: =IF(AND(FN$1>=$E18,FN$1<=$F18),"."," ") | FO18: =IF(AND(FO$1>=$E18,FO$1<=$F18),"."," ") | FP18: =IF(AND(FP$1>=$E18,FP$1<=$F18),"."," ") | FQ18: =IF(AND(FQ$1>=$E18,FQ$1<=$F18),"."," ") | FR18: =IF(AND(FR$1>=$E18,FR$1<=$F18),"."," ") | FU18: =IF(AND(FU$1>=$E18,FU$1<=$F18),"."," ") | FV18: =IF(AND(FV$1>=$E18,FV$1<=$F18),"."," ") | FW18: =IF(AND(FW$1>=$E18,FW$1<=$F18),"."," ") | FX18: =IF(AND(FX$1>=$E18,FX$1<=$F18),"."," ") | FY18: =IF(AND(FY$1>=$E18,FY$1<=$F18),"."," ") | GB18: =IF(AND(GB$1>=$E18,GB$1<=$F18),"."," ") | GC18: =IF(AND(GC$1>=$E18,GC$1<=$F18),"."," ") | GD18: =IF(AND(GD$1>=$E18,GD$1<=$F18),"."," ") | GE18: =IF(AND(GE$1>=$E18,GE$1<=$F18),"."," ") | GF18: =IF(AND(GF$1>=$E18,GF$1<=$F18),"."," ") | GI18: =IF(AND(GI$1>=$E18,GI$1<=$F18),"."," ") | GJ18: =IF(AND(GJ$1>=$E18,GJ$1<=$F18),"."," ") | GK18: =IF(AND(GK$1>=$E18,GK$1<=$F18),"."," ") | GL18: =IF(AND(GL$1>=$E18,GL$1<=$F18),"."," ") | GM18: =IF(AND(GM$1>=$E18,GM$1<=$F18),"."," ") | GP18: =IF(AND(GP$1>=$E18,GP$1<=$F18),"."," ") | GQ18: =IF(AND(GQ$1>=$E18,GQ$1<=$F18),"."," ") | GR18: =IF(AND(GR$1>=$E18,GR$1<=$F18),"."," ") | GS18: =IF(AND(GS$1>=$E18,GS$1<=$F18),"."," ") | GT18: =IF(AND(GT$1>=$E18,GT$1<=$F18),"."," ") | GW18: =IF(AND(GW$1>=$E18,GW$1<=$F18),"."," ") | GX18: =IF(AND(GX$1>=$E18,GX$1<=$F18),"."," ") | GY18: =IF(AND(GY$1>=$E18,GY$1<=$F18),"."," ") | GZ18: =IF(AND(GZ$1>=$E18,GZ$1<=$F18),"."," ") | HA18: =IF(AND(HA$1>=$E18,HA$1<=$F18),"."," ") | HD18: =IF(AND(HD$1>=$E18,HD$1<=$F18),"."," ") | HE18: =IF(AND(HE$1>=$E18,HE$1<=$F18),"."," ") | HF18: =IF(AND(HF$1>=$E18,HF$1<=$F18),"."," ") | HG18: =IF(AND(HG$1>=$E18,HG$1<=$F18),"."," ") | HH18: =IF(AND(HH$1>=$E18,HH$1<=$F18),"."," ") | HK18: =IF(AND(HK$1>=$E18,HK$1<=$F18),"."," ") | HL18: =IF(AND(HL$1>=$E18,HL$1<=$F18),"."," ") | HM18: =IF(AND(HM$1>=$E18,HM$1<=$F18),"."," ") | HN18: =IF(AND(HN$1>=$E18,HN$1<=$F18),"."," ") | HO18: =IF(AND(HO$1>=$E18,HO$1<=$F18),"."," ") | HR18: =IF(AND(HR$1>=$E18,HR$1<=$F18),"."," ") | HS18: =IF(AND(HS$1>=$E18,HS$1<=$F18),"."," ") | HT18: =IF(AND(HT$1>=$E18,HT$1<=$F18),"."," ") | HU18: =IF(AND(HU$1>=$E18,HU$1<=$F18),"."," ") | HV18: =IF(AND(HV$1>=$E18,HV$1<=$F18),"."," ") | HY18: =IF(AND(HY$1>=$E18,HY$1<=$F18),"."," ") | HZ18: =IF(AND(HZ$1>=$E18,HZ$1<=$F18),"."," ") | IA18: =IF(AND(IA$1>=$E18,IA$1<=$F18),"."," ") | IB18: =IF(AND(IB$1>=$E18,IB$1<=$F18),"."," ") | IC18: =IF(AND(IC$1>=$E18,IC$1<=$F18),"."," ") | IF18: =IF(AND(IF$1>=$E18,IF$1<=$F18),"."," ") | IG18: =IF(AND(IG$1>=$E18,IG$1<=$F18),"."," ") | IH18: =IF(AND(IH$1>=$E18,IH$1<=$F18),"."," ") | II18: =IF(AND(II$1>=$E18,II$1<=$F18),"."," ") | IJ18: =IF(AND(IJ$1>=$E18,IJ$1<=$F18),"."," ") | IM18: =IF(AND(IM$1>=$E18,IM$1<=$F18),"."," ") | IN18: =IF(AND(IN$1>=$E18,IN$1<=$F18),"."," ") | IO18: =IF(AND(IO$1>=$E18,IO$1<=$F18),"."," ") | IP18: =IF(AND(IP$1>=$E18,IP$1<=$F18),"."," ") | IQ18: =IF(AND(IQ$1>=$E18,IQ$1<=$F18),"."," ") | IT18: =IF(AND(IT$1>=$E18,IT$1<=$F18),"."," ") | IU18: =IF(AND(IU$1>=$E18,IU$1<=$F18),"."," ") | IV18: =IF(AND(IV$1>=$E18,IV$1<=$F18),"."," ") | IW18: =IF(AND(IW$1>=$E18,IW$1<=$F18),"."," ") | IX18: =IF(AND(IX$1>=$E18,IX$1<=$F18),"."," ") | JA18: =IF(AND(JA$1>=$E18,JA$1<=$F18),"."," ") | JB18: =IF(AND(JB$1>=$E18,JB$1<=$F18),"."," ") | JC18: =IF(AND(JC$1>=$E18,JC$1<=$F18),"."," ") | JD18: =IF(AND(JD$1>=$E18,JD$1<=$F18),"."," ") | JE18: =IF(AND(JE$1>=$E18,JE$1<=$F18),"."," ")
I19: =IF(AND(I$1>=$E19,I$1<=$F19),"."," ") | J19: =IF(AND(J$1>=$E19,J$1<=$F19),"."," ") | K19: =IF(AND(K$1>=$E19,K$1<=$F19),"."," ") | L19: =IF(AND(L$1>=$E19,L$1<=$F19),"."," ") | M19: =IF(AND(M$1>=$E19,M$1<=$F19),"."," ") | P19: =IF(AND(P$1>=$E19,P$1<=$F19),"."," ") | Q19: =IF(AND(Q$1>=$E19,Q$1<=$F19),"."," ") | R19: =IF(AND(R$1>=$E19,R$1<=$F19),"."," ") | S19: =IF(AND(S$1>=$E19,S$1<=$F19),"."," ") | T19: =IF(AND(T$1>=$E19,T$1<=$F19),"."," ") | W19: =IF(AND(W$1>=$E19,W$1<=$F19),"."," ") | X19: =IF(AND(X$1>=$E19,X$1<=$F19),"."," ") | Y19: =IF(AND(Y$1>=$E19,Y$1<=$F19),"."," ") | Z19: =IF(AND(Z$1>=$E19,Z$1<=$F19),"."," ") | AA19: =IF(AND(AA$1>=$E19,AA$1<=$F19),"."," ") | AD19: =IF(AND(AD$1>=$E19,AD$1<=$F19),"."," ") | AE19: =IF(AND(AE$1>=$E19,AE$1<=$F19),"."," ") | AF19: =IF(AND(AF$1>=$E19,AF$1<=$F19),"."," ") | AG19: =IF(AND(AG$1>=$E19,AG$1<=$F19),"."," ") | AH19: =IF(AND(AH$1>=$E19,AH$1<=$F19),"."," ") | AK19: =IF(AND(AK$1>=$E19,AK$1<=$F19),"."," ") | AL19: =IF(AND(AL$1>=$E19,AL$1<=$F19),"."," ") | AM19: =IF(AND(AM$1>=$E19,AM$1<=$F19),"."," ") | AN19: =IF(AND(AN$1>=$E19,AN$1<=$F19),"."," ") | AO19: =IF(AND(AO$1>=$E19,AO$1<=$F19),"."," ") | AR19: =IF(AND(AR$1>=$E19,AR$1<=$F19),"."," ") | AS19: =IF(AND(AS$1>=$E19,AS$1<=$F19),"."," ") | AT19: =IF(AND(AT$1>=$E19,AT$1<=$F19),"."," ") | AU19: =IF(AND(AU$1>=$E19,AU$1<=$F19),"."," ") | AV19: =IF(AND(AV$1>=$E19,AV$1<=$F19),"."," ") | AY19: =IF(AND(AY$1>=$E19,AY$1<=$F19),"."," ") | AZ19: =IF(AND(AZ$1>=$E19,AZ$1<=$F19),"."," ") | BA19: =IF(AND(BA$1>=$E19,BA$1<=$F19),"."," ") | BB19: =IF(AND(BB$1>=$E19,BB$1<=$F19),"."," ") | BC19: =IF(AND(BC$1>=$E19,BC$1<=$F19),"."," ") | BF19: =IF(AND(BF$1>=$E19,BF$1<=$F19),"."," ") | BG19: =IF(AND(BG$1>=$E19,BG$1<=$F19),"."," ") | BH19: =IF(AND(BH$1>=$E19,BH$1<=$F19),"."," ") | BI19: =IF(AND(BI$1>=$E19,BI$1<=$F19),"."," ") | BJ19: =IF(AND(BJ$1>=$E19,BJ$1<=$F19),"."," ") | BM19: =IF(AND(BM$1>=$E19,BM$1<=$F19),"."," ") | BN19: =IF(AND(BN$1>=$E19,BN$1<=$F19),"."," ") | BO19: =IF(AND(BO$1>=$E19,BO$1<=$F19),"."," ") | BP19: =IF(AND(BP$1>=$E19,BP$1<=$F19),"."," ") | BQ19: =IF(AND(BQ$1>=$E19,BQ$1<=$F19),"."," ") | BT19: =IF(AND(BT$1>=$E19,BT$1<=$F19),"."," ") | BU19: =IF(AND(BU$1>=$E19,BU$1<=$F19),"."," ") | BV19: =IF(AND(BV$1>=$E19,BV$1<=$F19),"."," ") | BW19: =IF(AND(BW$1>=$E19,BW$1<=$F19),"."," ") | BX19: =IF(AND(BX$1>=$E19,BX$1<=$F19),"."," ") | CA19: =IF(AND(CA$1>=$E19,CA$1<=$F19),"."," ") | CB19: =IF(AND(CB$1>=$E19,CB$1<=$F19),"."," ") | CC19: =IF(AND(CC$1>=$E19,CC$1<=$F19),"."," ") | CD19: =IF(AND(CD$1>=$E19,CD$1<=$F19),"."," ") | CE19: =IF(AND(CE$1>=$E19,CE$1<=$F19),"."," ") | CH19: =IF(AND(CH$1>=$E19,CH$1<=$F19),"."," ") | CI19: =IF(AND(CI$1>=$E19,CI$1<=$F19),"."," ") | CJ19: =IF(AND(CJ$1>=$E19,CJ$1<=$F19),"."," ") | CK19: =IF(AND(CK$1>=$E19,CK$1<=$F19),"."," ") | CL19: =IF(AND(CL$1>=$E19,CL$1<=$F19),"."," ") | CO19: =IF(AND(CO$1>=$E19,CO$1<=$F19),"."," ") | CP19: =IF(AND(CP$1>=$E19,CP$1<=$F19),"."," ") | CQ19: =IF(AND(CQ$1>=$E19,CQ$1<=$F19),"."," ") | CR19: =IF(AND(CR$1>=$E19,CR$1<=$F19),"."," ") | CS19: =IF(AND(CS$1>=$E19,CS$1<=$F19),"."," ") | CV19: =IF(AND(CV$1>=$E19,CV$1<=$F19),"."," ") | CW19: =IF(AND(CW$1>=$E19,CW$1<=$F19),"."," ") | CX19: =IF(AND(CX$1>=$E19,CX$1<=$F19),"."," ") | CY19: =IF(AND(CY$1>=$E19,CY$1<=$F19),"."," ") | CZ19: =IF(AND(CZ$1>=$E19,CZ$1<=$F19),"."," ") | DC19: =IF(AND(DC$1>=$E19,DC$1<=$F19),"."," ") | DD19: =IF(AND(DD$1>=$E19,DD$1<=$F19),"."," ") | DE19: =IF(AND(DE$1>=$E19,DE$1<=$F19),"."," ") | DF19: =IF(AND(DF$1>=$E19,DF$1<=$F19),"."," ") | DG19: =IF(AND(DG$1>=$E19,DG$1<=$F19),"."," ") | DJ19: =IF(AND(DJ$1>=$E19,DJ$1<=$F19),"."," ") | DK19: =IF(AND(DK$1>=$E19,DK$1<=$F19),"."," ") | DL19: =IF(AND(DL$1>=$E19,DL$1<=$F19),"."," ") | DM19: =IF(AND(DM$1>=$E19,DM$1<=$F19),"."," ") | DN19: =IF(AND(DN$1>=$E19,DN$1<=$F19),"."," ") | DQ19: =IF(AND(DQ$1>=$E19,DQ$1<=$F19),"."," ") | DR19: =IF(AND(DR$1>=$E19,DR$1<=$F19),"."," ") | DS19: =IF(AND(DS$1>=$E19,DS$1<=$F19),"."," ") | DT19: =IF(AND(DT$1>=$E19,DT$1<=$F19),"."," ") | DU19: =IF(AND(DU$1>=$E19,DU$1<=$F19),"."," ") | DX19: =IF(AND(DX$1>=$E19,DX$1<=$F19),"."," ") | DY19: =IF(AND(DY$1>=$E19,DY$1<=$F19),"."," ") | DZ19: =IF(AND(DZ$1>=$E19,DZ$1<=$F19),"."," ") | EA19: =IF(AND(EA$1>=$E19,EA$1<=$F19),"."," ") | EB19: =IF(AND(EB$1>=$E19,EB$1<=$F19),"."," ") | EE19: =IF(AND(EE$1>=$E19,EE$1<=$F19),"."," ") | EF19: =IF(AND(EF$1>=$E19,EF$1<=$F19),"."," ") | EG19: =IF(AND(EG$1>=$E19,EG$1<=$F19),"."," ") | EH19: =IF(AND(EH$1>=$E19,EH$1<=$F19),"."," ") | EI19: =IF(AND(EI$1>=$E19,EI$1<=$F19),"."," ") | EL19: =IF(AND(EL$1>=$E19,EL$1<=$F19),"."," ") | EM19: =IF(AND(EM$1>=$E19,EM$1<=$F19),"."," ") | EN19: =IF(AND(EN$1>=$E19,EN$1<=$F19),"."," ") | EO19: =IF(AND(EO$1>=$E19,EO$1<=$F19),"."," ") | EP19: =IF(AND(EP$1>=$E19,EP$1<=$F19),"."," ") | ES19: =IF(AND(ES$1>=$E19,ES$1<=$F19),"."," ") | ET19: =IF(AND(ET$1>=$E19,ET$1<=$F19),"."," ") | EU19: =IF(AND(EU$1>=$E19,EU$1<=$F19),"."," ") | EV19: =IF(AND(EV$1>=$E19,EV$1<=$F19),"."," ") | EW19: =IF(AND(EW$1>=$E19,EW$1<=$F19),"."," ") | EZ19: =IF(AND(EZ$1>=$E19,EZ$1<=$F19),"."," ") | FA19: =IF(AND(FA$1>=$E19,FA$1<=$F19),"."," ") | FB19: =IF(AND(FB$1>=$E19,FB$1<=$F19),"."," ") | FC19: =IF(AND(FC$1>=$E19,FC$1<=$F19),"."," ") | FD19: =IF(AND(FD$1>=$E19,FD$1<=$F19),"."," ") | FG19: =IF(AND(FG$1>=$E19,FG$1<=$F19),"."," ") | FH19: =IF(AND(FH$1>=$E19,FH$1<=$F19),"."," ") | FI19: =IF(AND(FI$1>=$E19,FI$1<=$F19),"."," ") | FJ19: =IF(AND(FJ$1>=$E19,FJ$1<=$F19),"."," ") | FK19: =IF(AND(FK$1>=$E19,FK$1<=$F19),"."," ") | FN19: =IF(AND(FN$1>=$E19,FN$1<=$F19),"."," ") | FO19: =IF(AND(FO$1>=$E19,FO$1<=$F19),"."," ") | FP19: =IF(AND(FP$1>=$E19,FP$1<=$F19),"."," ") | FQ19: =IF(AND(FQ$1>=$E19,FQ$1<=$F19),"."," ") | FR19: =IF(AND(FR$1>=$E19,FR$1<=$F19),"."," ") | FU19: =IF(AND(FU$1>=$E19,FU$1<=$F19),"."," ") | FV19: =IF(AND(FV$1>=$E19,FV$1<=$F19),"."," ") | FW19: =IF(AND(FW$1>=$E19,FW$1<=$F19),"."," ") | FX19: =IF(AND(FX$1>=$E19,FX$1<=$F19),"."," ") | FY19: =IF(AND(FY$1>=$E19,FY$1<=$F19),"."," ") | GB19: =IF(AND(GB$1>=$E19,GB$1<=$F19),"."," ") | GC19: =IF(AND(GC$1>=$E19,GC$1<=$F19),"."," ") | GD19: =IF(AND(GD$1>=$E19,GD$1<=$F19),"."," ") | GE19: =IF(AND(GE$1>=$E19,GE$1<=$F19),"."," ") | GF19: =IF(AND(GF$1>=$E19,GF$1<=$F19),"."," ") | GI19: =IF(AND(GI$1>=$E19,GI$1<=$F19),"."," ") | GJ19: =IF(AND(GJ$1>=$E19,GJ$1<=$F19),"."," ") | GK19: =IF(AND(GK$1>=$E19,GK$1<=$F19),"."," ") | GL19: =IF(AND(GL$1>=$E19,GL$1<=$F19),"."," ") | GM19: =IF(AND(GM$1>=$E19,GM$1<=$F19),"."," ") | GP19: =IF(AND(GP$1>=$E19,GP$1<=$F19),"."," ") | GQ19: =IF(AND(GQ$1>=$E19,GQ$1<=$F19),"."," ") | GR19: =IF(AND(GR$1>=$E19,GR$1<=$F19),"."," ") | GS19: =IF(AND(GS$1>=$E19,GS$1<=$F19),"."," ") | GT19: =IF(AND(GT$1>=$E19,GT$1<=$F19),"."," ") | GW19: =IF(AND(GW$1>=$E19,GW$1<=$F19),"."," ") | GX19: =IF(AND(GX$1>=$E19,GX$1<=$F19),"."," ") | GY19: =IF(AND(GY$1>=$E19,GY$1<=$F19),"."," ") | GZ19: =IF(AND(GZ$1>=$E19,GZ$1<=$F19),"."," ") | HA19: =IF(AND(HA$1>=$E19,HA$1<=$F19),"."," ") | HD19: =IF(AND(HD$1>=$E19,HD$1<=$F19),"."," ") | HE19: =IF(AND(HE$1>=$E19,HE$1<=$F19),"."," ") | HF19: =IF(AND(HF$1>=$E19,HF$1<=$F19),"."," ") | HG19: =IF(AND(HG$1>=$E19,HG$1<=$F19),"."," ") | HH19: =IF(AND(HH$1>=$E19,HH$1<=$F19),"."," ") | HK19: =IF(AND(HK$1>=$E19,HK$1<=$F19),"."," ") | HL19: =IF(AND(HL$1>=$E19,HL$1<=$F19),"."," ") | HM19: =IF(AND(HM$1>=$E19,HM$1<=$F19),"."," ") | HN19: =IF(AND(HN$1>=$E19,HN$1<=$F19),"."," ") | HO19: =IF(AND(HO$1>=$E19,HO$1<=$F19),"."," ") | HR19: =IF(AND(HR$1>=$E19,HR$1<=$F19),"."," ") | HS19: =IF(AND(HS$1>=$E19,HS$1<=$F19),"."," ") | HT19: =IF(AND(HT$1>=$E19,HT$1<=$F19),"."," ") | HU19: =IF(AND(HU$1>=$E19,HU$1<=$F19),"."," ") | HV19: =IF(AND(HV$1>=$E19,HV$1<=$F19),"."," ") | HY19: =IF(AND(HY$1>=$E19,HY$1<=$F19),"."," ") | HZ19: =IF(AND(HZ$1>=$E19,HZ$1<=$F19),"."," ") | IA19: =IF(AND(IA$1>=$E19,IA$1<=$F19),"."," ") | IB19: =IF(AND(IB$1>=$E19,IB$1<=$F19),"."," ") | IC19: =IF(AND(IC$1>=$E19,IC$1<=$F19),"."," ") | IF19: =IF(AND(IF$1>=$E19,IF$1<=$F19),"."," ") | IG19: =IF(AND(IG$1>=$E19,IG$1<=$F19),"."," ") | IH19: =IF(AND(IH$1>=$E19,IH$1<=$F19),"."," ") | II19: =IF(AND(II$1>=$E19,II$1<=$F19),"."," ") | IJ19: =IF(AND(IJ$1>=$E19,IJ$1<=$F19),"."," ") | IM19: =IF(AND(IM$1>=$E19,IM$1<=$F19),"."," ") | IN19: =IF(AND(IN$1>=$E19,IN$1<=$F19),"."," ") | IO19: =IF(AND(IO$1>=$E19,IO$1<=$F19),"."," ") | IP19: =IF(AND(IP$1>=$E19,IP$1<=$F19),"."," ") | IQ19: =IF(AND(IQ$1>=$E19,IQ$1<=$F19),"."," ") | IT19: =IF(AND(IT$1>=$E19,IT$1<=$F19),"."," ") | IU19: =IF(AND(IU$1>=$E19,IU$1<=$F19),"."," ") | IV19: =IF(AND(IV$1>=$E19,IV$1<=$F19),"."," ") | IW19: =IF(AND(IW$1>=$E19,IW$1<=$F19),"."," ") | IX19: =IF(AND(IX$1>=$E19,IX$1<=$F19),"."," ") | JA19: =IF(AND(JA$1>=$E19,JA$1<=$F19),"."," ") | JB19: =IF(AND(JB$1>=$E19,JB$1<=$F19),"."," ") | JC19: =IF(AND(JC$1>=$E19,JC$1<=$F19),"."," ") | JD19: =IF(AND(JD$1>=$E19,JD$1<=$F19),"."," ") | JE19: =IF(AND(JE$1>=$E19,JE$1<=$F19),"."," ")
I20: =IF(AND(I$1>=$E20,I$1<=$F20),"."," ") | J20: =IF(AND(J$1>=$E20,J$1<=$F20),"."," ") | K20: =IF(AND(K$1>=$E20,K$1<=$F20),"."," ") | L20: =IF(AND(L$1>=$E20,L$1<=$F20),"."," ") | M20: =IF(AND(M$1>=$E20,M$1<=$F20),"."," ") | P20: =IF(AND(P$1>=$E20,P$1<=$F20),"."," ") | Q20: =IF(AND(Q$1>=$E20,Q$1<=$F20),"."," ") | R20: =IF(AND(R$1>=$E20,R$1<=$F20),"."," ") | S20: =IF(AND(S$1>=$E20,S$1<=$F20),"."," ") | T20: =IF(AND(T$1>=$E20,T$1<=$F20),"."," ") | W20: =IF(AND(W$1>=$E20,W$1<=$F20),"."," ") | X20: =IF(AND(X$1>=$E20,X$1<=$F20),"."," ") | Y20: =IF(AND(Y$1>=$E20,Y$1<=$F20),"."," ") | Z20: =IF(AND(Z$1>=$E20,Z$1<=$F20),"."," ") | AA20: =IF(AND(AA$1>=$E20,AA$1<=$F20),"."," ") | AD20: =IF(AND(AD$1>=$E20,AD$1<=$F20),"."," ") | AE20: =IF(AND(AE$1>=$E20,AE$1<=$F20),"."," ") | AF20: =IF(AND(AF$1>=$E20,AF$1<=$F20),"."," ") | AG20: =IF(AND(AG$1>=$E20,AG$1<=$F20),"."," ") | AH20: =IF(AND(AH$1>=$E20,AH$1<=$F20),"."," ") | AK20: =IF(AND(AK$1>=$E20,AK$1<=$F20),"."," ") | AL20: =IF(AND(AL$1>=$E20,AL$1<=$F20),"."," ") | AM20: =IF(AND(AM$1>=$E20,AM$1<=$F20),"."," ") | AN20: =IF(AND(AN$1>=$E20,AN$1<=$F20),"."," ") | AO20: =IF(AND(AO$1>=$E20,AO$1<=$F20),"."," ") | AR20: =IF(AND(AR$1>=$E20,AR$1<=$F20),"."," ") | AS20: =IF(AND(AS$1>=$E20,AS$1<=$F20),"."," ") | AT20: =IF(AND(AT$1>=$E20,AT$1<=$F20),"."," ") | AU20: =IF(AND(AU$1>=$E20,AU$1<=$F20),"."," ") | AV20: =IF(AND(AV$1>=$E20,AV$1<=$F20),"."," ") | AY20: =IF(AND(AY$1>=$E20,AY$1<=$F20),"."," ") | AZ20: =IF(AND(AZ$1>=$E20,AZ$1<=$F20),"."," ") | BA20: =IF(AND(BA$1>=$E20,BA$1<=$F20),"."," ") | BB20: =IF(AND(BB$1>=$E20,BB$1<=$F20),"."," ") | BC20: =IF(AND(BC$1>=$E20,BC$1<=$F20),"."," ") | BF20: =IF(AND(BF$1>=$E20,BF$1<=$F20),"."," ") | BG20: =IF(AND(BG$1>=$E20,BG$1<=$F20),"."," ") | BH20: =IF(AND(BH$1>=$E20,BH$1<=$F20),"."," ") | BI20: =IF(AND(BI$1>=$E20,BI$1<=$F20),"."," ") | BJ20: =IF(AND(BJ$1>=$E20,BJ$1<=$F20),"."," ") | BM20: =IF(AND(BM$1>=$E20,BM$1<=$F20),"."," ") | BN20: =IF(AND(BN$1>=$E20,BN$1<=$F20),"."," ") | BO20: =IF(AND(BO$1>=$E20,BO$1<=$F20),"."," ") | BP20: =IF(AND(BP$1>=$E20,BP$1<=$F20),"."," ") | BQ20: =IF(AND(BQ$1>=$E20,BQ$1<=$F20),"."," ") | BT20: =IF(AND(BT$1>=$E20,BT$1<=$F20),"."," ") | BU20: =IF(AND(BU$1>=$E20,BU$1<=$F20),"."," ") | BV20: =IF(AND(BV$1>=$E20,BV$1<=$F20),"."," ") | BW20: =IF(AND(BW$1>=$E20,BW$1<=$F20),"."," ") | BX20: =IF(AND(BX$1>=$E20,BX$1<=$F20),"."," ") | CA20: =IF(AND(CA$1>=$E20,CA$1<=$F20),"."," ") | CB20: =IF(AND(CB$1>=$E20,CB$1<=$F20),"."," ") | CC20: =IF(AND(CC$1>=$E20,CC$1<=$F20),"."," ") | CD20: =IF(AND(CD$1>=$E20,CD$1<=$F20),"."," ") | CE20: =IF(AND(CE$1>=$E20,CE$1<=$F20),"."," ") | CH20: =IF(AND(CH$1>=$E20,CH$1<=$F20),"."," ") | CI20: =IF(AND(CI$1>=$E20,CI$1<=$F20),"."," ") | CJ20: =IF(AND(CJ$1>=$E20,CJ$1<=$F20),"."," ") | CK20: =IF(AND(CK$1>=$E20,CK$1<=$F20),"."," ") | CL20: =IF(AND(CL$1>=$E20,CL$1<=$F20),"."," ") | CO20: =IF(AND(CO$1>=$E20,CO$1<=$F20),"."," ") | CP20: =IF(AND(CP$1>=$E20,CP$1<=$F20),"."," ") | CQ20: =IF(AND(CQ$1>=$E20,CQ$1<=$F20),"."," ") | CR20: =IF(AND(CR$1>=$E20,CR$1<=$F20),"."," ") | CS20: =IF(AND(CS$1>=$E20,CS$1<=$F20),"."," ") | CV20: =IF(AND(CV$1>=$E20,CV$1<=$F20),"."," ") | CW20: =IF(AND(CW$1>=$E20,CW$1<=$F20),"."," ") | CX20: =IF(AND(CX$1>=$E20,CX$1<=$F20),"."," ") | CY20: =IF(AND(CY$1>=$E20,CY$1<=$F20),"."," ") | CZ20: =IF(AND(CZ$1>=$E20,CZ$1<=$F20),"."," ") | DC20: =IF(AND(DC$1>=$E20,DC$1<=$F20),"."," ") | DD20: =IF(AND(DD$1>=$E20,DD$1<=$F20),"."," ") | DE20: =IF(AND(DE$1>=$E20,DE$1<=$F20),"."," ") | DF20: =IF(AND(DF$1>=$E20,DF$1<=$F20),"."," ") | DG20: =IF(AND(DG$1>=$E20,DG$1<=$F20),"."," ") | DJ20: =IF(AND(DJ$1>=$E20,DJ$1<=$F20),"."," ") | DK20: =IF(AND(DK$1>=$E20,DK$1<=$F20),"."," ") | DL20: =IF(AND(DL$1>=$E20,DL$1<=$F20),"."," ") | DM20: =IF(AND(DM$1>=$E20,DM$1<=$F20),"."," ") | DN20: =IF(AND(DN$1>=$E20,DN$1<=$F20),"."," ") | DQ20: =IF(AND(DQ$1>=$E20,DQ$1<=$F20),"."," ") | DR20: =IF(AND(DR$1>=$E20,DR$1<=$F20),"."," ") | DS20: =IF(AND(DS$1>=$E20,DS$1<=$F20),"."," ") | DT20: =IF(AND(DT$1>=$E20,DT$1<=$F20),"."," ") | DU20: =IF(AND(DU$1>=$E20,DU$1<=$F20),"."," ") | DX20: =IF(AND(DX$1>=$E20,DX$1<=$F20),"."," ") | DY20: =IF(AND(DY$1>=$E20,DY$1<=$F20),"."," ") | DZ20: =IF(AND(DZ$1>=$E20,DZ$1<=$F20),"."," ") | EA20: =IF(AND(EA$1>=$E20,EA$1<=$F20),"."," ") | EB20: =IF(AND(EB$1>=$E20,EB$1<=$F20),"."," ") | EE20: =IF(AND(EE$1>=$E20,EE$1<=$F20),"."," ") | EF20: =IF(AND(EF$1>=$E20,EF$1<=$F20),"."," ") | EG20: =IF(AND(EG$1>=$E20,EG$1<=$F20),"."," ") | EH20: =IF(AND(EH$1>=$E20,EH$1<=$F20),"."," ") | EI20: =IF(AND(EI$1>=$E20,EI$1<=$F20),"."," ") | EL20: =IF(AND(EL$1>=$E20,EL$1<=$F20),"."," ") | EM20: =IF(AND(EM$1>=$E20,EM$1<=$F20),"."," ") | EN20: =IF(AND(EN$1>=$E20,EN$1<=$F20),"."," ") | EO20: =IF(AND(EO$1>=$E20,EO$1<=$F20),"."," ") | EP20: =IF(AND(EP$1>=$E20,EP$1<=$F20),"."," ") | ES20: =IF(AND(ES$1>=$E20,ES$1<=$F20),"."," ") | ET20: =IF(AND(ET$1>=$E20,ET$1<=$F20),"."," ") | EU20: =IF(AND(EU$1>=$E20,EU$1<=$F20),"."," ") | EV20: =IF(AND(EV$1>=$E20,EV$1<=$F20),"."," ") | EW20: =IF(AND(EW$1>=$E20,EW$1<=$F20),"."," ") | EZ20: =IF(AND(EZ$1>=$E20,EZ$1<=$F20),"."," ") | FA20: =IF(AND(FA$1>=$E20,FA$1<=$F20),"."," ") | FB20: =IF(AND(FB$1>=$E20,FB$1<=$F20),"."," ") | FC20: =IF(AND(FC$1>=$E20,FC$1<=$F20),"."," ") | FD20: =IF(AND(FD$1>=$E20,FD$1<=$F20),"."," ") | FG20: =IF(AND(FG$1>=$E20,FG$1<=$F20),"."," ") | FH20: =IF(AND(FH$1>=$E20,FH$1<=$F20),"."," ") | FI20: =IF(AND(FI$1>=$E20,FI$1<=$F20),"."," ") | FJ20: =IF(AND(FJ$1>=$E20,FJ$1<=$F20),"."," ") | FK20: =IF(AND(FK$1>=$E20,FK$1<=$F20),"."," ") | FN20: =IF(AND(FN$1>=$E20,FN$1<=$F20),"."," ") | FO20: =IF(AND(FO$1>=$E20,FO$1<=$F20),"."," ") | FP20: =IF(AND(FP$1>=$E20,FP$1<=$F20),"."," ") | FQ20: =IF(AND(FQ$1>=$E20,FQ$1<=$F20),"."," ") | FR20: =IF(AND(FR$1>=$E20,FR$1<=$F20),"."," ") | FU20: =IF(AND(FU$1>=$E20,FU$1<=$F20),"."," ") | FV20: =IF(AND(FV$1>=$E20,FV$1<=$F20),"."," ") | FW20: =IF(AND(FW$1>=$E20,FW$1<=$F20),"."," ") | FX20: =IF(AND(FX$1>=$E20,FX$1<=$F20),"."," ") | FY20: =IF(AND(FY$1>=$E20,FY$1<=$F20),"."," ") | GB20: =IF(AND(GB$1>=$E20,GB$1<=$F20),"."," ") | GC20: =IF(AND(GC$1>=$E20,GC$1<=$F20),"."," ") | GD20: =IF(AND(GD$1>=$E20,GD$1<=$F20),"."," ") | GE20: =IF(AND(GE$1>=$E20,GE$1<=$F20),"."," ") | GF20: =IF(AND(GF$1>=$E20,GF$1<=$F20),"."," ") | GI20: =IF(AND(GI$1>=$E20,GI$1<=$F20),"."," ") | GJ20: =IF(AND(GJ$1>=$E20,GJ$1<=$F20),"."," ") | GK20: =IF(AND(GK$1>=$E20,GK$1<=$F20),"."," ") | GL20: =IF(AND(GL$1>=$E20,GL$1<=$F20),"."," ") | GM20: =IF(AND(GM$1>=$E20,GM$1<=$F20),"."," ") | GP20: =IF(AND(GP$1>=$E20,GP$1<=$F20),"."," ") | GQ20: =IF(AND(GQ$1>=$E20,GQ$1<=$F20),"."," ") | GR20: =IF(AND(GR$1>=$E20,GR$1<=$F20),"."," ") | GS20: =IF(AND(GS$1>=$E20,GS$1<=$F20),"."," ") | GT20: =IF(AND(GT$1>=$E20,GT$1<=$F20),"."," ") | GW20: =IF(AND(GW$1>=$E20,GW$1<=$F20),"."," ") | GX20: =IF(AND(GX$1>=$E20,GX$1<=$F20),"."," ") | GY20: =IF(AND(GY$1>=$E20,GY$1<=$F20),"."," ") | GZ20: =IF(AND(GZ$1>=$E20,GZ$1<=$F20),"."," ") | HA20: =IF(AND(HA$1>=$E20,HA$1<=$F20),"."," ") | HD20: =IF(AND(HD$1>=$E20,HD$1<=$F20),"."," ") | HE20: =IF(AND(HE$1>=$E20,HE$1<=$F20),"."," ") | HF20: =IF(AND(HF$1>=$E20,HF$1<=$F20),"."," ") | HG20: =IF(AND(HG$1>=$E20,HG$1<=$F20),"."," ") | HH20: =IF(AND(HH$1>=$E20,HH$1<=$F20),"."," ") | HK20: =IF(AND(HK$1>=$E20,HK$1<=$F20),"."," ") | HL20: =IF(AND(HL$1>=$E20,HL$1<=$F20),"."," ") | HM20: =IF(AND(HM$1>=$E20,HM$1<=$F20),"."," ") | HN20: =IF(AND(HN$1>=$E20,HN$1<=$F20),"."," ") | HO20: =IF(AND(HO$1>=$E20,HO$1<=$F20),"."," ") | HR20: =IF(AND(HR$1>=$E20,HR$1<=$F20),"."," ") | HS20: =IF(AND(HS$1>=$E20,HS$1<=$F20),"."," ") | HT20: =IF(AND(HT$1>=$E20,HT$1<=$F20),"."," ") | HU20: =IF(AND(HU$1>=$E20,HU$1<=$F20),"."," ") | HV20: =IF(AND(HV$1>=$E20,HV$1<=$F20),"."," ") | HY20: =IF(AND(HY$1>=$E20,HY$1<=$F20),"."," ") | HZ20: =IF(AND(HZ$1>=$E20,HZ$1<=$F20),"."," ") | IA20: =IF(AND(IA$1>=$E20,IA$1<=$F20),"."," ") | IB20: =IF(AND(IB$1>=$E20,IB$1<=$F20),"."," ") | IC20: =IF(AND(IC$1>=$E20,IC$1<=$F20),"."," ") | IF20: =IF(AND(IF$1>=$E20,IF$1<=$F20),"."," ") | IG20: =IF(AND(IG$1>=$E20,IG$1<=$F20),"."," ") | IH20: =IF(AND(IH$1>=$E20,IH$1<=$F20),"."," ") | II20: =IF(AND(II$1>=$E20,II$1<=$F20),"."," ") | IJ20: =IF(AND(IJ$1>=$E20,IJ$1<=$F20),"."," ") | IM20: =IF(AND(IM$1>=$E20,IM$1<=$F20),"."," ") | IN20: =IF(AND(IN$1>=$E20,IN$1<=$F20),"."," ") | IO20: =IF(AND(IO$1>=$E20,IO$1<=$F20),"."," ") | IP20: =IF(AND(IP$1>=$E20,IP$1<=$F20),"."," ") | IQ20: =IF(AND(IQ$1>=$E20,IQ$1<=$F20),"."," ") | IT20: =IF(AND(IT$1>=$E20,IT$1<=$F20),"."," ") | IU20: =IF(AND(IU$1>=$E20,IU$1<=$F20),"."," ") | IV20: =IF(AND(IV$1>=$E20,IV$1<=$F20),"."," ") | IW20: =IF(AND(IW$1>=$E20,IW$1<=$F20),"."," ") | IX20: =IF(AND(IX$1>=$E20,IX$1<=$F20),"."," ") | JA20: =IF(AND(JA$1>=$E20,JA$1<=$F20),"."," ") | JB20: =IF(AND(JB$1>=$E20,JB$1<=$F20),"."," ") | JC20: =IF(AND(JC$1>=$E20,JC$1<=$F20),"."," ") | JD20: =IF(AND(JD$1>=$E20,JD$1<=$F20),"."," ") | JE20: =IF(AND(JE$1>=$E20,JE$1<=$F20),"."," ")
I21: =IF(AND(I$1>=$E21,I$1<=$F21),"."," ") | J21: =IF(AND(J$1>=$E21,J$1<=$F21),"."," ") | K21: =IF(AND(K$1>=$E21,K$1<=$F21),"."," ") | L21: =IF(AND(L$1>=$E21,L$1<=$F21),"."," ") | M21: =IF(AND(M$1>=$E21,M$1<=$F21),"."," ") | P21: =IF(AND(P$1>=$E21,P$1<=$F21),"."," ") | Q21: =IF(AND(Q$1>=$E21,Q$1<=$F21),"."," ") | R21: =IF(AND(R$1>=$E21,R$1<=$F21),"."," ") | S21: =IF(AND(S$1>=$E21,S$1<=$F21),"."," ") | T21: =IF(AND(T$1>=$E21,T$1<=$F21),"."," ") | W21: =IF(AND(W$1>=$E21,W$1<=$F21),"."," ") | X21: =IF(AND(X$1>=$E21,X$1<=$F21),"."," ") | Y21: =IF(AND(Y$1>=$E21,Y$1<=$F21),"."," ") | Z21: =IF(AND(Z$1>=$E21,Z$1<=$F21),"."," ") | AA21: =IF(AND(AA$1>=$E21,AA$1<=$F21),"."," ") | AD21: =IF(AND(AD$1>=$E21,AD$1<=$F21),"."," ") | AE21: =IF(AND(AE$1>=$E21,AE$1<=$F21),"."," ") | AF21: =IF(AND(AF$1>=$E21,AF$1<=$F21),"."," ") | AG21: =IF(AND(AG$1>=$E21,AG$1<=$F21),"."," ") | AH21: =IF(AND(AH$1>=$E21,AH$1<=$F21),"."," ") | AK21: =IF(AND(AK$1>=$E21,AK$1<=$F21),"."," ") | AL21: =IF(AND(AL$1>=$E21,AL$1<=$F21),"."," ") | AM21: =IF(AND(AM$1>=$E21,AM$1<=$F21),"."," ") | AN21: =IF(AND(AN$1>=$E21,AN$1<=$F21),"."," ") | AO21: =IF(AND(AO$1>=$E21,AO$1<=$F21),"."," ") | AR21: =IF(AND(AR$1>=$E21,AR$1<=$F21),"."," ") | AS21: =IF(AND(AS$1>=$E21,AS$1<=$F21),"."," ") | AT21: =IF(AND(AT$1>=$E21,AT$1<=$F21),"."," ") | AU21: =IF(AND(AU$1>=$E21,AU$1<=$F21),"."," ") | AV21: =IF(AND(AV$1>=$E21,AV$1<=$F21),"."," ") | AY21: =IF(AND(AY$1>=$E21,AY$1<=$F21),"."," ") | AZ21: =IF(AND(AZ$1>=$E21,AZ$1<=$F21),"."," ") | BA21: =IF(AND(BA$1>=$E21,BA$1<=$F21),"."," ") | BB21: =IF(AND(BB$1>=$E21,BB$1<=$F21),"."," ") | BC21: =IF(AND(BC$1>=$E21,BC$1<=$F21),"."," ") | BF21: =IF(AND(BF$1>=$E21,BF$1<=$F21),"."," ") | BG21: =IF(AND(BG$1>=$E21,BG$1<=$F21),"."," ") | BH21: =IF(AND(BH$1>=$E21,BH$1<=$F21),"."," ") | BI21: =IF(AND(BI$1>=$E21,BI$1<=$F21),"."," ") | BJ21: =IF(AND(BJ$1>=$E21,BJ$1<=$F21),"."," ") | BM21: =IF(AND(BM$1>=$E21,BM$1<=$F21),"."," ") | BN21: =IF(AND(BN$1>=$E21,BN$1<=$F21),"."," ") | BO21: =IF(AND(BO$1>=$E21,BO$1<=$F21),"."," ") | BP21: =IF(AND(BP$1>=$E21,BP$1<=$F21),"."," ") | BQ21: =IF(AND(BQ$1>=$E21,BQ$1<=$F21),"."," ") | BT21: =IF(AND(BT$1>=$E21,BT$1<=$F21),"."," ") | BU21: =IF(AND(BU$1>=$E21,BU$1<=$F21),"."," ") | BV21: =IF(AND(BV$1>=$E21,BV$1<=$F21),"."," ") | BW21: =IF(AND(BW$1>=$E21,BW$1<=$F21),"."," ") | BX21: =IF(AND(BX$1>=$E21,BX$1<=$F21),"."," ") | CA21: =IF(AND(CA$1>=$E21,CA$1<=$F21),"."," ") | CB21: =IF(AND(CB$1>=$E21,CB$1<=$F21),"."," ") | CC21: =IF(AND(CC$1>=$E21,CC$1<=$F21),"."," ") | CD21: =IF(AND(CD$1>=$E21,CD$1<=$F21),"."," ") | CE21: =IF(AND(CE$1>=$E21,CE$1<=$F21),"."," ") | CH21: =IF(AND(CH$1>=$E21,CH$1<=$F21),"."," ") | CI21: =IF(AND(CI$1>=$E21,CI$1<=$F21),"."," ") | CJ21: =IF(AND(CJ$1>=$E21,CJ$1<=$F21),"."," ") | CK21: =IF(AND(CK$1>=$E21,CK$1<=$F21),"."," ") | CL21: =IF(AND(CL$1>=$E21,CL$1<=$F21),"."," ") | CO21: =IF(AND(CO$1>=$E21,CO$1<=$F21),"."," ") | CP21: =IF(AND(CP$1>=$E21,CP$1<=$F21),"."," ") | CQ21: =IF(AND(CQ$1>=$E21,CQ$1<=$F21),"."," ") | CR21: =IF(AND(CR$1>=$E21,CR$1<=$F21),"."," ") | CS21: =IF(AND(CS$1>=$E21,CS$1<=$F21),"."," ") | CV21: =IF(AND(CV$1>=$E21,CV$1<=$F21),"."," ") | CW21: =IF(AND(CW$1>=$E21,CW$1<=$F21),"."," ") | CX21: =IF(AND(CX$1>=$E21,CX$1<=$F21),"."," ") | CY21: =IF(AND(CY$1>=$E21,CY$1<=$F21),"."," ") | CZ21: =IF(AND(CZ$1>=$E21,CZ$1<=$F21),"."," ") | DC21: =IF(AND(DC$1>=$E21,DC$1<=$F21),"."," ") | DD21: =IF(AND(DD$1>=$E21,DD$1<=$F21),"."," ") | DE21: =IF(AND(DE$1>=$E21,DE$1<=$F21),"."," ") | DF21: =IF(AND(DF$1>=$E21,DF$1<=$F21),"."," ") | DG21: =IF(AND(DG$1>=$E21,DG$1<=$F21),"."," ") | DJ21: =IF(AND(DJ$1>=$E21,DJ$1<=$F21),"."," ") | DK21: =IF(AND(DK$1>=$E21,DK$1<=$F21),"."," ") | DL21: =IF(AND(DL$1>=$E21,DL$1<=$F21),"."," ") | DM21: =IF(AND(DM$1>=$E21,DM$1<=$F21),"."," ") | DN21: =IF(AND(DN$1>=$E21,DN$1<=$F21),"."," ") | DQ21: =IF(AND(DQ$1>=$E21,DQ$1<=$F21),"."," ") | DR21: =IF(AND(DR$1>=$E21,DR$1<=$F21),"."," ") | DS21: =IF(AND(DS$1>=$E21,DS$1<=$F21),"."," ") | DT21: =IF(AND(DT$1>=$E21,DT$1<=$F21),"."," ") | DU21: =IF(AND(DU$1>=$E21,DU$1<=$F21),"."," ") | DX21: =IF(AND(DX$1>=$E21,DX$1<=$F21),"."," ") | DY21: =IF(AND(DY$1>=$E21,DY$1<=$F21),"."," ") | DZ21: =IF(AND(DZ$1>=$E21,DZ$1<=$F21),"."," ") | EA21: =IF(AND(EA$1>=$E21,EA$1<=$F21),"."," ") | EB21: =IF(AND(EB$1>=$E21,EB$1<=$F21),"."," ") | EE21: =IF(AND(EE$1>=$E21,EE$1<=$F21),"."," ") | EF21: =IF(AND(EF$1>=$E21,EF$1<=$F21),"."," ") | EG21: =IF(AND(EG$1>=$E21,EG$1<=$F21),"."," ") | EH21: =IF(AND(EH$1>=$E21,EH$1<=$F21),"."," ") | EI21: =IF(AND(EI$1>=$E21,EI$1<=$F21),"."," ") | EL21: =IF(AND(EL$1>=$E21,EL$1<=$F21),"."," ") | EM21: =IF(AND(EM$1>=$E21,EM$1<=$F21),"."," ") | EN21: =IF(AND(EN$1>=$E21,EN$1<=$F21),"."," ") | EO21: =IF(AND(EO$1>=$E21,EO$1<=$F21),"."," ") | EP21: =IF(AND(EP$1>=$E21,EP$1<=$F21),"."," ") | ES21: =IF(AND(ES$1>=$E21,ES$1<=$F21),"."," ") | ET21: =IF(AND(ET$1>=$E21,ET$1<=$F21),"."," ") | EU21: =IF(AND(EU$1>=$E21,EU$1<=$F21),"."," ") | EV21: =IF(AND(EV$1>=$E21,EV$1<=$F21),"."," ") | EW21: =IF(AND(EW$1>=$E21,EW$1<=$F21),"."," ") | EZ21: =IF(AND(EZ$1>=$E21,EZ$1<=$F21),"."," ") | FA21: =IF(AND(FA$1>=$E21,FA$1<=$F21),"."," ") | FB21: =IF(AND(FB$1>=$E21,FB$1<=$F21),"."," ") | FC21: =IF(AND(FC$1>=$E21,FC$1<=$F21),"."," ") | FD21: =IF(AND(FD$1>=$E21,FD$1<=$F21),"."," ") | FG21: =IF(AND(FG$1>=$E21,FG$1<=$F21),"."," ") | FH21: =IF(AND(FH$1>=$E21,FH$1<=$F21),"."," ") | FI21: =IF(AND(FI$1>=$E21,FI$1<=$F21),"."," ") | FJ21: =IF(AND(FJ$1>=$E21,FJ$1<=$F21),"."," ") | FK21: =IF(AND(FK$1>=$E21,FK$1<=$F21),"."," ") | FN21: =IF(AND(FN$1>=$E21,FN$1<=$F21),"."," ") | FO21: =IF(AND(FO$1>=$E21,FO$1<=$F21),"."," ") | FP21: =IF(AND(FP$1>=$E21,FP$1<=$F21),"."," ") | FQ21: =IF(AND(FQ$1>=$E21,FQ$1<=$F21),"."," ") | FR21: =IF(AND(FR$1>=$E21,FR$1<=$F21),"."," ") | FU21: =IF(AND(FU$1>=$E21,FU$1<=$F21),"."," ") | FV21: =IF(AND(FV$1>=$E21,FV$1<=$F21),"."," ") | FW21: =IF(AND(FW$1>=$E21,FW$1<=$F21),"."," ") | FX21: =IF(AND(FX$1>=$E21,FX$1<=$F21),"."," ") | FY21: =IF(AND(FY$1>=$E21,FY$1<=$F21),"."," ") | GB21: =IF(AND(GB$1>=$E21,GB$1<=$F21),"."," ") | GC21: =IF(AND(GC$1>=$E21,GC$1<=$F21),"."," ") | GD21: =IF(AND(GD$1>=$E21,GD$1<=$F21),"."," ") | GE21: =IF(AND(GE$1>=$E21,GE$1<=$F21),"."," ") | GF21: =IF(AND(GF$1>=$E21,GF$1<=$F21),"."," ") | GI21: =IF(AND(GI$1>=$E21,GI$1<=$F21),"."," ") | GJ21: =IF(AND(GJ$1>=$E21,GJ$1<=$F21),"."," ") | GK21: =IF(AND(GK$1>=$E21,GK$1<=$F21),"."," ") | GL21: =IF(AND(GL$1>=$E21,GL$1<=$F21),"."," ") | GM21: =IF(AND(GM$1>=$E21,GM$1<=$F21),"."," ") | GP21: =IF(AND(GP$1>=$E21,GP$1<=$F21),"."," ") | GQ21: =IF(AND(GQ$1>=$E21,GQ$1<=$F21),"."," ") | GR21: =IF(AND(GR$1>=$E21,GR$1<=$F21),"."," ") | GS21: =IF(AND(GS$1>=$E21,GS$1<=$F21),"."," ") | GT21: =IF(AND(GT$1>=$E21,GT$1<=$F21),"."," ") | GW21: =IF(AND(GW$1>=$E21,GW$1<=$F21),"."," ") | GX21: =IF(AND(GX$1>=$E21,GX$1<=$F21),"."," ") | GY21: =IF(AND(GY$1>=$E21,GY$1<=$F21),"."," ") | GZ21: =IF(AND(GZ$1>=$E21,GZ$1<=$F21),"."," ") | HA21: =IF(AND(HA$1>=$E21,HA$1<=$F21),"."," ") | HD21: =IF(AND(HD$1>=$E21,HD$1<=$F21),"."," ") | HE21: =IF(AND(HE$1>=$E21,HE$1<=$F21),"."," ") | HF21: =IF(AND(HF$1>=$E21,HF$1<=$F21),"."," ") | HG21: =IF(AND(HG$1>=$E21,HG$1<=$F21),"."," ") | HH21: =IF(AND(HH$1>=$E21,HH$1<=$F21),"."," ") | HK21: =IF(AND(HK$1>=$E21,HK$1<=$F21),"."," ") | HL21: =IF(AND(HL$1>=$E21,HL$1<=$F21),"."," ") | HM21: =IF(AND(HM$1>=$E21,HM$1<=$F21),"."," ") | HN21: =IF(AND(HN$1>=$E21,HN$1<=$F21),"."," ") | HO21: =IF(AND(HO$1>=$E21,HO$1<=$F21),"."," ") | HR21: =IF(AND(HR$1>=$E21,HR$1<=$F21),"."," ") | HS21: =IF(AND(HS$1>=$E21,HS$1<=$F21),"."," ") | HT21: =IF(AND(HT$1>=$E21,HT$1<=$F21),"."," ") | HU21: =IF(AND(HU$1>=$E21,HU$1<=$F21),"."," ") | HV21: =IF(AND(HV$1>=$E21,HV$1<=$F21),"."," ") | HY21: =IF(AND(HY$1>=$E21,HY$1<=$F21),"."," ") | HZ21: =IF(AND(HZ$1>=$E21,HZ$1<=$F21),"."," ") | IA21: =IF(AND(IA$1>=$E21,IA$1<=$F21),"."," ") | IB21: =IF(AND(IB$1>=$E21,IB$1<=$F21),"."," ") | IC21: =IF(AND(IC$1>=$E21,IC$1<=$F21),"."," ") | IF21: =IF(AND(IF$1>=$E21,IF$1<=$F21),"."," ") | IG21: =IF(AND(IG$1>=$E21,IG$1<=$F21),"."," ") | IH21: =IF(AND(IH$1>=$E21,IH$1<=$F21),"."," ") | II21: =IF(AND(II$1>=$E21,II$1<=$F21),"."," ") | IJ21: =IF(AND(IJ$1>=$E21,IJ$1<=$F21),"."," ") | IM21: =IF(AND(IM$1>=$E21,IM$1<=$F21),"."," ") | IN21: =IF(AND(IN$1>=$E21,IN$1<=$F21),"."," ") | IO21: =IF(AND(IO$1>=$E21,IO$1<=$F21),"."," ") | IP21: =IF(AND(IP$1>=$E21,IP$1<=$F21),"."," ") | IQ21: =IF(AND(IQ$1>=$E21,IQ$1<=$F21),"."," ") | IT21: =IF(AND(IT$1>=$E21,IT$1<=$F21),"."," ") | IU21: =IF(AND(IU$1>=$E21,IU$1<=$F21),"."," ") | IV21: =IF(AND(IV$1>=$E21,IV$1<=$F21),"."," ") | IW21: =IF(AND(IW$1>=$E21,IW$1<=$F21),"."," ") | IX21: =IF(AND(IX$1>=$E21,IX$1<=$F21),"."," ") | JA21: =IF(AND(JA$1>=$E21,JA$1<=$F21),"."," ") | JB21: =IF(AND(JB$1>=$E21,JB$1<=$F21),"."," ") | JC21: =IF(AND(JC$1>=$E21,JC$1<=$F21),"."," ") | JD21: =IF(AND(JD$1>=$E21,JD$1<=$F21),"."," ") | JE21: =IF(AND(JE$1>=$E21,JE$1<=$F21),"."," ")
I22: =IF(AND(I$1>=$E22,I$1<=$F22),"."," ") | J22: =IF(AND(J$1>=$E22,J$1<=$F22),"."," ") | K22: =IF(AND(K$1>=$E22,K$1<=$F22),"."," ") | L22: =IF(AND(L$1>=$E22,L$1<=$F22),"."," ") | M22: =IF(AND(M$1>=$E22,M$1<=$F22),"."," ") | P22: =IF(AND(P$1>=$E22,P$1<=$F22),"."," ") | Q22: =IF(AND(Q$1>=$E22,Q$1<=$F22),"."," ") | R22: =IF(AND(R$1>=$E22,R$1<=$F22),"."," ") | S22: =IF(AND(S$1>=$E22,S$1<=$F22),"."," ") | T22: =IF(AND(T$1>=$E22,T$1<=$F22),"."," ") | W22: =IF(AND(W$1>=$E22,W$1<=$F22),"."," ") | X22: =IF(AND(X$1>=$E22,X$1<=$F22),"."," ") | Y22: =IF(AND(Y$1>=$E22,Y$1<=$F22),"."," ") | Z22: =IF(AND(Z$1>=$E22,Z$1<=$F22),"."," ") | AA22: =IF(AND(AA$1>=$E22,AA$1<=$F22),"."," ") | AD22: =IF(AND(AD$1>=$E22,AD$1<=$F22),"."," ") | AE22: =IF(AND(AE$1>=$E22,AE$1<=$F22),"."," ") | AF22: =IF(AND(AF$1>=$E22,AF$1<=$F22),"."," ") | AG22: =IF(AND(AG$1>=$E22,AG$1<=$F22),"."," ") | AH22: =IF(AND(AH$1>=$E22,AH$1<=$F22),"."," ") | AK22: =IF(AND(AK$1>=$E22,AK$1<=$F22),"."," ") | AL22: =IF(AND(AL$1>=$E22,AL$1<=$F22),"."," ") | AM22: =IF(AND(AM$1>=$E22,AM$1<=$F22),"."," ") | AN22: =IF(AND(AN$1>=$E22,AN$1<=$F22),"."," ") | AO22: =IF(AND(AO$1>=$E22,AO$1<=$F22),"."," ") | AR22: =IF(AND(AR$1>=$E22,AR$1<=$F22),"."," ") | AS22: =IF(AND(AS$1>=$E22,AS$1<=$F22),"."," ") | AT22: =IF(AND(AT$1>=$E22,AT$1<=$F22),"."," ") | AU22: =IF(AND(AU$1>=$E22,AU$1<=$F22),"."," ") | AV22: =IF(AND(AV$1>=$E22,AV$1<=$F22),"."," ") | AY22: =IF(AND(AY$1>=$E22,AY$1<=$F22),"."," ") | AZ22: =IF(AND(AZ$1>=$E22,AZ$1<=$F22),"."," ") | BA22: =IF(AND(BA$1>=$E22,BA$1<=$F22),"."," ") | BB22: =IF(AND(BB$1>=$E22,BB$1<=$F22),"."," ") | BC22: =IF(AND(BC$1>=$E22,BC$1<=$F22),"."," ") | BF22: =IF(AND(BF$1>=$E22,BF$1<=$F22),"."," ") | BG22: =IF(AND(BG$1>=$E22,BG$1<=$F22),"."," ") | BH22: =IF(AND(BH$1>=$E22,BH$1<=$F22),"."," ") | BI22: =IF(AND(BI$1>=$E22,BI$1<=$F22),"."," ") | BJ22: =IF(AND(BJ$1>=$E22,BJ$1<=$F22),"."," ") | BM22: =IF(AND(BM$1>=$E22,BM$1<=$F22),"."," ") | BN22: =IF(AND(BN$1>=$E22,BN$1<=$F22),"."," ") | BO22: =IF(AND(BO$1>=$E22,BO$1<=$F22),"."," ") | BP22: =IF(AND(BP$1>=$E22,BP$1<=$F22),"."," ") | BQ22: =IF(AND(BQ$1>=$E22,BQ$1<=$F22),"."," ") | BT22: =IF(AND(BT$1>=$E22,BT$1<=$F22),"."," ") | BU22: =IF(AND(BU$1>=$E22,BU$1<=$F22),"."," ") | BV22: =IF(AND(BV$1>=$E22,BV$1<=$F22),"."," ") | BW22: =IF(AND(BW$1>=$E22,BW$1<=$F22),"."," ") | BX22: =IF(AND(BX$1>=$E22,BX$1<=$F22),"."," ") | CA22: =IF(AND(CA$1>=$E22,CA$1<=$F22),"."," ") | CB22: =IF(AND(CB$1>=$E22,CB$1<=$F22),"."," ") | CC22: =IF(AND(CC$1>=$E22,CC$1<=$F22),"."," ") | CD22: =IF(AND(CD$1>=$E22,CD$1<=$F22),"."," ") | CE22: =IF(AND(CE$1>=$E22,CE$1<=$F22),"."," ") | CH22: =IF(AND(CH$1>=$E22,CH$1<=$F22),"."," ") | CI22: =IF(AND(CI$1>=$E22,CI$1<=$F22),"."," ") | CJ22: =IF(AND(CJ$1>=$E22,CJ$1<=$F22),"."," ") | CK22: =IF(AND(CK$1>=$E22,CK$1<=$F22),"."," ") | CL22: =IF(AND(CL$1>=$E22,CL$1<=$F22),"."," ") | CO22: =IF(AND(CO$1>=$E22,CO$1<=$F22),"."," ") | CP22: =IF(AND(CP$1>=$E22,CP$1<=$F22),"."," ") | CQ22: =IF(AND(CQ$1>=$E22,CQ$1<=$F22),"."," ") | CR22: =IF(AND(CR$1>=$E22,CR$1<=$F22),"."," ") | CS22: =IF(AND(CS$1>=$E22,CS$1<=$F22),"."," ") | CV22: =IF(AND(CV$1>=$E22,CV$1<=$F22),"."," ") | CW22: =IF(AND(CW$1>=$E22,CW$1<=$F22),"."," ") | CX22: =IF(AND(CX$1>=$E22,CX$1<=$F22),"."," ") | CY22: =IF(AND(CY$1>=$E22,CY$1<=$F22),"."," ") | CZ22: =IF(AND(CZ$1>=$E22,CZ$1<=$F22),"."," ") | DC22: =IF(AND(DC$1>=$E22,DC$1<=$F22),"."," ") | DD22: =IF(AND(DD$1>=$E22,DD$1<=$F22),"."," ") | DE22: =IF(AND(DE$1>=$E22,DE$1<=$F22),"."," ") | DF22: =IF(AND(DF$1>=$E22,DF$1<=$F22),"."," ") | DG22: =IF(AND(DG$1>=$E22,DG$1<=$F22),"."," ") | DJ22: =IF(AND(DJ$1>=$E22,DJ$1<=$F22),"."," ") | DK22: =IF(AND(DK$1>=$E22,DK$1<=$F22),"."," ") | DL22: =IF(AND(DL$1>=$E22,DL$1<=$F22),"."," ") | DM22: =IF(AND(DM$1>=$E22,DM$1<=$F22),"."," ") | DN22: =IF(AND(DN$1>=$E22,DN$1<=$F22),"."," ") | DQ22: =IF(AND(DQ$1>=$E22,DQ$1<=$F22),"."," ") | DR22: =IF(AND(DR$1>=$E22,DR$1<=$F22),"."," ") | DS22: =IF(AND(DS$1>=$E22,DS$1<=$F22),"."," ") | DT22: =IF(AND(DT$1>=$E22,DT$1<=$F22),"."," ") | DU22: =IF(AND(DU$1>=$E22,DU$1<=$F22),"."," ") | DX22: =IF(AND(DX$1>=$E22,DX$1<=$F22),"."," ") | DY22: =IF(AND(DY$1>=$E22,DY$1<=$F22),"."," ") | DZ22: =IF(AND(DZ$1>=$E22,DZ$1<=$F22),"."," ") | EA22: =IF(AND(EA$1>=$E22,EA$1<=$F22),"."," ") | EB22: =IF(AND(EB$1>=$E22,EB$1<=$F22),"."," ") | EE22: =IF(AND(EE$1>=$E22,EE$1<=$F22),"."," ") | EF22: =IF(AND(EF$1>=$E22,EF$1<=$F22),"."," ") | EG22: =IF(AND(EG$1>=$E22,EG$1<=$F22),"."," ") | EH22: =IF(AND(EH$1>=$E22,EH$1<=$F22),"."," ") | EI22: =IF(AND(EI$1>=$E22,EI$1<=$F22),"."," ") | EL22: =IF(AND(EL$1>=$E22,EL$1<=$F22),"."," ") | EM22: =IF(AND(EM$1>=$E22,EM$1<=$F22),"."," ") | EN22: =IF(AND(EN$1>=$E22,EN$1<=$F22),"."," ") | EO22: =IF(AND(EO$1>=$E22,EO$1<=$F22),"."," ") | EP22: =IF(AND(EP$1>=$E22,EP$1<=$F22),"."," ") | ES22: =IF(AND(ES$1>=$E22,ES$1<=$F22),"."," ") | ET22: =IF(AND(ET$1>=$E22,ET$1<=$F22),"."," ") | EU22: =IF(AND(EU$1>=$E22,EU$1<=$F22),"."," ") | EV22: =IF(AND(EV$1>=$E22,EV$1<=$F22),"."," ") | EW22: =IF(AND(EW$1>=$E22,EW$1<=$F22),"."," ") | EZ22: =IF(AND(EZ$1>=$E22,EZ$1<=$F22),"."," ") | FA22: =IF(AND(FA$1>=$E22,FA$1<=$F22),"."," ") | FB22: =IF(AND(FB$1>=$E22,FB$1<=$F22),"."," ") | FC22: =IF(AND(FC$1>=$E22,FC$1<=$F22),"."," ") | FD22: =IF(AND(FD$1>=$E22,FD$1<=$F22),"."," ") | FG22: =IF(AND(FG$1>=$E22,FG$1<=$F22),"."," ") | FH22: =IF(AND(FH$1>=$E22,FH$1<=$F22),"."," ") | FI22: =IF(AND(FI$1>=$E22,FI$1<=$F22),"."," ") | FJ22: =IF(AND(FJ$1>=$E22,FJ$1<=$F22),"."," ") | FK22: =IF(AND(FK$1>=$E22,FK$1<=$F22),"."," ") | FN22: =IF(AND(FN$1>=$E22,FN$1<=$F22),"."," ") | FO22: =IF(AND(FO$1>=$E22,FO$1<=$F22),"."," ") | FP22: =IF(AND(FP$1>=$E22,FP$1<=$F22),"."," ") | FQ22: =IF(AND(FQ$1>=$E22,FQ$1<=$F22),"."," ") | FR22: =IF(AND(FR$1>=$E22,FR$1<=$F22),"."," ") | FU22: =IF(AND(FU$1>=$E22,FU$1<=$F22),"."," ") | FV22: =IF(AND(FV$1>=$E22,FV$1<=$F22),"."," ") | FW22: =IF(AND(FW$1>=$E22,FW$1<=$F22),"."," ") | FX22: =IF(AND(FX$1>=$E22,FX$1<=$F22),"."," ") | FY22: =IF(AND(FY$1>=$E22,FY$1<=$F22),"."," ") | GB22: =IF(AND(GB$1>=$E22,GB$1<=$F22),"."," ") | GC22: =IF(AND(GC$1>=$E22,GC$1<=$F22),"."," ") | GD22: =IF(AND(GD$1>=$E22,GD$1<=$F22),"."," ") | GE22: =IF(AND(GE$1>=$E22,GE$1<=$F22),"."," ") | GF22: =IF(AND(GF$1>=$E22,GF$1<=$F22),"."," ") | GI22: =IF(AND(GI$1>=$E22,GI$1<=$F22),"."," ") | GJ22: =IF(AND(GJ$1>=$E22,GJ$1<=$F22),"."," ") | GK22: =IF(AND(GK$1>=$E22,GK$1<=$F22),"."," ") | GL22: =IF(AND(GL$1>=$E22,GL$1<=$F22),"."," ") | GM22: =IF(AND(GM$1>=$E22,GM$1<=$F22),"."," ") | GP22: =IF(AND(GP$1>=$E22,GP$1<=$F22),"."," ") | GQ22: =IF(AND(GQ$1>=$E22,GQ$1<=$F22),"."," ") | GR22: =IF(AND(GR$1>=$E22,GR$1<=$F22),"."," ") | GS22: =IF(AND(GS$1>=$E22,GS$1<=$F22),"."," ") | GT22: =IF(AND(GT$1>=$E22,GT$1<=$F22),"."," ") | GW22: =IF(AND(GW$1>=$E22,GW$1<=$F22),"."," ") | GX22: =IF(AND(GX$1>=$E22,GX$1<=$F22),"."," ") | GY22: =IF(AND(GY$1>=$E22,GY$1<=$F22),"."," ") | GZ22: =IF(AND(GZ$1>=$E22,GZ$1<=$F22),"."," ") | HA22: =IF(AND(HA$1>=$E22,HA$1<=$F22),"."," ") | HD22: =IF(AND(HD$1>=$E22,HD$1<=$F22),"."," ") | HE22: =IF(AND(HE$1>=$E22,HE$1<=$F22),"."," ") | HF22: =IF(AND(HF$1>=$E22,HF$1<=$F22),"."," ") | HG22: =IF(AND(HG$1>=$E22,HG$1<=$F22),"."," ") | HH22: =IF(AND(HH$1>=$E22,HH$1<=$F22),"."," ") | HK22: =IF(AND(HK$1>=$E22,HK$1<=$F22),"."," ") | HL22: =IF(AND(HL$1>=$E22,HL$1<=$F22),"."," ") | HM22: =IF(AND(HM$1>=$E22,HM$1<=$F22),"."," ") | HN22: =IF(AND(HN$1>=$E22,HN$1<=$F22),"."," ") | HO22: =IF(AND(HO$1>=$E22,HO$1<=$F22),"."," ") | HR22: =IF(AND(HR$1>=$E22,HR$1<=$F22),"."," ") | HS22: =IF(AND(HS$1>=$E22,HS$1<=$F22),"."," ") | HT22: =IF(AND(HT$1>=$E22,HT$1<=$F22),"."," ") | HU22: =IF(AND(HU$1>=$E22,HU$1<=$F22),"."," ") | HV22: =IF(AND(HV$1>=$E22,HV$1<=$F22),"."," ") | HY22: =IF(AND(HY$1>=$E22,HY$1<=$F22),"."," ") | HZ22: =IF(AND(HZ$1>=$E22,HZ$1<=$F22),"."," ") | IA22: =IF(AND(IA$1>=$E22,IA$1<=$F22),"."," ") | IB22: =IF(AND(IB$1>=$E22,IB$1<=$F22),"."," ") | IC22: =IF(AND(IC$1>=$E22,IC$1<=$F22),"."," ") | IF22: =IF(AND(IF$1>=$E22,IF$1<=$F22),"."," ") | IG22: =IF(AND(IG$1>=$E22,IG$1<=$F22),"."," ") | IH22: =IF(AND(IH$1>=$E22,IH$1<=$F22),"."," ") | II22: =IF(AND(II$1>=$E22,II$1<=$F22),"."," ") | IJ22: =IF(AND(IJ$1>=$E22,IJ$1<=$F22),"."," ") | IM22: =IF(AND(IM$1>=$E22,IM$1<=$F22),"."," ") | IN22: =IF(AND(IN$1>=$E22,IN$1<=$F22),"."," ") | IO22: =IF(AND(IO$1>=$E22,IO$1<=$F22),"."," ") | IP22: =IF(AND(IP$1>=$E22,IP$1<=$F22),"."," ") | IQ22: =IF(AND(IQ$1>=$E22,IQ$1<=$F22),"."," ") | IT22: =IF(AND(IT$1>=$E22,IT$1<=$F22),"."," ") | IU22: =IF(AND(IU$1>=$E22,IU$1<=$F22),"."," ") | IV22: =IF(AND(IV$1>=$E22,IV$1<=$F22),"."," ") | IW22: =IF(AND(IW$1>=$E22,IW$1<=$F22),"."," ") | IX22: =IF(AND(IX$1>=$E22,IX$1<=$F22),"."," ") | JA22: =IF(AND(JA$1>=$E22,JA$1<=$F22),"."," ") | JB22: =IF(AND(JB$1>=$E22,JB$1<=$F22),"."," ") | JC22: =IF(AND(JC$1>=$E22,JC$1<=$F22),"."," ") | JD22: =IF(AND(JD$1>=$E22,JD$1<=$F22),"."," ") | JE22: =IF(AND(JE$1>=$E22,JE$1<=$F22),"."," ")
I23: =IF(AND(I$1>=$E23,I$1<=$F23),"."," ") | J23: =IF(AND(J$1>=$E23,J$1<=$F23),"."," ") | K23: =IF(AND(K$1>=$E23,K$1<=$F23),"."," ") | L23: =IF(AND(L$1>=$E23,L$1<=$F23),"."," ") | M23: =IF(AND(M$1>=$E23,M$1<=$F23),"."," ") | P23: =IF(AND(P$1>=$E23,P$1<=$F23),"."," ") | Q23: =IF(AND(Q$1>=$E23,Q$1<=$F23),"."," ") | R23: =IF(AND(R$1>=$E23,R$1<=$F23),"."," ") | S23: =IF(AND(S$1>=$E23,S$1<=$F23),"."," ") | T23: =IF(AND(T$1>=$E23,T$1<=$F23),"."," ") | W23: =IF(AND(W$1>=$E23,W$1<=$F23),"."," ") | X23: =IF(AND(X$1>=$E23,X$1<=$F23),"."," ") | Y23: =IF(AND(Y$1>=$E23,Y$1<=$F23),"."," ") | Z23: =IF(AND(Z$1>=$E23,Z$1<=$F23),"."," ") | AA23: =IF(AND(AA$1>=$E23,AA$1<=$F23),"."," ") | AD23: =IF(AND(AD$1>=$E23,AD$1<=$F23),"."," ") | AE23: =IF(AND(AE$1>=$E23,AE$1<=$F23),"."," ") | AF23: =IF(AND(AF$1>=$E23,AF$1<=$F23),"."," ") | AG23: =IF(AND(AG$1>=$E23,AG$1<=$F23),"."," ") | AH23: =IF(AND(AH$1>=$E23,AH$1<=$F23),"."," ") | AK23: =IF(AND(AK$1>=$E23,AK$1<=$F23),"."," ") | AL23: =IF(AND(AL$1>=$E23,AL$1<=$F23),"."," ") | AM23: =IF(AND(AM$1>=$E23,AM$1<=$F23),"."," ") | AN23: =IF(AND(AN$1>=$E23,AN$1<=$F23),"."," ") | AO23: =IF(AND(AO$1>=$E23,AO$1<=$F23),"."," ") | AR23: =IF(AND(AR$1>=$E23,AR$1<=$F23),"."," ") | AS23: =IF(AND(AS$1>=$E23,AS$1<=$F23),"."," ") | AT23: =IF(AND(AT$1>=$E23,AT$1<=$F23),"."," ") | AU23: =IF(AND(AU$1>=$E23,AU$1<=$F23),"."," ") | AV23: =IF(AND(AV$1>=$E23,AV$1<=$F23),"."," ") | AY23: =IF(AND(AY$1>=$E23,AY$1<=$F23),"."," ") | AZ23: =IF(AND(AZ$1>=$E23,AZ$1<=$F23),"."," ") | BA23: =IF(AND(BA$1>=$E23,BA$1<=$F23),"."," ") | BB23: =IF(AND(BB$1>=$E23,BB$1<=$F23),"."," ") | BC23: =IF(AND(BC$1>=$E23,BC$1<=$F23),"."," ") | BF23: =IF(AND(BF$1>=$E23,BF$1<=$F23),"."," ") | BG23: =IF(AND(BG$1>=$E23,BG$1<=$F23),"."," ") | BH23: =IF(AND(BH$1>=$E23,BH$1<=$F23),"."," ") | BI23: =IF(AND(BI$1>=$E23,BI$1<=$F23),"."," ") | BJ23: =IF(AND(BJ$1>=$E23,BJ$1<=$F23),"."," ") | BM23: =IF(AND(BM$1>=$E23,BM$1<=$F23),"."," ") | BN23: =IF(AND(BN$1>=$E23,BN$1<=$F23),"."," ") | BO23: =IF(AND(BO$1>=$E23,BO$1<=$F23),"."," ") | BP23: =IF(AND(BP$1>=$E23,BP$1<=$F23),"."," ") | BQ23: =IF(AND(BQ$1>=$E23,BQ$1<=$F23),"."," ") | BT23: =IF(AND(BT$1>=$E23,BT$1<=$F23),"."," ") | BU23: =IF(AND(BU$1>=$E23,BU$1<=$F23),"."," ") | BV23: =IF(AND(BV$1>=$E23,BV$1<=$F23),"."," ") | BW23: =IF(AND(BW$1>=$E23,BW$1<=$F23),"."," ") | BX23: =IF(AND(BX$1>=$E23,BX$1<=$F23),"."," ") | CA23: =IF(AND(CA$1>=$E23,CA$1<=$F23),"."," ") | CB23: =IF(AND(CB$1>=$E23,CB$1<=$F23),"."," ") | CC23: =IF(AND(CC$1>=$E23,CC$1<=$F23),"."," ") | CD23: =IF(AND(CD$1>=$E23,CD$1<=$F23),"."," ") | CE23: =IF(AND(CE$1>=$E23,CE$1<=$F23),"."," ") | CH23: =IF(AND(CH$1>=$E23,CH$1<=$F23),"."," ") | CI23: =IF(AND(CI$1>=$E23,CI$1<=$F23),"."," ") | CJ23: =IF(AND(CJ$1>=$E23,CJ$1<=$F23),"."," ") | CK23: =IF(AND(CK$1>=$E23,CK$1<=$F23),"."," ") | CL23: =IF(AND(CL$1>=$E23,CL$1<=$F23),"."," ") | CO23: =IF(AND(CO$1>=$E23,CO$1<=$F23),"."," ") | CP23: =IF(AND(CP$1>=$E23,CP$1<=$F23),"."," ") | CQ23: =IF(AND(CQ$1>=$E23,CQ$1<=$F23),"."," ") | CR23: =IF(AND(CR$1>=$E23,CR$1<=$F23),"."," ") | CS23: =IF(AND(CS$1>=$E23,CS$1<=$F23),"."," ") | CV23: =IF(AND(CV$1>=$E23,CV$1<=$F23),"."," ") | CW23: =IF(AND(CW$1>=$E23,CW$1<=$F23),"."," ") | CX23: =IF(AND(CX$1>=$E23,CX$1<=$F23),"."," ") | CY23: =IF(AND(CY$1>=$E23,CY$1<=$F23),"."," ") | CZ23: =IF(AND(CZ$1>=$E23,CZ$1<=$F23),"."," ") | DC23: =IF(AND(DC$1>=$E23,DC$1<=$F23),"."," ") | DD23: =IF(AND(DD$1>=$E23,DD$1<=$F23),"."," ") | DE23: =IF(AND(DE$1>=$E23,DE$1<=$F23),"."," ") | DF23: =IF(AND(DF$1>=$E23,DF$1<=$F23),"."," ") | DG23: =IF(AND(DG$1>=$E23,DG$1<=$F23),"."," ") | DJ23: =IF(AND(DJ$1>=$E23,DJ$1<=$F23),"."," ") | DK23: =IF(AND(DK$1>=$E23,DK$1<=$F23),"."," ") | DL23: =IF(AND(DL$1>=$E23,DL$1<=$F23),"."," ") | DM23: =IF(AND(DM$1>=$E23,DM$1<=$F23),"."," ") | DN23: =IF(AND(DN$1>=$E23,DN$1<=$F23),"."," ") | DQ23: =IF(AND(DQ$1>=$E23,DQ$1<=$F23),"."," ") | DR23: =IF(AND(DR$1>=$E23,DR$1<=$F23),"."," ") | DS23: =IF(AND(DS$1>=$E23,DS$1<=$F23),"."," ") | DT23: =IF(AND(DT$1>=$E23,DT$1<=$F23),"."," ") | DU23: =IF(AND(DU$1>=$E23,DU$1<=$F23),"."," ") | DX23: =IF(AND(DX$1>=$E23,DX$1<=$F23),"."," ") | DY23: =IF(AND(DY$1>=$E23,DY$1<=$F23),"."," ") | DZ23: =IF(AND(DZ$1>=$E23,DZ$1<=$F23),"."," ") | EA23: =IF(AND(EA$1>=$E23,EA$1<=$F23),"."," ") | EB23: =IF(AND(EB$1>=$E23,EB$1<=$F23),"."," ") | EE23: =IF(AND(EE$1>=$E23,EE$1<=$F23),"."," ") | EF23: =IF(AND(EF$1>=$E23,EF$1<=$F23),"."," ") | EG23: =IF(AND(EG$1>=$E23,EG$1<=$F23),"."," ") | EH23: =IF(AND(EH$1>=$E23,EH$1<=$F23),"."," ") | EI23: =IF(AND(EI$1>=$E23,EI$1<=$F23),"."," ") | EL23: =IF(AND(EL$1>=$E23,EL$1<=$F23),"."," ") | EM23: =IF(AND(EM$1>=$E23,EM$1<=$F23),"."," ") | EN23: =IF(AND(EN$1>=$E23,EN$1<=$F23),"."," ") | EO23: =IF(AND(EO$1>=$E23,EO$1<=$F23),"."," ") | EP23: =IF(AND(EP$1>=$E23,EP$1<=$F23),"."," ") | ES23: =IF(AND(ES$1>=$E23,ES$1<=$F23),"."," ") | ET23: =IF(AND(ET$1>=$E23,ET$1<=$F23),"."," ") | EU23: =IF(AND(EU$1>=$E23,EU$1<=$F23),"."," ") | EV23: =IF(AND(EV$1>=$E23,EV$1<=$F23),"."," ") | EW23: =IF(AND(EW$1>=$E23,EW$1<=$F23),"."," ") | EZ23: =IF(AND(EZ$1>=$E23,EZ$1<=$F23),"."," ") | FA23: =IF(AND(FA$1>=$E23,FA$1<=$F23),"."," ") | FB23: =IF(AND(FB$1>=$E23,FB$1<=$F23),"."," ") | FC23: =IF(AND(FC$1>=$E23,FC$1<=$F23),"."," ") | FD23: =IF(AND(FD$1>=$E23,FD$1<=$F23),"."," ") | FG23: =IF(AND(FG$1>=$E23,FG$1<=$F23),"."," ") | FH23: =IF(AND(FH$1>=$E23,FH$1<=$F23),"."," ") | FI23: =IF(AND(FI$1>=$E23,FI$1<=$F23),"."," ") | FJ23: =IF(AND(FJ$1>=$E23,FJ$1<=$F23),"."," ") | FK23: =IF(AND(FK$1>=$E23,FK$1<=$F23),"."," ") | FN23: =IF(AND(FN$1>=$E23,FN$1<=$F23),"."," ") | FO23: =IF(AND(FO$1>=$E23,FO$1<=$F23),"."," ") | FP23: =IF(AND(FP$1>=$E23,FP$1<=$F23),"."," ") | FQ23: =IF(AND(FQ$1>=$E23,FQ$1<=$F23),"."," ") | FR23: =IF(AND(FR$1>=$E23,FR$1<=$F23),"."," ") | FU23: =IF(AND(FU$1>=$E23,FU$1<=$F23),"."," ") | FV23: =IF(AND(FV$1>=$E23,FV$1<=$F23),"."," ") | FW23: =IF(AND(FW$1>=$E23,FW$1<=$F23),"."," ") | FX23: =IF(AND(FX$1>=$E23,FX$1<=$F23),"."," ") | FY23: =IF(AND(FY$1>=$E23,FY$1<=$F23),"."," ") | GB23: =IF(AND(GB$1>=$E23,GB$1<=$F23),"."," ") | GC23: =IF(AND(GC$1>=$E23,GC$1<=$F23),"."," ") | GD23: =IF(AND(GD$1>=$E23,GD$1<=$F23),"."," ") | GE23: =IF(AND(GE$1>=$E23,GE$1<=$F23),"."," ") | GF23: =IF(AND(GF$1>=$E23,GF$1<=$F23),"."," ") | GI23: =IF(AND(GI$1>=$E23,GI$1<=$F23),"."," ") | GJ23: =IF(AND(GJ$1>=$E23,GJ$1<=$F23),"."," ") | GK23: =IF(AND(GK$1>=$E23,GK$1<=$F23),"."," ") | GL23: =IF(AND(GL$1>=$E23,GL$1<=$F23),"."," ") | GM23: =IF(AND(GM$1>=$E23,GM$1<=$F23),"."," ") | GP23: =IF(AND(GP$1>=$E23,GP$1<=$F23),"."," ") | GQ23: =IF(AND(GQ$1>=$E23,GQ$1<=$F23),"."," ") | GR23: =IF(AND(GR$1>=$E23,GR$1<=$F23),"."," ") | GS23: =IF(AND(GS$1>=$E23,GS$1<=$F23),"."," ") | GT23: =IF(AND(GT$1>=$E23,GT$1<=$F23),"."," ") | GW23: =IF(AND(GW$1>=$E23,GW$1<=$F23),"."," ") | GX23: =IF(AND(GX$1>=$E23,GX$1<=$F23),"."," ") | GY23: =IF(AND(GY$1>=$E23,GY$1<=$F23),"."," ") | GZ23: =IF(AND(GZ$1>=$E23,GZ$1<=$F23),"."," ") | HA23: =IF(AND(HA$1>=$E23,HA$1<=$F23),"."," ") | HD23: =IF(AND(HD$1>=$E23,HD$1<=$F23),"."," ") | HE23: =IF(AND(HE$1>=$E23,HE$1<=$F23),"."," ") | HF23: =IF(AND(HF$1>=$E23,HF$1<=$F23),"."," ") | HG23: =IF(AND(HG$1>=$E23,HG$1<=$F23),"."," ") | HH23: =IF(AND(HH$1>=$E23,HH$1<=$F23),"."," ") | HK23: =IF(AND(HK$1>=$E23,HK$1<=$F23),"."," ") | HL23: =IF(AND(HL$1>=$E23,HL$1<=$F23),"."," ") | HM23: =IF(AND(HM$1>=$E23,HM$1<=$F23),"."," ") | HN23: =IF(AND(HN$1>=$E23,HN$1<=$F23),"."," ") | HO23: =IF(AND(HO$1>=$E23,HO$1<=$F23),"."," ") | HR23: =IF(AND(HR$1>=$E23,HR$1<=$F23),"."," ") | HS23: =IF(AND(HS$1>=$E23,HS$1<=$F23),"."," ") | HT23: =IF(AND(HT$1>=$E23,HT$1<=$F23),"."," ") | HU23: =IF(AND(HU$1>=$E23,HU$1<=$F23),"."," ") | HV23: =IF(AND(HV$1>=$E23,HV$1<=$F23),"."," ") | HY23: =IF(AND(HY$1>=$E23,HY$1<=$F23),"."," ") | HZ23: =IF(AND(HZ$1>=$E23,HZ$1<=$F23),"."," ") | IA23: =IF(AND(IA$1>=$E23,IA$1<=$F23),"."," ") | IB23: =IF(AND(IB$1>=$E23,IB$1<=$F23),"."," ") | IC23: =IF(AND(IC$1>=$E23,IC$1<=$F23),"."," ") | IF23: =IF(AND(IF$1>=$E23,IF$1<=$F23),"."," ") | IG23: =IF(AND(IG$1>=$E23,IG$1<=$F23),"."," ") | IH23: =IF(AND(IH$1>=$E23,IH$1<=$F23),"."," ") | II23: =IF(AND(II$1>=$E23,II$1<=$F23),"."," ") | IJ23: =IF(AND(IJ$1>=$E23,IJ$1<=$F23),"."," ") | IM23: =IF(AND(IM$1>=$E23,IM$1<=$F23),"."," ") | IN23: =IF(AND(IN$1>=$E23,IN$1<=$F23),"."," ") | IO23: =IF(AND(IO$1>=$E23,IO$1<=$F23),"."," ") | IP23: =IF(AND(IP$1>=$E23,IP$1<=$F23),"."," ") | IQ23: =IF(AND(IQ$1>=$E23,IQ$1<=$F23),"."," ") | IT23: =IF(AND(IT$1>=$E23,IT$1<=$F23),"."," ") | IU23: =IF(AND(IU$1>=$E23,IU$1<=$F23),"."," ") | IV23: =IF(AND(IV$1>=$E23,IV$1<=$F23),"."," ") | IW23: =IF(AND(IW$1>=$E23,IW$1<=$F23),"."," ") | IX23: =IF(AND(IX$1>=$E23,IX$1<=$F23),"."," ") | JA23: =IF(AND(JA$1>=$E23,JA$1<=$F23),"."," ") | JB23: =IF(AND(JB$1>=$E23,JB$1<=$F23),"."," ") | JC23: =IF(AND(JC$1>=$E23,JC$1<=$F23),"."," ") | JD23: =IF(AND(JD$1>=$E23,JD$1<=$F23),"."," ") | JE23: =IF(AND(JE$1>=$E23,JE$1<=$F23),"."," ")
I24: =IF(AND(I$1>=$E24,I$1<=$F24),"."," ") | J24: =IF(AND(J$1>=$E24,J$1<=$F24),"."," ") | K24: =IF(AND(K$1>=$E24,K$1<=$F24),"."," ") | L24: =IF(AND(L$1>=$E24,L$1<=$F24),"."," ") | M24: =IF(AND(M$1>=$E24,M$1<=$F24),"."," ") | P24: =IF(AND(P$1>=$E24,P$1<=$F24),"."," ") | Q24: =IF(AND(Q$1>=$E24,Q$1<=$F24),"."," ") | R24: =IF(AND(R$1>=$E24,R$1<=$F24),"."," ") | S24: =IF(AND(S$1>=$E24,S$1<=$F24),"."," ") | T24: =IF(AND(T$1>=$E24,T$1<=$F24),"."," ") | W24: =IF(AND(W$1>=$E24,W$1<=$F24),"."," ") | X24: =IF(AND(X$1>=$E24,X$1<=$F24),"."," ") | Y24: =IF(AND(Y$1>=$E24,Y$1<=$F24),"."," ") | Z24: =IF(AND(Z$1>=$E24,Z$1<=$F24),"."," ") | AA24: =IF(AND(AA$1>=$E24,AA$1<=$F24),"."," ") | AD24: =IF(AND(AD$1>=$E24,AD$1<=$F24),"."," ") | AE24: =IF(AND(AE$1>=$E24,AE$1<=$F24),"."," ") | AF24: =IF(AND(AF$1>=$E24,AF$1<=$F24),"."," ") | AG24: =IF(AND(AG$1>=$E24,AG$1<=$F24),"."," ") | AH24: =IF(AND(AH$1>=$E24,AH$1<=$F24),"."," ") | AK24: =IF(AND(AK$1>=$E24,AK$1<=$F24),"."," ") | AL24: =IF(AND(AL$1>=$E24,AL$1<=$F24),"."," ") | AM24: =IF(AND(AM$1>=$E24,AM$1<=$F24),"."," ") | AN24: =IF(AND(AN$1>=$E24,AN$1<=$F24),"."," ") | AO24: =IF(AND(AO$1>=$E24,AO$1<=$F24),"."," ") | AR24: =IF(AND(AR$1>=$E24,AR$1<=$F24),"."," ") | AS24: =IF(AND(AS$1>=$E24,AS$1<=$F24),"."," ") | AT24: =IF(AND(AT$1>=$E24,AT$1<=$F24),"."," ") | AU24: =IF(AND(AU$1>=$E24,AU$1<=$F24),"."," ") | AV24: =IF(AND(AV$1>=$E24,AV$1<=$F24),"."," ") | AY24: =IF(AND(AY$1>=$E24,AY$1<=$F24),"."," ") | AZ24: =IF(AND(AZ$1>=$E24,AZ$1<=$F24),"."," ") | BA24: =IF(AND(BA$1>=$E24,BA$1<=$F24),"."," ") | BB24: =IF(AND(BB$1>=$E24,BB$1<=$F24),"."," ") | BC24: =IF(AND(BC$1>=$E24,BC$1<=$F24),"."," ") | BF24: =IF(AND(BF$1>=$E24,BF$1<=$F24),"."," ") | BG24: =IF(AND(BG$1>=$E24,BG$1<=$F24),"."," ") | BH24: =IF(AND(BH$1>=$E24,BH$1<=$F24),"."," ") | BI24: =IF(AND(BI$1>=$E24,BI$1<=$F24),"."," ") | BJ24: =IF(AND(BJ$1>=$E24,BJ$1<=$F24),"."," ") | BM24: =IF(AND(BM$1>=$E24,BM$1<=$F24),"."," ") | BN24: =IF(AND(BN$1>=$E24,BN$1<=$F24),"."," ") | BO24: =IF(AND(BO$1>=$E24,BO$1<=$F24),"."," ") | BP24: =IF(AND(BP$1>=$E24,BP$1<=$F24),"."," ") | BQ24: =IF(AND(BQ$1>=$E24,BQ$1<=$F24),"."," ") | BT24: =IF(AND(BT$1>=$E24,BT$1<=$F24),"."," ") | BU24: =IF(AND(BU$1>=$E24,BU$1<=$F24),"."," ") | BV24: =IF(AND(BV$1>=$E24,BV$1<=$F24),"."," ") | BW24: =IF(AND(BW$1>=$E24,BW$1<=$F24),"."," ") | BX24: =IF(AND(BX$1>=$E24,BX$1<=$F24),"."," ") | CA24: =IF(AND(CA$1>=$E24,CA$1<=$F24),"."," ") | CB24: =IF(AND(CB$1>=$E24,CB$1<=$F24),"."," ") | CC24: =IF(AND(CC$1>=$E24,CC$1<=$F24),"."," ") | CD24: =IF(AND(CD$1>=$E24,CD$1<=$F24),"."," ") | CE24: =IF(AND(CE$1>=$E24,CE$1<=$F24),"."," ") | CH24: =IF(AND(CH$1>=$E24,CH$1<=$F24),"."," ") | CI24: =IF(AND(CI$1>=$E24,CI$1<=$F24),"."," ") | CJ24: =IF(AND(CJ$1>=$E24,CJ$1<=$F24),"."," ") | CK24: =IF(AND(CK$1>=$E24,CK$1<=$F24),"."," ") | CL24: =IF(AND(CL$1>=$E24,CL$1<=$F24),"."," ") | CO24: =IF(AND(CO$1>=$E24,CO$1<=$F24),"."," ") | CP24: =IF(AND(CP$1>=$E24,CP$1<=$F24),"."," ") | CQ24: =IF(AND(CQ$1>=$E24,CQ$1<=$F24),"."," ") | CR24: =IF(AND(CR$1>=$E24,CR$1<=$F24),"."," ") | CS24: =IF(AND(CS$1>=$E24,CS$1<=$F24),"."," ") | CV24: =IF(AND(CV$1>=$E24,CV$1<=$F24),"."," ") | CW24: =IF(AND(CW$1>=$E24,CW$1<=$F24),"."," ") | CX24: =IF(AND(CX$1>=$E24,CX$1<=$F24),"."," ") | CY24: =IF(AND(CY$1>=$E24,CY$1<=$F24),"."," ") | CZ24: =IF(AND(CZ$1>=$E24,CZ$1<=$F24),"."," ") | DC24: =IF(AND(DC$1>=$E24,DC$1<=$F24),"."," ") | DD24: =IF(AND(DD$1>=$E24,DD$1<=$F24),"."," ") | DE24: =IF(AND(DE$1>=$E24,DE$1<=$F24),"."," ") | DF24: =IF(AND(DF$1>=$E24,DF$1<=$F24),"."," ") | DG24: =IF(AND(DG$1>=$E24,DG$1<=$F24),"."," ") | DJ24: =IF(AND(DJ$1>=$E24,DJ$1<=$F24),"."," ") | DK24: =IF(AND(DK$1>=$E24,DK$1<=$F24),"."," ") | DL24: =IF(AND(DL$1>=$E24,DL$1<=$F24),"."," ") | DM24: =IF(AND(DM$1>=$E24,DM$1<=$F24),"."," ") | DN24: =IF(AND(DN$1>=$E24,DN$1<=$F24),"."," ") | DQ24: =IF(AND(DQ$1>=$E24,DQ$1<=$F24),"."," ") | DR24: =IF(AND(DR$1>=$E24,DR$1<=$F24),"."," ") | DS24: =IF(AND(DS$1>=$E24,DS$1<=$F24),"."," ") | DT24: =IF(AND(DT$1>=$E24,DT$1<=$F24),"."," ") | DU24: =IF(AND(DU$1>=$E24,DU$1<=$F24),"."," ") | DX24: =IF(AND(DX$1>=$E24,DX$1<=$F24),"."," ") | DY24: =IF(AND(DY$1>=$E24,DY$1<=$F24),"."," ") | DZ24: =IF(AND(DZ$1>=$E24,DZ$1<=$F24),"."," ") | EA24: =IF(AND(EA$1>=$E24,EA$1<=$F24),"."," ") | EB24: =IF(AND(EB$1>=$E24,EB$1<=$F24),"."," ") | EE24: =IF(AND(EE$1>=$E24,EE$1<=$F24),"."," ") | EF24: =IF(AND(EF$1>=$E24,EF$1<=$F24),"."," ") | EG24: =IF(AND(EG$1>=$E24,EG$1<=$F24),"."," ") | EH24: =IF(AND(EH$1>=$E24,EH$1<=$F24),"."," ") | EI24: =IF(AND(EI$1>=$E24,EI$1<=$F24),"."," ") | EL24: =IF(AND(EL$1>=$E24,EL$1<=$F24),"."," ") | EM24: =IF(AND(EM$1>=$E24,EM$1<=$F24),"."," ") | EN24: =IF(AND(EN$1>=$E24,EN$1<=$F24),"."," ") | EO24: =IF(AND(EO$1>=$E24,EO$1<=$F24),"."," ") | EP24: =IF(AND(EP$1>=$E24,EP$1<=$F24),"."," ") | ES24: =IF(AND(ES$1>=$E24,ES$1<=$F24),"."," ") | ET24: =IF(AND(ET$1>=$E24,ET$1<=$F24),"."," ") | EU24: =IF(AND(EU$1>=$E24,EU$1<=$F24),"."," ") | EV24: =IF(AND(EV$1>=$E24,EV$1<=$F24),"."," ") | EW24: =IF(AND(EW$1>=$E24,EW$1<=$F24),"."," ") | EZ24: =IF(AND(EZ$1>=$E24,EZ$1<=$F24),"."," ") | FA24: =IF(AND(FA$1>=$E24,FA$1<=$F24),"."," ") | FB24: =IF(AND(FB$1>=$E24,FB$1<=$F24),"."," ") | FC24: =IF(AND(FC$1>=$E24,FC$1<=$F24),"."," ") | FD24: =IF(AND(FD$1>=$E24,FD$1<=$F24),"."," ") | FG24: =IF(AND(FG$1>=$E24,FG$1<=$F24),"."," ") | FH24: =IF(AND(FH$1>=$E24,FH$1<=$F24),"."," ") | FI24: =IF(AND(FI$1>=$E24,FI$1<=$F24),"."," ") | FJ24: =IF(AND(FJ$1>=$E24,FJ$1<=$F24),"."," ") | FK24: =IF(AND(FK$1>=$E24,FK$1<=$F24),"."," ") | FN24: =IF(AND(FN$1>=$E24,FN$1<=$F24),"."," ") | FO24: =IF(AND(FO$1>=$E24,FO$1<=$F24),"."," ") | FP24: =IF(AND(FP$1>=$E24,FP$1<=$F24),"."," ") | FQ24: =IF(AND(FQ$1>=$E24,FQ$1<=$F24),"."," ") | FR24: =IF(AND(FR$1>=$E24,FR$1<=$F24),"."," ") | FU24: =IF(AND(FU$1>=$E24,FU$1<=$F24),"."," ") | FV24: =IF(AND(FV$1>=$E24,FV$1<=$F24),"."," ") | FW24: =IF(AND(FW$1>=$E24,FW$1<=$F24),"."," ") | FX24: =IF(AND(FX$1>=$E24,FX$1<=$F24),"."," ") | FY24: =IF(AND(FY$1>=$E24,FY$1<=$F24),"."," ") | GB24: =IF(AND(GB$1>=$E24,GB$1<=$F24),"."," ") | GC24: =IF(AND(GC$1>=$E24,GC$1<=$F24),"."," ") | GD24: =IF(AND(GD$1>=$E24,GD$1<=$F24),"."," ") | GE24: =IF(AND(GE$1>=$E24,GE$1<=$F24),"."," ") | GF24: =IF(AND(GF$1>=$E24,GF$1<=$F24),"."," ") | GI24: =IF(AND(GI$1>=$E24,GI$1<=$F24),"."," ") | GJ24: =IF(AND(GJ$1>=$E24,GJ$1<=$F24),"."," ") | GK24: =IF(AND(GK$1>=$E24,GK$1<=$F24),"."," ") | GL24: =IF(AND(GL$1>=$E24,GL$1<=$F24),"."," ") | GM24: =IF(AND(GM$1>=$E24,GM$1<=$F24),"."," ") | GP24: =IF(AND(GP$1>=$E24,GP$1<=$F24),"."," ") | GQ24: =IF(AND(GQ$1>=$E24,GQ$1<=$F24),"."," ") | GR24: =IF(AND(GR$1>=$E24,GR$1<=$F24),"."," ") | GS24: =IF(AND(GS$1>=$E24,GS$1<=$F24),"."," ") | GT24: =IF(AND(GT$1>=$E24,GT$1<=$F24),"."," ") | GW24: =IF(AND(GW$1>=$E24,GW$1<=$F24),"."," ") | GX24: =IF(AND(GX$1>=$E24,GX$1<=$F24),"."," ") | GY24: =IF(AND(GY$1>=$E24,GY$1<=$F24),"."," ") | GZ24: =IF(AND(GZ$1>=$E24,GZ$1<=$F24),"."," ") | HA24: =IF(AND(HA$1>=$E24,HA$1<=$F24),"."," ") | HD24: =IF(AND(HD$1>=$E24,HD$1<=$F24),"."," ") | HE24: =IF(AND(HE$1>=$E24,HE$1<=$F24),"."," ") | HF24: =IF(AND(HF$1>=$E24,HF$1<=$F24),"."," ") | HG24: =IF(AND(HG$1>=$E24,HG$1<=$F24),"."," ") | HH24: =IF(AND(HH$1>=$E24,HH$1<=$F24),"."," ") | HK24: =IF(AND(HK$1>=$E24,HK$1<=$F24),"."," ") | HL24: =IF(AND(HL$1>=$E24,HL$1<=$F24),"."," ") | HM24: =IF(AND(HM$1>=$E24,HM$1<=$F24),"."," ") | HN24: =IF(AND(HN$1>=$E24,HN$1<=$F24),"."," ") | HO24: =IF(AND(HO$1>=$E24,HO$1<=$F24),"."," ") | HR24: =IF(AND(HR$1>=$E24,HR$1<=$F24),"."," ") | HS24: =IF(AND(HS$1>=$E24,HS$1<=$F24),"."," ") | HT24: =IF(AND(HT$1>=$E24,HT$1<=$F24),"."," ") | HU24: =IF(AND(HU$1>=$E24,HU$1<=$F24),"."," ") | HV24: =IF(AND(HV$1>=$E24,HV$1<=$F24),"."," ") | HY24: =IF(AND(HY$1>=$E24,HY$1<=$F24),"."," ") | HZ24: =IF(AND(HZ$1>=$E24,HZ$1<=$F24),"."," ") | IA24: =IF(AND(IA$1>=$E24,IA$1<=$F24),"."," ") | IB24: =IF(AND(IB$1>=$E24,IB$1<=$F24),"."," ") | IC24: =IF(AND(IC$1>=$E24,IC$1<=$F24),"."," ") | IF24: =IF(AND(IF$1>=$E24,IF$1<=$F24),"."," ") | IG24: =IF(AND(IG$1>=$E24,IG$1<=$F24),"."," ") | IH24: =IF(AND(IH$1>=$E24,IH$1<=$F24),"."," ") | II24: =IF(AND(II$1>=$E24,II$1<=$F24),"."," ") | IJ24: =IF(AND(IJ$1>=$E24,IJ$1<=$F24),"."," ") | IM24: =IF(AND(IM$1>=$E24,IM$1<=$F24),"."," ") | IN24: =IF(AND(IN$1>=$E24,IN$1<=$F24),"."," ") | IO24: =IF(AND(IO$1>=$E24,IO$1<=$F24),"."," ") | IP24: =IF(AND(IP$1>=$E24,IP$1<=$F24),"."," ") | IQ24: =IF(AND(IQ$1>=$E24,IQ$1<=$F24),"."," ") | IT24: =IF(AND(IT$1>=$E24,IT$1<=$F24),"."," ") | IU24: =IF(AND(IU$1>=$E24,IU$1<=$F24),"."," ") | IV24: =IF(AND(IV$1>=$E24,IV$1<=$F24),"."," ") | IW24: =IF(AND(IW$1>=$E24,IW$1<=$F24),"."," ") | IX24: =IF(AND(IX$1>=$E24,IX$1<=$F24),"."," ") | JA24: =IF(AND(JA$1>=$E24,JA$1<=$F24),"."," ") | JB24: =IF(AND(JB$1>=$E24,JB$1<=$F24),"."," ") | JC24: =IF(AND(JC$1>=$E24,JC$1<=$F24),"."," ") | JD24: =IF(AND(JD$1>=$E24,JD$1<=$F24),"."," ") | JE24: =IF(AND(JE$1>=$E24,JE$1<=$F24),"."," ")
I25: =IF(AND(I$1>=$E25,I$1<=$F25),"."," ") | J25: =IF(AND(J$1>=$E25,J$1<=$F25),"."," ") | K25: =IF(AND(K$1>=$E25,K$1<=$F25),"."," ") | L25: =IF(AND(L$1>=$E25,L$1<=$F25),"."," ") | M25: =IF(AND(M$1>=$E25,M$1<=$F25),"."," ") | P25: =IF(AND(P$1>=$E25,P$1<=$F25),"."," ") | Q25: =IF(AND(Q$1>=$E25,Q$1<=$F25),"."," ") | R25: =IF(AND(R$1>=$E25,R$1<=$F25),"."," ") | S25: =IF(AND(S$1>=$E25,S$1<=$F25),"."," ") | T25: =IF(AND(T$1>=$E25,T$1<=$F25),"."," ") | W25: =IF(AND(W$1>=$E25,W$1<=$F25),"."," ") | X25: =IF(AND(X$1>=$E25,X$1<=$F25),"."," ") | Y25: =IF(AND(Y$1>=$E25,Y$1<=$F25),"."," ") | Z25: =IF(AND(Z$1>=$E25,Z$1<=$F25),"."," ") | AA25: =IF(AND(AA$1>=$E25,AA$1<=$F25),"."," ") | AD25: =IF(AND(AD$1>=$E25,AD$1<=$F25),"."," ") | AE25: =IF(AND(AE$1>=$E25,AE$1<=$F25),"."," ") | AF25: =IF(AND(AF$1>=$E25,AF$1<=$F25),"."," ") | AG25: =IF(AND(AG$1>=$E25,AG$1<=$F25),"."," ") | AH25: =IF(AND(AH$1>=$E25,AH$1<=$F25),"."," ") | AK25: =IF(AND(AK$1>=$E25,AK$1<=$F25),"."," ") | AL25: =IF(AND(AL$1>=$E25,AL$1<=$F25),"."," ") | AM25: =IF(AND(AM$1>=$E25,AM$1<=$F25),"."," ") | AN25: =IF(AND(AN$1>=$E25,AN$1<=$F25),"."," ") | AO25: =IF(AND(AO$1>=$E25,AO$1<=$F25),"."," ") | AR25: =IF(AND(AR$1>=$E25,AR$1<=$F25),"."," ") | AS25: =IF(AND(AS$1>=$E25,AS$1<=$F25),"."," ") | AT25: =IF(AND(AT$1>=$E25,AT$1<=$F25),"."," ") | AU25: =IF(AND(AU$1>=$E25,AU$1<=$F25),"."," ") | AV25: =IF(AND(AV$1>=$E25,AV$1<=$F25),"."," ") | AY25: =IF(AND(AY$1>=$E25,AY$1<=$F25),"."," ") | AZ25: =IF(AND(AZ$1>=$E25,AZ$1<=$F25),"."," ") | BA25: =IF(AND(BA$1>=$E25,BA$1<=$F25),"."," ") | BB25: =IF(AND(BB$1>=$E25,BB$1<=$F25),"."," ") | BC25: =IF(AND(BC$1>=$E25,BC$1<=$F25),"."," ") | BF25: =IF(AND(BF$1>=$E25,BF$1<=$F25),"."," ") | BG25: =IF(AND(BG$1>=$E25,BG$1<=$F25),"."," ") | BH25: =IF(AND(BH$1>=$E25,BH$1<=$F25),"."," ") | BI25: =IF(AND(BI$1>=$E25,BI$1<=$F25),"."," ") | BJ25: =IF(AND(BJ$1>=$E25,BJ$1<=$F25),"."," ") | BM25: =IF(AND(BM$1>=$E25,BM$1<=$F25),"."," ") | BN25: =IF(AND(BN$1>=$E25,BN$1<=$F25),"."," ") | BO25: =IF(AND(BO$1>=$E25,BO$1<=$F25),"."," ") | BP25: =IF(AND(BP$1>=$E25,BP$1<=$F25),"."," ") | BQ25: =IF(AND(BQ$1>=$E25,BQ$1<=$F25),"."," ") | BT25: =IF(AND(BT$1>=$E25,BT$1<=$F25),"."," ") | BU25: =IF(AND(BU$1>=$E25,BU$1<=$F25),"."," ") | BV25: =IF(AND(BV$1>=$E25,BV$1<=$F25),"."," ") | BW25: =IF(AND(BW$1>=$E25,BW$1<=$F25),"."," ") | BX25: =IF(AND(BX$1>=$E25,BX$1<=$F25),"."," ") | CA25: =IF(AND(CA$1>=$E25,CA$1<=$F25),"."," ") | CB25: =IF(AND(CB$1>=$E25,CB$1<=$F25),"."," ") | CC25: =IF(AND(CC$1>=$E25,CC$1<=$F25),"."," ") | CD25: =IF(AND(CD$1>=$E25,CD$1<=$F25),"."," ") | CE25: =IF(AND(CE$1>=$E25,CE$1<=$F25),"."," ") | CH25: =IF(AND(CH$1>=$E25,CH$1<=$F25),"."," ") | CI25: =IF(AND(CI$1>=$E25,CI$1<=$F25),"."," ") | CJ25: =IF(AND(CJ$1>=$E25,CJ$1<=$F25),"."," ") | CK25: =IF(AND(CK$1>=$E25,CK$1<=$F25),"."," ") | CL25: =IF(AND(CL$1>=$E25,CL$1<=$F25),"."," ") | CO25: =IF(AND(CO$1>=$E25,CO$1<=$F25),"."," ") | CP25: =IF(AND(CP$1>=$E25,CP$1<=$F25),"."," ") | CQ25: =IF(AND(CQ$1>=$E25,CQ$1<=$F25),"."," ") | CR25: =IF(AND(CR$1>=$E25,CR$1<=$F25),"."," ") | CS25: =IF(AND(CS$1>=$E25,CS$1<=$F25),"."," ") | CV25: =IF(AND(CV$1>=$E25,CV$1<=$F25),"."," ") | CW25: =IF(AND(CW$1>=$E25,CW$1<=$F25),"."," ") | CX25: =IF(AND(CX$1>=$E25,CX$1<=$F25),"."," ") | CY25: =IF(AND(CY$1>=$E25,CY$1<=$F25),"."," ") | CZ25: =IF(AND(CZ$1>=$E25,CZ$1<=$F25),"."," ") | DC25: =IF(AND(DC$1>=$E25,DC$1<=$F25),"."," ") | DD25: =IF(AND(DD$1>=$E25,DD$1<=$F25),"."," ") | DE25: =IF(AND(DE$1>=$E25,DE$1<=$F25),"."," ") | DF25: =IF(AND(DF$1>=$E25,DF$1<=$F25),"."," ") | DG25: =IF(AND(DG$1>=$E25,DG$1<=$F25),"."," ") | DJ25: =IF(AND(DJ$1>=$E25,DJ$1<=$F25),"."," ") | DK25: =IF(AND(DK$1>=$E25,DK$1<=$F25),"."," ") | DL25: =IF(AND(DL$1>=$E25,DL$1<=$F25),"."," ") | DM25: =IF(AND(DM$1>=$E25,DM$1<=$F25),"."," ") | DN25: =IF(AND(DN$1>=$E25,DN$1<=$F25),"."," ") | DQ25: =IF(AND(DQ$1>=$E25,DQ$1<=$F25),"."," ") | DR25: =IF(AND(DR$1>=$E25,DR$1<=$F25),"."," ") | DS25: =IF(AND(DS$1>=$E25,DS$1<=$F25),"."," ") | DT25: =IF(AND(DT$1>=$E25,DT$1<=$F25),"."," ") | DU25: =IF(AND(DU$1>=$E25,DU$1<=$F25),"."," ") | DX25: =IF(AND(DX$1>=$E25,DX$1<=$F25),"."," ") | DY25: =IF(AND(DY$1>=$E25,DY$1<=$F25),"."," ") | DZ25: =IF(AND(DZ$1>=$E25,DZ$1<=$F25),"."," ") | EA25: =IF(AND(EA$1>=$E25,EA$1<=$F25),"."," ") | EB25: =IF(AND(EB$1>=$E25,EB$1<=$F25),"."," ") | EE25: =IF(AND(EE$1>=$E25,EE$1<=$F25),"."," ") | EF25: =IF(AND(EF$1>=$E25,EF$1<=$F25),"."," ") | EG25: =IF(AND(EG$1>=$E25,EG$1<=$F25),"."," ") | EH25: =IF(AND(EH$1>=$E25,EH$1<=$F25),"."," ") | EI25: =IF(AND(EI$1>=$E25,EI$1<=$F25),"."," ") | EL25: =IF(AND(EL$1>=$E25,EL$1<=$F25),"."," ") | EM25: =IF(AND(EM$1>=$E25,EM$1<=$F25),"."," ") | EN25: =IF(AND(EN$1>=$E25,EN$1<=$F25),"."," ") | EO25: =IF(AND(EO$1>=$E25,EO$1<=$F25),"."," ") | EP25: =IF(AND(EP$1>=$E25,EP$1<=$F25),"."," ") | ES25: =IF(AND(ES$1>=$E25,ES$1<=$F25),"."," ") | ET25: =IF(AND(ET$1>=$E25,ET$1<=$F25),"."," ") | EU25: =IF(AND(EU$1>=$E25,EU$1<=$F25),"."," ") | EV25: =IF(AND(EV$1>=$E25,EV$1<=$F25),"."," ") | EW25: =IF(AND(EW$1>=$E25,EW$1<=$F25),"."," ") | EZ25: =IF(AND(EZ$1>=$E25,EZ$1<=$F25),"."," ") | FA25: =IF(AND(FA$1>=$E25,FA$1<=$F25),"."," ") | FB25: =IF(AND(FB$1>=$E25,FB$1<=$F25),"."," ") | FC25: =IF(AND(FC$1>=$E25,FC$1<=$F25),"."," ") | FD25: =IF(AND(FD$1>=$E25,FD$1<=$F25),"."," ") | FG25: =IF(AND(FG$1>=$E25,FG$1<=$F25),"."," ") | FH25: =IF(AND(FH$1>=$E25,FH$1<=$F25),"."," ") | FI25: =IF(AND(FI$1>=$E25,FI$1<=$F25),"."," ") | FJ25: =IF(AND(FJ$1>=$E25,FJ$1<=$F25),"."," ") | FK25: =IF(AND(FK$1>=$E25,FK$1<=$F25),"."," ") | FN25: =IF(AND(FN$1>=$E25,FN$1<=$F25),"."," ") | FO25: =IF(AND(FO$1>=$E25,FO$1<=$F25),"."," ") | FP25: =IF(AND(FP$1>=$E25,FP$1<=$F25),"."," ") | FQ25: =IF(AND(FQ$1>=$E25,FQ$1<=$F25),"."," ") | FR25: =IF(AND(FR$1>=$E25,FR$1<=$F25),"."," ") | FU25: =IF(AND(FU$1>=$E25,FU$1<=$F25),"."," ") | FV25: =IF(AND(FV$1>=$E25,FV$1<=$F25),"."," ") | FW25: =IF(AND(FW$1>=$E25,FW$1<=$F25),"."," ") | FX25: =IF(AND(FX$1>=$E25,FX$1<=$F25),"."," ") | FY25: =IF(AND(FY$1>=$E25,FY$1<=$F25),"."," ") | GB25: =IF(AND(GB$1>=$E25,GB$1<=$F25),"."," ") | GC25: =IF(AND(GC$1>=$E25,GC$1<=$F25),"."," ") | GD25: =IF(AND(GD$1>=$E25,GD$1<=$F25),"."," ") | GE25: =IF(AND(GE$1>=$E25,GE$1<=$F25),"."," ") | GF25: =IF(AND(GF$1>=$E25,GF$1<=$F25),"."," ") | GI25: =IF(AND(GI$1>=$E25,GI$1<=$F25),"."," ") | GJ25: =IF(AND(GJ$1>=$E25,GJ$1<=$F25),"."," ") | GK25: =IF(AND(GK$1>=$E25,GK$1<=$F25),"."," ") | GL25: =IF(AND(GL$1>=$E25,GL$1<=$F25),"."," ") | GM25: =IF(AND(GM$1>=$E25,GM$1<=$F25),"."," ") | GP25: =IF(AND(GP$1>=$E25,GP$1<=$F25),"."," ") | GQ25: =IF(AND(GQ$1>=$E25,GQ$1<=$F25),"."," ") | GR25: =IF(AND(GR$1>=$E25,GR$1<=$F25),"."," ") | GS25: =IF(AND(GS$1>=$E25,GS$1<=$F25),"."," ") | GT25: =IF(AND(GT$1>=$E25,GT$1<=$F25),"."," ") | GW25: =IF(AND(GW$1>=$E25,GW$1<=$F25),"."," ") | GX25: =IF(AND(GX$1>=$E25,GX$1<=$F25),"."," ") | GY25: =IF(AND(GY$1>=$E25,GY$1<=$F25),"."," ") | GZ25: =IF(AND(GZ$1>=$E25,GZ$1<=$F25),"."," ") | HA25: =IF(AND(HA$1>=$E25,HA$1<=$F25),"."," ") | HD25: =IF(AND(HD$1>=$E25,HD$1<=$F25),"."," ") | HE25: =IF(AND(HE$1>=$E25,HE$1<=$F25),"."," ") | HF25: =IF(AND(HF$1>=$E25,HF$1<=$F25),"."," ") | HG25: =IF(AND(HG$1>=$E25,HG$1<=$F25),"."," ") | HH25: =IF(AND(HH$1>=$E25,HH$1<=$F25),"."," ") | HK25: =IF(AND(HK$1>=$E25,HK$1<=$F25),"."," ") | HL25: =IF(AND(HL$1>=$E25,HL$1<=$F25),"."," ") | HM25: =IF(AND(HM$1>=$E25,HM$1<=$F25),"."," ") | HN25: =IF(AND(HN$1>=$E25,HN$1<=$F25),"."," ") | HO25: =IF(AND(HO$1>=$E25,HO$1<=$F25),"."," ") | HR25: =IF(AND(HR$1>=$E25,HR$1<=$F25),"."," ") | HS25: =IF(AND(HS$1>=$E25,HS$1<=$F25),"."," ") | HT25: =IF(AND(HT$1>=$E25,HT$1<=$F25),"."," ") | HU25: =IF(AND(HU$1>=$E25,HU$1<=$F25),"."," ") | HV25: =IF(AND(HV$1>=$E25,HV$1<=$F25),"."," ") | HY25: =IF(AND(HY$1>=$E25,HY$1<=$F25),"."," ") | HZ25: =IF(AND(HZ$1>=$E25,HZ$1<=$F25),"."," ") | IA25: =IF(AND(IA$1>=$E25,IA$1<=$F25),"."," ") | IB25: =IF(AND(IB$1>=$E25,IB$1<=$F25),"."," ") | IC25: =IF(AND(IC$1>=$E25,IC$1<=$F25),"."," ") | IF25: =IF(AND(IF$1>=$E25,IF$1<=$F25),"."," ") | IG25: =IF(AND(IG$1>=$E25,IG$1<=$F25),"."," ") | IH25: =IF(AND(IH$1>=$E25,IH$1<=$F25),"."," ") | II25: =IF(AND(II$1>=$E25,II$1<=$F25),"."," ") | IJ25: =IF(AND(IJ$1>=$E25,IJ$1<=$F25),"."," ") | IM25: =IF(AND(IM$1>=$E25,IM$1<=$F25),"."," ") | IN25: =IF(AND(IN$1>=$E25,IN$1<=$F25),"."," ") | IO25: =IF(AND(IO$1>=$E25,IO$1<=$F25),"."," ") | IP25: =IF(AND(IP$1>=$E25,IP$1<=$F25),"."," ") | IQ25: =IF(AND(IQ$1>=$E25,IQ$1<=$F25),"."," ") | IT25: =IF(AND(IT$1>=$E25,IT$1<=$F25),"."," ") | IU25: =IF(AND(IU$1>=$E25,IU$1<=$F25),"."," ") | IV25: =IF(AND(IV$1>=$E25,IV$1<=$F25),"."," ") | IW25: =IF(AND(IW$1>=$E25,IW$1<=$F25),"."," ") | IX25: =IF(AND(IX$1>=$E25,IX$1<=$F25),"."," ") | JA25: =IF(AND(JA$1>=$E25,JA$1<=$F25),"."," ") | JB25: =IF(AND(JB$1>=$E25,JB$1<=$F25),"."," ") | JC25: =IF(AND(JC$1>=$E25,JC$1<=$F25),"."," ") | JD25: =IF(AND(JD$1>=$E25,JD$1<=$F25),"."," ") | JE25: =IF(AND(JE$1>=$E25,JE$1<=$F25),"."," ")
