Workbook

Sheet Tracker
A1: Date | B1: Page / Keyword / Domain | C1: Category | D1: Owner | E1: Search Volume | F1: Difficulty | G1: Current Rank | H1: Target Rank | I1: Sessions | J1: Backlinks | K1: Opportunity Score | L1: Priority | M1: Status
A2: 46148 | B2: Backlink Item 1 | C2: Keyword | D2: Agency | E2: 6457 | F2: 41 | G2: 55 | H2: 16 | I2: 5895 | J2: 70 | K2: =MAX(0,(E2/1000)*(100-F2)/100*(G2-H2+1)) -> 152.3852 | L2: High | M2: On Hold
A3: 46153 | B3: Backlink Item 2 | C3: Technical | D3: Content Owner | E3: 8311 | F3: 50 | G3: 8 | H3: 4 | I3: 6731 | J3: 131 | K3: =MAX(0,(E3/1000)*(100-F3)/100*(G3-H3+1)) -> 20.7775 | L3: Medium | M3: Not Started
A4: 46158 | B4: Backlink Item 3 | C4: Content | D4: Performance Marketer | E4: 8761 | F4: 64 | G4: 78 | H4: 8 | I4: 2324 | J4: 73 | K4: =MAX(0,(E4/1000)*(100-F4)/100*(G4-H4+1)) -> 223.93116 | L4: Low | M4: Not Started
A5: 46163 | B5: Backlink Item 4 | C5: On-page | D5: Performance Marketer | E5: 6769 | F5: 81 | G5: 61 | H5: 9 | I5: 7493 | J5: 32 | K5: =MAX(0,(E5/1000)*(100-F5)/100*(G5-H5+1)) -> 68.16383 | L5: Medium | M5: On Hold
A6: 46168 | B6: Backlink Item 5 | C6: Authority | D6: Performance Marketer | E6: 3830 | F6: 32 | G6: 60 | H6: 8 | I6: 7048 | J6: 21 | K6: =MAX(0,(E6/1000)*(100-F6)/100*(G6-H6+1)) -> 138.0332 | L6: Medium | M6: In Progress
A7: 46173 | B7: Backlink Item 6 | C7: On-page | D7: Marketing Lead | E7: 2798 | F7: 49 | G7: 20 | H7: 7 | I7: 6790 | J7: 69 | K7: =MAX(0,(E7/1000)*(100-F7)/100*(G7-H7+1)) -> 19.97772 | L7: Low | M7: Completed
A8: 46178 | B8: Backlink Item 7 | C8: On-page | D8: SEO Specialist | E8: 12269 | F8: 28 | G8: 4 | H8: 15 | I8: 3339 | J8: 51 | K8: =MAX(0,(E8/1000)*(100-F8)/100*(G8-H8+1)) -> 0 | L8: Low | M8: On Hold
A9: 46183 | B9: Backlink Item 8 | C9: Authority | D9: SEO Specialist | E9: 5350 | F9: 75 | G9: 67 | H9: 12 | I9: 417 | J9: 79 | K9: =MAX(0,(E9/1000)*(100-F9)/100*(G9-H9+1)) -> 74.9 | L9: Low | M9: Not Started
A10: 46188 | B10: Backlink Item 9 | C10: Keyword | D10: Content Owner | E10: 5402 | F10: 64 | G10: 14 | H10: 3 | I10: 754 | J10: 126 | K10: =MAX(0,(E10/1000)*(100-F10)/100*(G10-H10+1)) -> 23.33664 | L10: High | M10: Not Started
A11: 46193 | B11: Backlink Item 10 | C11: Technical | D11: Designer | E11: 672 | F11: 12 | G11: 19 | H11: 5 | I11: 5837 | J11: 38 | K11: =MAX(0,(E11/1000)*(100-F11)/100*(G11-H11+1)) -> 8.8704 | L11: Low | M11: Completed
A12: 46198 | B12: Backlink Item 11 | C12: Keyword | D12: Designer | E12: 13944 | F12: 17 | G12: 69 | H12: 3 | I12: 6992 | J12: 60 | K12: =MAX(0,(E12/1000)*(100-F12)/100*(G12-H12+1)) -> 775.42584 | L12: High | M12: Not Started
A13: 46203 | B13: Backlink Item 12 | C13: Keyword | D13: Marketing Lead | E13: 833 | F13: 35 | G13: 4 | H13: 2 | I13: 2654 | J13: 34 | K13: =MAX(0,(E13/1000)*(100-F13)/100*(G13-H13+1)) -> 1.62435 | L13: High | M13: Completed

Sheet Dashboard
B1: Backlink Tracker
B2: Interactive KPI dashboard — update the Template sheet to refresh these visuals
B4: Keywords/Items | D4: Avg Rank | F4: Total Sessions | H4: Backlinks
B5: =COUNTA(Tracker!B:B)-1 -> 12 | D5: =AVERAGE(Tracker!G:G) -> 38.25 | F5: =SUM(Tracker!I:I) -> 56274 | H5: =SUM(Tracker!J:J) -> 784
B9: Priority | C9: Count | D9: Opportunity Score
B10: High | C10: =COUNTIF(Tracker!L:L,B10) -> 4 | D10: =SUMIF(Tracker!L:L,B10,Tracker!K:K) -> 952.77203
B11: Medium | C11: =COUNTIF(Tracker!L:L,B11) -> 3 | D11: =SUMIF(Tracker!L:L,B11,Tracker!K:K) -> 226.97453
B12: Low | C12: =COUNTIF(Tracker!L:L,B12) -> 5 | D12: =SUMIF(Tracker!L:L,B12,Tracker!K:K) -> 327.67928
B13: Technical | C13: =COUNTIF(Tracker!C:C,B13) -> 2 | D13: =SUMIF(Tracker!C:C,B13,Tracker!K:K) -> 29.6479
B14: Content | C14: =COUNTIF(Tracker!C:C,B14) -> 1 | D14: =SUMIF(Tracker!C:C,B14,Tracker!K:K) -> 223.93116
B15: Authority | C15: =COUNTIF(Tracker!C:C,B15) -> 2 | D15: =SUMIF(Tracker!C:C,B15,Tracker!K:K) -> 212.9332
B40: Tip: The charts are connected to the summary tables above. Update the Template sheet, then refresh/recalculate in Excel if needed.

Sheet How to use
A1: How to use: Backlink Tracker
A3: Area | B3: How to use
A4: Template sheet | B4: Replace the sample rows with your own marketing data. Keep the formulas in calculated KPI columns.
A5: Dashboard sheet | B5: Use the KPI cards, charts, and visual summaries to review performance quickly.
A6: Status/Priority fields | B6: Use the dropdowns to keep tracking consistent across campaigns, assets, or tasks.
A7: Conditional formatting | B7: Data bars and highlights help identify high spend, low conversion, overdue items, or incomplete work.
A8: Adding rows | B8: Insert new rows inside the data area and copy formulas from the row above.
